Back to Mac ARM64 build report for BioC 3.18
ABCDEFGHIJKL[M]NOPQRSTUVWXYZ

This page was generated on 2024-02-29 11:32:08 -0500 (Thu, 29 Feb 2024).

HostnameOSArch (*)R versionInstalled pkgs
kjohnson1macOS 13.6.1 Venturaarm644.3.2 (2023-10-31) -- "Eye Holes" 4300
Click on any hostname to see more info about the system (e.g. compilers)      (*) as reported by 'uname -p', except on Windows and Mac OS X

All results for package makecdfenv


To the developers/maintainers of the makecdfenv package:
- Use the following Renviron settings to reproduce errors and warnings.
- If 'R CMD check' started to fail recently on the Linux builder(s) over a missing dependency, add the missing dependency to 'Suggests:' in your DESCRIPTION file. See Renviron.bioc for more information.

raw results

Package 1140/2266HostnameOS / ArchINSTALLBUILDCHECKBUILD BIN
makecdfenv 1.78.0  (landing page)
James W. MacDonald
Snapshot Date: 2024-02-27 09:00:02 -0500 (Tue, 27 Feb 2024)
git_url: https://git.bioconductor.org/packages/makecdfenv
git_branch: RELEASE_3_18
git_last_commit: da98c62
git_last_commit_date: 2023-10-24 09:31:59 -0500 (Tue, 24 Oct 2023)
kjohnson1macOS 13.6.1 Ventura / arm64  OK    OK    OK    OK  UNNEEDED, same version is already published

Results for Bioconductor software packages that depend directly on package makecdfenv

QUICK STATSOS / ArchINSTALLBUILDCHECKBUILD BIN
kjohnson1macOS 13.6.1 Ventura / arm64
001
001
0001
001
Package 1/1HostnameOS / ArchINSTALLBUILDCHECKBUILD BIN
altcdfenvs 2.64.0  (landing page)
Laurent Gautier
git_last_commit: 86cec42
git_last_commit_date: 2023-10-24 09:33:12 -0500
kjohnson1macOS 13.6.1 Ventura / arm64  OK    OK    OK    OK  UNNEEDED, same version is already published