Back to Mac ARM64 build report for BioC 3.18
[A]BCDEFGHIJKLMNOPQRSTUVWXYZ

This page was generated on 2024-03-28 11:32:05 -0400 (Thu, 28 Mar 2024).

HostnameOSArch (*)R versionInstalled pkgs
kjohnson1macOS 13.6.1 Venturaarm644.3.3 (2024-02-29) -- "Angel Food Cake" 4376
Click on any hostname to see more info about the system (e.g. compilers)      (*) as reported by 'uname -p', except on Windows and Mac OS X

All results for package AnnotationDbi


To the developers/maintainers of the AnnotationDbi package:
- Use the following Renviron settings to reproduce errors and warnings.
- If 'R CMD check' started to fail recently on the Linux builder(s) over a missing dependency, add the missing dependency to 'Suggests:' in your DESCRIPTION file. See Renviron.bioc for more information.

raw results

Package 69/2266HostnameOS / ArchINSTALLBUILDCHECKBUILD BIN
AnnotationDbi 1.64.1  (landing page)
Bioconductor Package Maintainer
Snapshot Date: 2024-03-26 09:00:03 -0400 (Tue, 26 Mar 2024)
git_url: https://git.bioconductor.org/packages/AnnotationDbi
git_branch: RELEASE_3_18
git_last_commit: e5b997e
git_last_commit_date: 2023-11-01 17:02:57 -0400 (Wed, 01 Nov 2023)
kjohnson1macOS 13.6.1 Ventura / arm64  OK    OK    WARNINGS    OK  UNNEEDED, same version is already published

Results for Bioconductor software packages that depend directly on package AnnotationDbi

QUICK STATSOS / ArchINSTALLBUILDCHECKBUILD BIN
kjohnson1macOS 13.6.1 Ventura / arm64
01195
110185
01034141
00185
Package 1/196HostnameOS / ArchINSTALLBUILDCHECKBUILD BIN
adSplit 1.72.0  (landing page)
Claudio Lottaz
git_last_commit: 194ddb2
git_last_commit_date: 2023-10-24 09:36:20 -0400
kjohnson1macOS 13.6.1 Ventura / arm64  OK    OK    OK    OK  UNNEEDED, same version is already published
Package 2/196HostnameOS / ArchINSTALLBUILDCHECKBUILD BIN
affycoretools 1.74.0  (landing page)
James W. MacDonald
git_last_commit: c04ad6f
git_last_commit_date: 2023-10-24 09:35:49 -0400
kjohnson1macOS 13.6.1 Ventura / arm64  OK    OK    OK    OK  UNNEEDED, same version is already published
Package 3/196HostnameOS / ArchINSTALLBUILDCHECKBUILD BIN
affylmGUI 1.76.0  (landing page)
Gordon Smyth
git_last_commit: d6a5c35
git_last_commit_date: 2023-10-24 09:33:21 -0400
kjohnson1macOS 13.6.1 Ventura / arm64  OK    OK    OK    OK  UNNEEDED, same version is already published
Package 4/196HostnameOS / ArchINSTALLBUILDCHECKBUILD BIN
AllelicImbalance 1.40.0  (landing page)
Jesper R Gadin
git_last_commit: e3fc911
git_last_commit_date: 2023-10-24 09:56:05 -0400
kjohnson1macOS 13.6.1 Ventura / arm64  OK    OK    OK    OK  UNNEEDED, same version is already published
Package 5/196HostnameOS / ArchINSTALLBUILDCHECKBUILD BIN
annaffy 1.74.0  (landing page)
Colin A. Smith
git_last_commit: 15d4c6a
git_last_commit_date: 2023-10-24 09:32:19 -0400
kjohnson1macOS 13.6.1 Ventura / arm64  OK    OK    WARNINGS    OK  UNNEEDED, same version is already published
Package 6/196HostnameOS / ArchINSTALLBUILDCHECKBUILD BIN
annotate 1.80.0  (landing page)
Bioconductor Package Maintainer
git_last_commit: 45a42c3
git_last_commit_date: 2023-10-24 09:31:23 -0400
kjohnson1macOS 13.6.1 Ventura / arm64  OK    OK    OK    OK  UNNEEDED, same version is already published
Package 7/196HostnameOS / ArchINSTALLBUILDCHECKBUILD BIN
AnnotationForge 1.44.0  (landing page)
Bioconductor Package Maintainer
git_last_commit: 1a9bb5f
git_last_commit_date: 2023-10-24 09:50:31 -0400
kjohnson1macOS 13.6.1 Ventura / arm64  OK    OK    OK    OK  UNNEEDED, same version is already published
Package 8/196HostnameOS / ArchINSTALLBUILDCHECKBUILD BIN
AnnotationHub 3.10.0  (landing page)
Bioconductor Package Maintainer
git_last_commit: 76efb99
git_last_commit_date: 2023-10-24 09:53:34 -0400
kjohnson1macOS 13.6.1 Ventura / arm64  OK    OK    WARNINGS    OK  UNNEEDED, same version is already published
Package 9/196HostnameOS / ArchINSTALLBUILDCHECKBUILD BIN
AnnotationHubData 1.32.1  (landing page)
Bioconductor Package Maintainer
git_last_commit: 938caa2
git_last_commit_date: 2024-02-12 13:07:50 -0400
kjohnson1macOS 13.6.1 Ventura / arm64  OK    OK    WARNINGS    OK  UNNEEDED, same version is already published
Package 10/196HostnameOS / ArchINSTALLBUILDCHECKBUILD BIN
annotatr 1.28.0  (landing page)
Raymond G. Cavalcante
git_last_commit: 8a19608
git_last_commit_date: 2023-10-24 10:53:43 -0400
kjohnson1macOS 13.6.1 Ventura / arm64  OK    OK    OK    OK  UNNEEDED, same version is already published
Package 11/196HostnameOS / ArchINSTALLBUILDCHECKBUILD BIN
artMS 1.20.0  (landing page)
David Jimenez-Morales
git_last_commit: cc581a0
git_last_commit_date: 2023-10-24 11:09:13 -0400
kjohnson1macOS 13.6.1 Ventura / arm64  OK    OK    OK    OK  UNNEEDED, same version is already published
Package 12/196HostnameOS / ArchINSTALLBUILDCHECKBUILD BIN
ASpli 2.12.0  (landing page)
Ariel Chernomoretz
git_last_commit: bf94d05
git_last_commit_date: 2023-10-24 10:51:51 -0400
kjohnson1macOS 13.6.1 Ventura / arm64  OK    OK    WARNINGS    OK  UNNEEDED, same version is already published
Package 13/196HostnameOS / ArchINSTALLBUILDCHECKBUILD BIN
attract 1.54.0  (landing page)
Samuel Zimmerman
git_last_commit: 602c7c7
git_last_commit_date: 2023-10-24 09:44:13 -0400
kjohnson1macOS 13.6.1 Ventura / arm64  OK    OK    OK    OK  UNNEEDED, same version is already published
Package 14/196HostnameOS / ArchINSTALLBUILDCHECKBUILD BIN
beadarray 2.52.0  (landing page)
Mark Dunning
git_last_commit: 3a4da33
git_last_commit_date: 2023-10-24 09:36:14 -0400
kjohnson1macOS 13.6.1 Ventura / arm64  OK    OK    OK    OK  UNNEEDED, same version is already published
Package 15/196HostnameOS / ArchINSTALLBUILDCHECKBUILD BIN
bioCancer 1.30.8  (landing page)
Karim Mezhoud
git_last_commit: 94d43a0
git_last_commit_date: 2024-02-14 15:48:31 -0400
kjohnson1macOS 13.6.1 Ventura / arm64  OK    OK    OK    OK  UNNEEDED, same version is already published
Package 16/196HostnameOS / ArchINSTALLBUILDCHECKBUILD BIN
BiocSet 1.16.1  (landing page)
Kayla Morrell
git_last_commit: 39ae572
git_last_commit_date: 2024-02-09 13:07:28 -0400
kjohnson1macOS 13.6.1 Ventura / arm64  OK    OK    OK    OK  UNNEEDED, same version is already published
Package 17/196HostnameOS / ArchINSTALLBUILDCHECKBUILD BIN
biomaRt 2.58.2  (landing page)
Mike Smith
git_last_commit: d8a58e6
git_last_commit_date: 2024-01-30 05:36:21 -0400
kjohnson1macOS 13.6.1 Ventura / arm64  OK    OK    OK    OK  UNNEEDED, same version is already published
Package 18/196HostnameOS / ArchINSTALLBUILDCHECKBUILD BIN
BioNAR 1.4.4  (landing page)
Anatoly Sorokin
git_last_commit: 1a4aa70
git_last_commit_date: 2024-03-07 23:32:11 -0400
kjohnson1macOS 13.6.1 Ventura / arm64  OK    OK    OK    OK  UNNEEDED, same version is already published
Package 19/196HostnameOS / ArchINSTALLBUILDCHECKBUILD BIN
BioNet 1.62.0  (landing page)
Marcus Dittrich
git_last_commit: 760e83d
git_last_commit_date: 2023-10-24 09:44:29 -0400
kjohnson1macOS 13.6.1 Ventura / arm64  OK    OK    OK    OK  UNNEEDED, same version is already published
Package 20/196HostnameOS / ArchINSTALLBUILDCHECKBUILD BIN
biovizBase 1.50.0  (landing page)
Michael Lawrence
git_last_commit: c961633
git_last_commit_date: 2023-10-24 09:48:08 -0400
kjohnson1macOS 13.6.1 Ventura / arm64  OK    OK    WARNINGS    OK  UNNEEDED, same version is already published
Package 21/196HostnameOS / ArchINSTALLBUILDCHECKBUILD BIN
bumphunter 1.44.0  (landing page)
Tamilselvi Guharaj
git_last_commit: 084be68
git_last_commit_date: 2023-10-24 09:52:09 -0400
kjohnson1macOS 13.6.1 Ventura / arm64  OK    OK    OK    OK  UNNEEDED, same version is already published
Package 22/196HostnameOS / ArchINSTALLBUILDCHECKBUILD BIN
BUSpaRse 1.16.1  (landing page)
Lambda Moses
git_last_commit: c1a1ce5
git_last_commit_date: 2024-02-27 19:42:38 -0400
kjohnson1macOS 13.6.1 Ventura / arm64  OK    OK    OK    OK  UNNEEDED, same version is already published
Package 23/196HostnameOS / ArchINSTALLBUILDCHECKBUILD BIN
Category 2.68.0  (landing page)
Bioconductor Package Maintainer
git_last_commit: 17a23f8
git_last_commit_date: 2023-10-24 09:35:14 -0400
kjohnson1macOS 13.6.1 Ventura / arm64  OK    OK    OK    OK  UNNEEDED, same version is already published
Package 24/196HostnameOS / ArchINSTALLBUILDCHECKBUILD BIN
categoryCompare 1.46.0  (landing page)
Robert M. Flight
git_last_commit: 8d64d13
git_last_commit_date: 2023-10-24 09:50:05 -0400
kjohnson1macOS 13.6.1 Ventura / arm64  OK    OK    OK    OK  UNNEEDED, same version is already published
Package 25/196HostnameOS / ArchINSTALLBUILDCHECKBUILD BIN
ccmap 1.28.0  (landing page)
Alex Pickering
git_last_commit: 9af3dcb
git_last_commit_date: 2023-10-24 10:51:05 -0400
kjohnson1macOS 13.6.1 Ventura / arm64  OK    OK    WARNINGS    OK  UNNEEDED, same version is already published
Package 26/196HostnameOS / ArchINSTALLBUILDCHECKBUILD BIN
cellity 1.30.0  (landing page)
Tomislav Ilicic
git_last_commit: 7cff628
git_last_commit_date: 2023-10-24 10:47:53 -0400
kjohnson1macOS 13.6.1 Ventura / arm64  OK    OK    OK    OK  UNNEEDED, same version is already published
Package 27/196HostnameOS / ArchINSTALLBUILDCHECKBUILD BIN
chimeraviz 1.28.0  (landing page)
Stian Lågstad
git_last_commit: 2a2ebf3
git_last_commit_date: 2023-10-24 10:54:26 -0400
kjohnson1macOS 13.6.1 Ventura / arm64  OK    OK    OK    OK  UNNEEDED, same version is already published
Package 28/196HostnameOS / ArchINSTALLBUILDCHECKBUILD BIN
chipenrich 2.26.0  (landing page)
Kai Wang
git_last_commit: 8330eab
git_last_commit_date: 2023-10-24 09:55:43 -0400
kjohnson1macOS 13.6.1 Ventura / arm64  OK    OK    OK    OK  UNNEEDED, same version is already published
Package 29/196HostnameOS / ArchINSTALLBUILDCHECKBUILD BIN
ChIPpeakAnno 3.36.1  (landing page)
Jianhong Ou
git_last_commit: 105ec60
git_last_commit_date: 2024-02-15 15:06:09 -0400
kjohnson1macOS 13.6.1 Ventura / arm64  OK    OK    OK    OK  UNNEEDED, same version is already published
Package 30/196HostnameOS / ArchINSTALLBUILDCHECKBUILD BIN
ChIPseeker 1.38.0  (landing page)
Guangchuang Yu
git_last_commit: 7da66e2
git_last_commit_date: 2023-10-24 09:58:56 -0400
kjohnson1macOS 13.6.1 Ventura / arm64  OK    OK    OK    OK  UNNEEDED, same version is already published
Package 31/196HostnameOS / ArchINSTALLBUILDCHECKBUILD BIN
ChromHeatMap 1.56.0  (landing page)
Tim F. Rayner
git_last_commit: 453e688
git_last_commit_date: 2023-10-24 09:42:48 -0400
kjohnson1macOS 13.6.1 Ventura / arm64  OK    OK    OK    OK  UNNEEDED, same version is already published
Package 32/196HostnameOS / ArchINSTALLBUILDCHECKBUILD BIN
clusterProfiler 4.10.1  (landing page)
Guangchuang Yu
git_last_commit: 072a273
git_last_commit_date: 2024-03-07 04:07:08 -0400
kjohnson1macOS 13.6.1 Ventura / arm64  OK    OK    OK    OK  UNNEEDED, same version is already published
Package 33/196HostnameOS / ArchINSTALLBUILDCHECKBUILD BIN
CoCiteStats 1.74.0  (landing page)
Bioconductor Package Maintainer
git_last_commit: 5b7366f
git_last_commit_date: 2023-10-24 09:34:31 -0400
kjohnson1macOS 13.6.1 Ventura / arm64  OK    OK    OK    OK  UNNEEDED, same version is already published
Package 34/196HostnameOS / ArchINSTALLBUILDCHECKBUILD BIN
Cogito 1.8.0  (landing page)
Annika Bürger
git_last_commit: 22931f7
git_last_commit_date: 2023-10-24 11:37:21 -0400
kjohnson1macOS 13.6.1 Ventura / arm64  OK    OK    OK    OK  UNNEEDED, same version is already published
Package 35/196HostnameOS / ArchINSTALLBUILDCHECKBUILD BIN
compEpiTools 1.36.0  (landing page)
Mattia Furlan
git_last_commit: a66a836
git_last_commit_date: 2023-10-24 10:00:44 -0400
kjohnson1macOS 13.6.1 Ventura / arm64  OK    OK    WARNINGS    OK  UNNEEDED, same version is already published
Package 36/196HostnameOS / ArchINSTALLBUILDCHECKBUILD BIN
consensusDE 1.20.0  (landing page)
Ashley J. Waardenberg
git_last_commit: 8cccaad
git_last_commit_date: 2023-10-24 11:09:05 -0400
kjohnson1macOS 13.6.1 Ventura / arm64  OK    OK    OK    OK  UNNEEDED, same version is already published
Package 37/196HostnameOS / ArchINSTALLBUILDCHECKBUILD BIN
CoSIA 1.2.0  (landing page)
Amanda D. Clark
git_last_commit: d957b0a
git_last_commit_date: 2023-10-24 11:49:07 -0400
kjohnson1macOS 13.6.1 Ventura / arm64  OK    ERROR  skippedskipped
Package 38/196HostnameOS / ArchINSTALLBUILDCHECKBUILD BIN
crisprDesign 1.4.0  (landing page)
Jean-Philippe Fortin
git_last_commit: 47405b3
git_last_commit_date: 2023-10-24 11:43:12 -0400
kjohnson1macOS 13.6.1 Ventura / arm64  OK    OK    OK    OK  UNNEEDED, same version is already published
Package 39/196HostnameOS / ArchINSTALLBUILDCHECKBUILD BIN
crisprseekplus 1.28.0  (landing page)
Alper Kucukural
git_last_commit: 8338d72
git_last_commit_date: 2023-10-24 10:53:40 -0400
kjohnson1macOS 13.6.1 Ventura / arm64  OK    OK    OK    OK  UNNEEDED, same version is already published
Package 40/196HostnameOS / ArchINSTALLBUILDCHECKBUILD BIN
CrispRVariants 1.30.0  (landing page)
Helen Lindsay
git_last_commit: 871c979
git_last_commit_date: 2023-10-24 10:46:52 -0400
kjohnson1macOS 13.6.1 Ventura / arm64  OK    OK    WARNINGS    OK  UNNEEDED, same version is already published
Package 41/196HostnameOS / ArchINSTALLBUILDCHECKBUILD BIN
crossmeta 1.28.0  (landing page)
Alex Pickering
git_last_commit: 3ae7537
git_last_commit_date: 2023-10-24 10:50:52 -0400
kjohnson1macOS 13.6.1 Ventura / arm64  OK    OK    OK    OK  UNNEEDED, same version is already published
Package 42/196HostnameOS / ArchINSTALLBUILDCHECKBUILD BIN
cTRAP 1.20.0  (landing page)
Nuno Saraiva-Agostinho
git_last_commit: c77177f
git_last_commit_date: 2023-10-24 11:08:57 -0400
kjohnson1macOS 13.6.1 Ventura / arm64  OK    OK    ERROR    OK  
Package 43/196HostnameOS / ArchINSTALLBUILDCHECKBUILD BIN
customProDB 1.42.1  (landing page)
Xiaojing Wang
git_last_commit: 74cddbb
git_last_commit_date: 2024-03-05 00:31:17 -0400
kjohnson1macOS 13.6.1 Ventura / arm64  OK    OK    ERROR    OK  
Package 44/196HostnameOS / ArchINSTALLBUILDCHECKBUILD BIN
DAPAR 1.34.6  (landing page)
Samuel Wieczorek
git_last_commit: 829b5ff
git_last_commit_date: 2024-02-15 01:08:59 -0400
kjohnson1macOS 13.6.1 Ventura / arm64  OK    OK    OK    OK  UNNEEDED, same version is already published
Package 45/196HostnameOS / ArchINSTALLBUILDCHECKBUILD BIN
debrowser 1.30.2  (landing page)
Alper Kucukural
git_last_commit: edf9f4c
git_last_commit_date: 2024-02-05 11:10:13 -0400
kjohnson1macOS 13.6.1 Ventura / arm64  OK    ERROR  skippedskipped
Package 46/196HostnameOS / ArchINSTALLBUILDCHECKBUILD BIN
deco 1.18.0  (landing page)
Francisco Jose Campos Laborie
git_last_commit: e2f2dad
git_last_commit_date: 2023-10-24 11:10:03 -0400
kjohnson1macOS 13.6.1 Ventura / arm64  OK    ERROR  skippedskipped
Package 47/196HostnameOS / ArchINSTALLBUILDCHECKBUILD BIN
derfinder 1.36.0  (landing page)
Leonardo Collado-Torres
git_last_commit: 9bc4cd5
git_last_commit_date: 2023-10-24 10:38:56 -0400
kjohnson1macOS 13.6.1 Ventura / arm64  OK    ERROR  skippedskipped
Package 48/196HostnameOS / ArchINSTALLBUILDCHECKBUILD BIN
DEXSeq 1.48.0  (landing page)
Alejandro Reyes
git_last_commit: 40ec7ae
git_last_commit_date: 2023-10-24 09:47:02 -0400
kjohnson1macOS 13.6.1 Ventura / arm64  OK    OK    OK    OK  UNNEEDED, same version is already published
Package 49/196HostnameOS / ArchINSTALLBUILDCHECKBUILD BIN
DominoEffect 1.22.0  (landing page)
Marija Buljan
git_last_commit: 58dcf55
git_last_commit_date: 2023-10-24 11:02:58 -0400
kjohnson1macOS 13.6.1 Ventura / arm64  OK    ERROR  skippedskipped
Package 50/196HostnameOS / ArchINSTALLBUILDCHECKBUILD BIN
DOSE 3.28.2  (landing page)
Guangchuang Yu
git_last_commit: 9e236d9
git_last_commit_date: 2023-12-10 04:14:56 -0400
kjohnson1macOS 13.6.1 Ventura / arm64  OK    OK    OK    OK  UNNEEDED, same version is already published
Package 51/196HostnameOS / ArchINSTALLBUILDCHECKBUILD BIN
doubletrouble 1.2.5  (landing page)
Fabrício Almeida-Silva
git_last_commit: 4004e47
git_last_commit_date: 2024-02-05 04:35:33 -0400
kjohnson1macOS 13.6.1 Ventura / arm64  OK    OK    OK    OK  UNNEEDED, same version is already published
Package 52/196HostnameOS / ArchINSTALLBUILDCHECKBUILD BIN
EasyCellType 1.4.0  (landing page)
Ruoxing Li
git_last_commit: a2e92b6
git_last_commit_date: 2023-10-24 11:43:38 -0400
kjohnson1macOS 13.6.1 Ventura / arm64  OK    OK    OK    OK  UNNEEDED, same version is already published
Package 53/196HostnameOS / ArchINSTALLBUILDCHECKBUILD BIN
EDASeq 2.36.0  (landing page)
Davide Risso
git_last_commit: af70dab
git_last_commit_date: 2023-10-24 09:47:57 -0400
kjohnson1macOS 13.6.1 Ventura / arm64  OK    OK    OK    OK  UNNEEDED, same version is already published
Package 54/196HostnameOS / ArchINSTALLBUILDCHECKBUILD BIN
eegc 1.28.0  (landing page)
Xiaoyuan Zhou
git_last_commit: 5fcfa13
git_last_commit_date: 2023-10-24 10:52:19 -0400
kjohnson1macOS 13.6.1 Ventura / arm64  OK    OK    WARNINGS    OK  UNNEEDED, same version is already published
Package 55/196HostnameOS / ArchINSTALLBUILDCHECKBUILD BIN
EGSEA 1.30.1  (landing page)
Monther Alhamdoosh
git_last_commit: 8e57e03
git_last_commit_date: 2024-01-14 07:13:13 -0400
kjohnson1macOS 13.6.1 Ventura / arm64  OK    OK    OK    OK  UNNEEDED, same version is already published
Package 56/196HostnameOS / ArchINSTALLBUILDCHECKBUILD BIN
EnrichmentBrowser 2.32.0  (landing page)
Ludwig Geistlinger
git_last_commit: a2bb60b
git_last_commit_date: 2023-10-24 10:38:31 -0400
kjohnson1macOS 13.6.1 Ventura / arm64  OK    OK    OK    OK  UNNEEDED, same version is already published
Package 57/196HostnameOS / ArchINSTALLBUILDCHECKBUILD BIN
ensembldb 2.26.0  (landing page)
Johannes Rainer
git_last_commit: 7046d99
git_last_commit_date: 2023-10-24 10:42:20 -0400
kjohnson1macOS 13.6.1 Ventura / arm64  OK    OK    OK    OK  UNNEEDED, same version is already published
Package 58/196HostnameOS / ArchINSTALLBUILDCHECKBUILD BIN
EpiMix 1.4.0  (landing page)
Yuanning Zheng
git_last_commit: dd3578d
git_last_commit_date: 2023-10-24 11:43:01 -0400
kjohnson1macOS 13.6.1 Ventura / arm64  OK    OK    OK    OK  UNNEEDED, same version is already published
Package 59/196HostnameOS / ArchINSTALLBUILDCHECKBUILD BIN
epimutacions 1.6.1  (landing page)
Dolors Pelegri-Siso
git_last_commit: ba2e314
git_last_commit_date: 2023-11-03 07:47:17 -0400
kjohnson1macOS 13.6.1 Ventura / arm64  OK    OK    OK    OK  UNNEEDED, same version is already published
Package 60/196HostnameOS / ArchINSTALLBUILDCHECKBUILD BIN
EpiTxDb 1.14.1  (landing page)
Felix G.M. Ernst
git_last_commit: 2c66df2
git_last_commit_date: 2024-01-15 14:58:58 -0400
kjohnson1macOS 13.6.1 Ventura / arm64  OK    OK    OK    OK  UNNEEDED, same version is already published
Package 61/196HostnameOS / ArchINSTALLBUILDCHECKBUILD BIN
erma 1.18.0  (landing page)
VJ Carey
git_last_commit: bed2908
git_last_commit_date: 2023-10-24 10:43:59 -0400
kjohnson1macOS 13.6.1 Ventura / arm64  OK    OK    OK    OK  UNNEEDED, same version is already published
Package 62/196HostnameOS / ArchINSTALLBUILDCHECKBUILD BIN
esATAC 1.24.0  (landing page)
Zheng Wei
git_last_commit: fc5274b
git_last_commit_date: 2023-10-24 11:01:27 -0400
kjohnson1macOS 13.6.1 Ventura / arm64  OK    OK    OK    OK  NO, package depends on 'TFBSTools' which is only available as a source package that needs compilation
Package 63/196HostnameOS / ArchINSTALLBUILDCHECKBUILD BIN
FRASER 1.14.1  (landing page)
Christian Mertes
git_last_commit: 0a7204b
git_last_commit_date: 2024-02-11 14:03:18 -0400
kjohnson1macOS 13.6.1 Ventura / arm64  OK    OK    OK    OK  UNNEEDED, same version is already published
Package 64/196HostnameOS / ArchINSTALLBUILDCHECKBUILD BIN
GA4GHshiny 1.24.0  (landing page)
Welliton Souza
git_last_commit: 705e6f3
git_last_commit_date: 2023-10-24 10:57:29 -0400
kjohnson1macOS 13.6.1 Ventura / arm64  OK    OK    OK    OK  UNNEEDED, same version is already published
Package 65/196HostnameOS / ArchINSTALLBUILDCHECKBUILD BIN
gage 2.52.0  (landing page)
Weijun Luo
git_last_commit: 29b7ace
git_last_commit_date: 2023-10-24 09:45:00 -0400
kjohnson1macOS 13.6.1 Ventura / arm64  OK    OK    WARNINGS    OK  UNNEEDED, same version is already published
Package 66/196HostnameOS / ArchINSTALLBUILDCHECKBUILD BIN
gDNAx 1.0.2  (landing page)
Beatriz Calvo-Serra
git_last_commit: 0fb2969
git_last_commit_date: 2024-03-15 15:38:59 -0400
kjohnson1macOS 13.6.1 Ventura / arm64  OK    OK    OK    OK  UNNEEDED, same version is already published
Package 67/196HostnameOS / ArchINSTALLBUILDCHECKBUILD BIN
genefilter 1.84.0  (landing page)
Bioconductor Package Maintainer
git_last_commit: 94eca03
git_last_commit_date: 2023-10-24 09:31:26 -0400
kjohnson1macOS 13.6.1 Ventura / arm64  OK    OK    WARNINGS    OK  UNNEEDED, same version is already published
Package 68/196HostnameOS / ArchINSTALLBUILDCHECKBUILD BIN
geneplotter 1.80.0  (landing page)
Bioconductor Package Maintainer
git_last_commit: e304c8a
git_last_commit_date: 2023-10-24 09:31:30 -0400
kjohnson1macOS 13.6.1 Ventura / arm64  OK    OK    OK    OK  UNNEEDED, same version is already published
Package 69/196HostnameOS / ArchINSTALLBUILDCHECKBUILD BIN
GeneTonic 2.6.0  (landing page)
Federico Marini
git_last_commit: c3f7778
git_last_commit_date: 2023-10-24 11:19:17 -0400
kjohnson1macOS 13.6.1 Ventura / arm64  OK    OK    ERROR    OK  
Package 70/196HostnameOS / ArchINSTALLBUILDCHECKBUILD BIN
geneXtendeR 1.28.0  (landing page)
Bohdan Khomtchouk
git_last_commit: c8e8815
git_last_commit_date: 2023-10-24 10:53:12 -0400
kjohnson1macOS 13.6.1 Ventura / arm64  OK    OK    WARNINGS    OK  UNNEEDED, same version is already published
Package 71/196HostnameOS / ArchINSTALLBUILDCHECKBUILD BIN
GenomicFeatures 1.54.4  (landing page)
H. Pagès
git_last_commit: 0d0ab32
git_last_commit_date: 2024-03-12 13:06:10 -0400
kjohnson1macOS 13.6.1 Ventura / arm64  OK    OK    OK    OK  UNNEEDED, same version is already published
Package 72/196HostnameOS / ArchINSTALLBUILDCHECKBUILD BIN
GenomicInteractionNodes 1.6.0  (landing page)
Jianhong Ou
git_last_commit: eb1f8b0
git_last_commit_date: 2023-10-24 11:41:24 -0400
kjohnson1macOS 13.6.1 Ventura / arm64  OK    OK    OK    OK  UNNEEDED, same version is already published
Package 73/196HostnameOS / ArchINSTALLBUILDCHECKBUILD BIN
GenVisR 1.34.0  (landing page)
Zachary Skidmore
git_last_commit: 99c427b
git_last_commit_date: 2023-10-24 10:47:14 -0400
kjohnson1macOS 13.6.1 Ventura / arm64  OK    OK    ERROR    OK  
Package 74/196HostnameOS / ArchINSTALLBUILDCHECKBUILD BIN
ggbio 1.50.0  (landing page)
Michael Lawrence
git_last_commit: ec89905
git_last_commit_date: 2023-10-24 09:48:30 -0400
kjohnson1macOS 13.6.1 Ventura / arm64  OK    OK    WARNINGS    OK  UNNEEDED, same version is already published
Package 75/196HostnameOS / ArchINSTALLBUILDCHECKBUILD BIN
ggkegg 1.0.13  (landing page)
Noriaki Sato
git_last_commit: 8d6e759
git_last_commit_date: 2024-02-05 20:58:00 -0400
kjohnson1macOS 13.6.1 Ventura / arm64  OK    OK    OK    OK  UNNEEDED, same version is already published
Package 76/196HostnameOS / ArchINSTALLBUILDCHECKBUILD BIN
GlobalAncova 4.20.0  (landing page)
Manuela Hummel
git_last_commit: 062ee73
git_last_commit_date: 2023-10-24 09:35:40 -0400
kjohnson1macOS 13.6.1 Ventura / arm64  OK    OK    OK    OK  UNNEEDED, same version is already published
Package 77/196HostnameOS / ArchINSTALLBUILDCHECKBUILD BIN
globaltest 5.56.0  (landing page)
Jelle Goeman
git_last_commit: 7286ebb
git_last_commit_date: 2023-10-24 09:33:48 -0400
kjohnson1macOS 13.6.1 Ventura / arm64  OK    TIMEOUT  skippedskipped
Package 78/196HostnameOS / ArchINSTALLBUILDCHECKBUILD BIN
GmicR 1.16.0  (landing page)
Richard Virgen-Slane
git_last_commit: def961e
git_last_commit_date: 2023-10-24 11:16:49 -0400
kjohnson1macOS 13.6.1 Ventura / arm64  OK    OK    WARNINGS    OK  UNNEEDED, same version is already published
Package 79/196HostnameOS / ArchINSTALLBUILDCHECKBUILD BIN
GOfuncR 1.22.2  (landing page)
Steffi Grote
git_last_commit: 363482f
git_last_commit_date: 2024-02-03 07:00:45 -0400
kjohnson1macOS 13.6.1 Ventura / arm64  OK    OK    OK    OK  UNNEEDED, same version is already published
Package 80/196HostnameOS / ArchINSTALLBUILDCHECKBUILD BIN
GOpro 1.28.0  (landing page)
Lidia Chrabaszcz
git_last_commit: a24dea5
git_last_commit_date: 2023-10-24 10:53:02 -0400
kjohnson1macOS 13.6.1 Ventura / arm64  OK    OK    OK    OK  UNNEEDED, same version is already published
Package 81/196HostnameOS / ArchINSTALLBUILDCHECKBUILD BIN
goProfiles 1.64.0  (landing page)
Alex Sanchez
git_last_commit: a8fb44d
git_last_commit_date: 2023-10-24 09:39:46 -0400
kjohnson1macOS 13.6.1 Ventura / arm64  OK    OK    OK    OK  UNNEEDED, same version is already published
Package 82/196HostnameOS / ArchINSTALLBUILDCHECKBUILD BIN
GOSemSim 2.28.1  (landing page)
Guangchuang Yu
git_last_commit: 84618af
git_last_commit_date: 2024-01-16 19:48:46 -0400
kjohnson1macOS 13.6.1 Ventura / arm64  OK    OK    OK    OK  UNNEEDED, same version is already published
Package 83/196HostnameOS / ArchINSTALLBUILDCHECKBUILD BIN
goseq 1.54.0  (landing page)
Matthew Young , Nadia Davidson
git_last_commit: 8fa10e5
git_last_commit_date: 2023-10-24 09:43:46 -0400
kjohnson1macOS 13.6.1 Ventura / arm64  OK    OK    OK    OK  UNNEEDED, same version is already published
Package 84/196HostnameOS / ArchINSTALLBUILDCHECKBUILD BIN
GOSim 1.40.0  (landing page)
Holger Froehlich
git_last_commit: 564fdb3
git_last_commit_date: 2023-10-24 09:55:53 -0400
kjohnson1macOS 13.6.1 Ventura / arm64  OK    OK    OK    OK  UNNEEDED, same version is already published
Package 85/196HostnameOS / ArchINSTALLBUILDCHECKBUILD BIN
goSTAG 1.26.0  (landing page)
Brian D. Bennett
git_last_commit: 43e955b
git_last_commit_date: 2023-10-24 10:55:09 -0400
kjohnson1macOS 13.6.1 Ventura / arm64  OK    OK    OK    OK  UNNEEDED, same version is already published
Package 86/196HostnameOS / ArchINSTALLBUILDCHECKBUILD BIN
GOstats 2.68.0  (landing page)
Bioconductor Package Maintainer
git_last_commit: c8a775a
git_last_commit_date: 2023-10-24 09:33:36 -0400
kjohnson1macOS 13.6.1 Ventura / arm64  OK    OK    OK    OK  UNNEEDED, same version is already published
Package 87/196HostnameOS / ArchINSTALLBUILDCHECKBUILD BIN
goTools 1.76.0  (landing page)
Agnes Paquet
git_last_commit: d860fb7
git_last_commit_date: 2023-10-24 09:33:18 -0400
kjohnson1macOS 13.6.1 Ventura / arm64  OK    OK    OK    OK  UNNEEDED, same version is already published
Package 88/196HostnameOS / ArchINSTALLBUILDCHECKBUILD BIN
graphite 1.48.0  (landing page)
Gabriele Sales
git_last_commit: 288e32a
git_last_commit_date: 2023-10-24 09:47:44 -0400
kjohnson1macOS 13.6.1 Ventura / arm64  OK    OK    OK    OK  UNNEEDED, same version is already published
Package 89/196HostnameOS / ArchINSTALLBUILDCHECKBUILD BIN
GSEABase 1.64.0  (landing page)
Bioconductor Package Maintainer
git_last_commit: d89947c
git_last_commit_date: 2023-10-24 09:38:33 -0400
kjohnson1macOS 13.6.1 Ventura / arm64  OK    OK    OK    OK  UNNEEDED, same version is already published
Package 90/196HostnameOS / ArchINSTALLBUILDCHECKBUILD BIN
GSEABenchmarkeR 1.22.0  (landing page)
Ludwig Geistlinger
git_last_commit: 40d5688
git_last_commit_date: 2023-10-24 11:03:50 -0400
kjohnson1macOS 13.6.1 Ventura / arm64  OK    OK    OK    OK  UNNEEDED, same version is already published
Package 91/196HostnameOS / ArchINSTALLBUILDCHECKBUILD BIN
GSReg 1.36.0  (landing page)
Bahman Afsari , Elana J. Fertig
git_last_commit: 986592f
git_last_commit_date: 2023-10-24 09:59:56 -0400
kjohnson1macOS 13.6.1 Ventura / arm64  OK    OK    WARNINGS    OK  UNNEEDED, same version is already published
Package 92/196HostnameOS / ArchINSTALLBUILDCHECKBUILD BIN
Guitar 2.18.0  (landing page)
Jia Meng
git_last_commit: 836574b
git_last_commit_date: 2023-10-24 10:45:29 -0400
kjohnson1macOS 13.6.1 Ventura / arm64  OK    OK    OK    OK  UNNEEDED, same version is already published
Package 93/196HostnameOS / ArchINSTALLBUILDCHECKBUILD BIN
Gviz 1.46.1  (landing page)
Robert Ivanek
git_last_commit: ef98aa8
git_last_commit_date: 2023-11-16 09:48:08 -0400
kjohnson1macOS 13.6.1 Ventura / arm64  OK    OK    OK    OK  UNNEEDED, same version is already published
Package 94/196HostnameOS / ArchINSTALLBUILDCHECKBUILD BIN
gwascat 2.34.0  (landing page)
VJ Carey
git_last_commit: 9252d33
git_last_commit_date: 2023-10-24 09:49:29 -0400
kjohnson1macOS 13.6.1 Ventura / arm64  OK    OK    OK    OK  UNNEEDED, same version is already published
Package 95/196HostnameOS / ArchINSTALLBUILDCHECKBUILD BIN
ideal 1.26.0  (landing page)
Federico Marini
git_last_commit: d045512
git_last_commit_date: 2023-10-24 10:57:10 -0400
kjohnson1macOS 13.6.1 Ventura / arm64  OK    OK    OK    OK  UNNEEDED, same version is already published
Package 96/196HostnameOS / ArchINSTALLBUILDCHECKBUILD BIN
IMAS 1.26.0  (landing page)
Seonggyun Han
git_last_commit: 98a5e4e
git_last_commit_date: 2023-10-24 10:56:52 -0400
kjohnson1macOS 13.6.1 Ventura / arm64  OK    OK    OK    OK  UNNEEDED, same version is already published
Package 97/196HostnameOS / ArchINSTALLBUILDCHECKBUILD BIN
InPAS 2.10.0  (landing page)
Jianhong Ou
git_last_commit: a2f3538
git_last_commit_date: 2023-10-24 10:42:15 -0400
kjohnson1macOS 13.6.1 Ventura / arm64  OK    OK    OK    OK  UNNEEDED, same version is already published
Package 98/196HostnameOS / ArchINSTALLBUILDCHECKBUILD BIN
interactiveDisplay 1.40.0  (landing page)
Bioconductor Package Maintainer
git_last_commit: b510492
git_last_commit_date: 2023-10-24 09:56:36 -0400
kjohnson1macOS 13.6.1 Ventura / arm64  OK    OK    OK    OK  UNNEEDED, same version is already published
Package 99/196HostnameOS / ArchINSTALLBUILDCHECKBUILD BIN
ipdDb 1.20.0  (landing page)
Steffen Klasberg
git_last_commit: 91c41ad
git_last_commit_date: 2023-10-24 11:06:26 -0400
kjohnson1macOS 13.6.1 Ventura / arm64  OK    OK    OK    OK  UNNEEDED, same version is already published
Package 100/196HostnameOS / ArchINSTALLBUILDCHECKBUILD BIN
IRISFGM 1.10.0  (landing page)
Yuzhou Chang
git_last_commit: 27aef48
git_last_commit_date: 2023-10-24 11:30:04 -0400
kjohnson1macOS 13.6.1 Ventura / arm64  OK    ERROR  skippedskipped
Package 101/196HostnameOS / ArchINSTALLBUILDCHECKBUILD BIN
isomiRs 1.30.0  (landing page)
Lorena Pantano
git_last_commit: ac97130
git_last_commit_date: 2023-10-24 10:49:03 -0400
kjohnson1macOS 13.6.1 Ventura / arm64  OK    OK    OK    OK  UNNEEDED, same version is already published
Package 102/196HostnameOS / ArchINSTALLBUILDCHECKBUILD BIN
IVAS 2.22.0  (landing page)
Seonggyun Han
git_last_commit: 1e105b2
git_last_commit_date: 2023-10-24 10:41:17 -0400
kjohnson1macOS 13.6.1 Ventura / arm64  OK    OK    WARNINGS    OK  UNNEEDED, same version is already published
Package 103/196HostnameOS / ArchINSTALLBUILDCHECKBUILD BIN
karyoploteR 1.28.0  (landing page)
Bernat Gel
git_last_commit: 20fa00f
git_last_commit_date: 2023-10-24 10:55:15 -0400
kjohnson1macOS 13.6.1 Ventura / arm64  OK    OK    OK    OK  UNNEEDED, same version is already published
Package 104/196HostnameOS / ArchINSTALLBUILDCHECKBUILD BIN
KEGGlincs 1.28.0  (landing page)
Shana White , Mario Medvedovic
git_last_commit: ec74033
git_last_commit_date: 2023-10-24 10:53:15 -0400
kjohnson1macOS 13.6.1 Ventura / arm64  OK    OK    OK    OK  UNNEEDED, same version is already published
Package 105/196HostnameOS / ArchINSTALLBUILDCHECKBUILD BIN
keggorthology 2.54.0  (landing page)
VJ Carey
git_last_commit: 86332c3
git_last_commit_date: 2023-10-24 09:38:42 -0400
kjohnson1macOS 13.6.1 Ventura / arm64  OK    OK    OK    OK  UNNEEDED, same version is already published
Package 106/196HostnameOS / ArchINSTALLBUILDCHECKBUILD BIN
LRBaseDbi 2.12.1  (landing page)
Koki Tsuyuzaki
git_last_commit: 12fa363
git_last_commit_date: 2024-03-05 00:49:00 -0400
kjohnson1macOS 13.6.1 Ventura / arm64  OK    OK    OK    OK  UNNEEDED, same version is already published
Package 107/196HostnameOS / ArchINSTALLBUILDCHECKBUILD BIN
lumi 2.54.0  (landing page)
Lei Huang
git_last_commit: da70ec1
git_last_commit_date: 2023-10-24 09:37:44 -0400
kjohnson1macOS 13.6.1 Ventura / arm64  OK    OK    WARNINGS    OK  UNNEEDED, same version is already published
Package 108/196HostnameOS / ArchINSTALLBUILDCHECKBUILD BIN
magpie 1.2.0  (landing page)
Daoyu Duan
git_last_commit: ae6eb0e
git_last_commit_date: 2023-10-24 11:47:32 -0400
kjohnson1macOS 13.6.1 Ventura / arm64  OK    OK    OK    OK  UNNEEDED, same version is already published
Package 109/196HostnameOS / ArchINSTALLBUILDCHECKBUILD BIN
mAPKL 1.32.0  (landing page)
Argiris Sakellariou
git_last_commit: b2b6b36
git_last_commit_date: 2023-10-24 10:41:04 -0400
kjohnson1macOS 13.6.1 Ventura / arm64  OK    ERROR  skippedskipped
Package 110/196HostnameOS / ArchINSTALLBUILDCHECKBUILD BIN
maPredictDSC 1.40.0  (landing page)
Adi Laurentiu Tarca
git_last_commit: 20ea6c6
git_last_commit_date: 2023-10-24 09:54:43 -0400
kjohnson1macOS 13.6.1 Ventura / arm64  OK    OK    OK    OK  UNNEEDED, same version is already published
Package 111/196HostnameOS / ArchINSTALLBUILDCHECKBUILD BIN
mastR 1.2.3  (landing page)
Jinjin Chen
git_last_commit: 060276e
git_last_commit_date: 2024-01-09 04:03:13 -0400
kjohnson1macOS 13.6.1 Ventura / arm64  OK    OK    OK    OK  UNNEEDED, same version is already published
Package 112/196HostnameOS / ArchINSTALLBUILDCHECKBUILD BIN
MCbiclust 1.26.0  (landing page)
Robert Bentham
git_last_commit: 2c2ad68
git_last_commit_date: 2023-10-24 10:55:21 -0400
kjohnson1macOS 13.6.1 Ventura / arm64  OK    OK    OK    OK  UNNEEDED, same version is already published
Package 113/196HostnameOS / ArchINSTALLBUILDCHECKBUILD BIN
MeSHDbi 1.38.0  (landing page)
Koki Tsuyuzaki
git_last_commit: 7abf210
git_last_commit_date: 2023-10-24 09:58:49 -0400
kjohnson1macOS 13.6.1 Ventura / arm64  OK    OK    OK    OK  UNNEEDED, same version is already published
Package 114/196HostnameOS / ArchINSTALLBUILDCHECKBUILD BIN
meshes 1.28.0  (landing page)
Guangchuang Yu
git_last_commit: 227153b
git_last_commit_date: 2023-10-24 10:53:45 -0400
kjohnson1macOS 13.6.1 Ventura / arm64  OK    OK    OK    OK  UNNEEDED, same version is already published
Package 115/196HostnameOS / ArchINSTALLBUILDCHECKBUILD BIN
MesKit 1.12.0  (landing page)
Mengni Liu
git_last_commit: cc0213f
git_last_commit_date: 2023-10-24 11:24:07 -0400
kjohnson1macOS 13.6.1 Ventura / arm64  OK    OK    WARNINGS    OK  UNNEEDED, same version is already published
Package 116/196HostnameOS / ArchINSTALLBUILDCHECKBUILD BIN
MetaboSignal 1.32.1  (landing page)
Andrea Rodriguez-Martinez
git_last_commit: 76ac054
git_last_commit_date: 2023-12-16 00:48:37 -0400
kjohnson1macOS 13.6.1 Ventura / arm64  OK    OK    ERROR    OK  
Package 117/196HostnameOS / ArchINSTALLBUILDCHECKBUILD BIN
methylGSA 1.20.0  (landing page)
Xu Ren
git_last_commit: 8cb9bb1
git_last_commit_date: 2023-10-24 11:06:29 -0400
kjohnson1macOS 13.6.1 Ventura / arm64  OK    OK    OK    OK  UNNEEDED, same version is already published
Package 118/196HostnameOS / ArchINSTALLBUILDCHECKBUILD BIN
methylumi 2.48.0  (landing page)
Sean Davis
git_last_commit: ce4c6e4
git_last_commit_date: 2023-10-24 09:41:58 -0400
kjohnson1macOS 13.6.1 Ventura / arm64  OK    OK    OK    OK  UNNEEDED, same version is already published
Package 119/196HostnameOS / ArchINSTALLBUILDCHECKBUILD BIN
MGFM 1.36.0  (landing page)
Khadija El Amrani
git_last_commit: 8240478
git_last_commit_date: 2023-10-24 10:38:39 -0400
kjohnson1macOS 13.6.1 Ventura / arm64  OK    OK    OK    OK  UNNEEDED, same version is already published
Package 120/196HostnameOS / ArchINSTALLBUILDCHECKBUILD BIN
MineICA 1.42.0  (landing page)
Anne Biton
git_last_commit: c4e24ac
git_last_commit_date: 2023-10-24 09:52:51 -0400
kjohnson1macOS 13.6.1 Ventura / arm64  OK    OK    WARNINGS    OK  UNNEEDED, same version is already published
Package 121/196HostnameOS / ArchINSTALLBUILDCHECKBUILD BIN
MiRaGE 1.44.0  (landing page)
Y-h. Taguchi
git_last_commit: f54de47
git_last_commit_date: 2023-10-24 09:50:16 -0400
kjohnson1macOS 13.6.1 Ventura / arm64  OK    OK    WARNINGS    OK  UNNEEDED, same version is already published
Package 122/196HostnameOS / ArchINSTALLBUILDCHECKBUILD BIN
mirIntegrator 1.32.0  (landing page)
Diana Diaz
git_last_commit: 236a2ec
git_last_commit_date: 2023-10-24 10:43:56 -0400
kjohnson1macOS 13.6.1 Ventura / arm64  OK    OK    OK    OK  UNNEEDED, same version is already published
Package 123/196HostnameOS / ArchINSTALLBUILDCHECKBUILD BIN
miRNAmeConverter 1.30.0  (landing page)
Stefan J. Haunsberger
git_last_commit: 40e10f7
git_last_commit_date: 2023-10-24 10:48:19 -0400
kjohnson1macOS 13.6.1 Ventura / arm64  OK    OK    WARNINGS    OK  UNNEEDED, same version is already published
Package 124/196HostnameOS / ArchINSTALLBUILDCHECKBUILD BIN
miRNAtap 1.36.0  (landing page)
T. Ian Simpson
git_last_commit: f20aa1f
git_last_commit_date: 2023-10-24 10:00:30 -0400
kjohnson1macOS 13.6.1 Ventura / arm64  OK    OK    OK    OK  UNNEEDED, same version is already published
Package 125/196HostnameOS / ArchINSTALLBUILDCHECKBUILD BIN
missMethyl 1.36.0  (landing page)
Belinda Phipson
git_last_commit: 7853a3c
git_last_commit_date: 2023-10-24 10:00:11 -0400
kjohnson1macOS 13.6.1 Ventura / arm64  OK    OK    OK    OK  UNNEEDED, same version is already published
Package 126/196HostnameOS / ArchINSTALLBUILDCHECKBUILD BIN
MLP 1.50.0  (landing page)
Tobias Verbeke
git_last_commit: aa5a040
git_last_commit_date: 2023-10-24 09:45:18 -0400
kjohnson1macOS 13.6.1 Ventura / arm64  OK    OK    ERROR    OK  
Package 127/196HostnameOS / ArchINSTALLBUILDCHECKBUILD BIN
MSnID 1.36.0  (landing page)
Vlad Petyuk
git_last_commit: 605438e
git_last_commit_date: 2023-10-24 10:38:36 -0400
kjohnson1macOS 13.6.1 Ventura / arm64  OK    OK    ERROR    OK  
Package 128/196HostnameOS / ArchINSTALLBUILDCHECKBUILD BIN
multiGSEA 1.12.0  (landing page)
Sebastian Canzler
git_last_commit: df0c801
git_last_commit_date: 2023-10-24 11:23:16 -0400
kjohnson1macOS 13.6.1 Ventura / arm64  OK    OK    OK    OK  UNNEEDED, same version is already published
Package 129/196HostnameOS / ArchINSTALLBUILDCHECKBUILD BIN
multiMiR 1.24.0  (landing page)
Matt Mulvahill
git_last_commit: 65060e9
git_last_commit_date: 2023-10-24 10:59:47 -0400
kjohnson1macOS 13.6.1 Ventura / arm64  OK    OK    OK    OK  UNNEEDED, same version is already published
Package 130/196HostnameOS / ArchINSTALLBUILDCHECKBUILD BIN
NanoMethViz 2.8.1  (landing page)
Shian Su
git_last_commit: 1d8a149
git_last_commit_date: 2023-11-07 20:56:11 -0400
kjohnson1macOS 13.6.1 Ventura / arm64  OK    OK    OK    OK  UNNEEDED, same version is already published
Package 131/196HostnameOS / ArchINSTALLBUILDCHECKBUILD BIN
nanotatoR 1.18.0  (landing page)
Surajit Bhattacharya
git_last_commit: 9ad2203
git_last_commit_date: 2023-10-24 11:13:33 -0400
kjohnson1macOS 13.6.1 Ventura / arm64  OK    OK    OK    OK  UNNEEDED, same version is already published
Package 132/196HostnameOS / ArchINSTALLBUILDCHECKBUILD BIN
netOmics 1.8.0  (landing page)
Antoine Bodein
git_last_commit: 3eefd98
git_last_commit_date: 2023-10-24 11:38:01 -0400
kjohnson1macOS 13.6.1 Ventura / arm64  ERROR    ERROR  skippedskipped
Package 133/196HostnameOS / ArchINSTALLBUILDCHECKBUILD BIN
NetSAM 1.42.0  (landing page)
Zhiao Shi
git_last_commit: 91b5285
git_last_commit_date: 2023-10-24 09:54:33 -0400
kjohnson1macOS 13.6.1 Ventura / arm64  OK    OK    ERROR    OK  
Package 134/196HostnameOS / ArchINSTALLBUILDCHECKBUILD BIN
netZooR 1.6.0  (landing page)
Marouen Ben Guebila
git_last_commit: a1bfeed
git_last_commit_date: 2023-10-24 11:38:39 -0400
kjohnson1macOS 13.6.1 Ventura / arm64  OK    OK    OK    OK  UNNEEDED, same version is already published
Package 135/196HostnameOS / ArchINSTALLBUILDCHECKBUILD BIN
NoRCE 1.14.0  (landing page)
Gulden Olgun
git_last_commit: 3c4a829
git_last_commit_date: 2023-10-24 11:20:20 -0400
kjohnson1macOS 13.6.1 Ventura / arm64  OK    OK    OK    OK  UNNEEDED, same version is already published
Package 136/196HostnameOS / ArchINSTALLBUILDCHECKBUILD BIN
ORFik 1.22.2  (landing page)
Haakon Tjeldnes
git_last_commit: 38d4748
git_last_commit_date: 2024-02-20 09:22:49 -0400
kjohnson1macOS 13.6.1 Ventura / arm64  OK    ERROR  skippedskipped
Package 137/196HostnameOS / ArchINSTALLBUILDCHECKBUILD BIN
Organism.dplyr 1.30.1  (landing page)
Martin Morgan
git_last_commit: 78e66c1
git_last_commit_date: 2023-10-31 15:08:28 -0400
kjohnson1macOS 13.6.1 Ventura / arm64  OK    OK    OK    OK  UNNEEDED, same version is already published
Package 138/196HostnameOS / ArchINSTALLBUILDCHECKBUILD BIN
OrganismDbi 1.44.0  (landing page)
Bioconductor Package Maintainer
git_last_commit: aece52c
git_last_commit_date: 2023-10-24 09:51:08 -0400
kjohnson1macOS 13.6.1 Ventura / arm64  OK    OK    ERROR    OK  
Package 139/196HostnameOS / ArchINSTALLBUILDCHECKBUILD BIN
OutSplice 1.2.0  (landing page)
Theresa Guo
git_last_commit: 2035f79
git_last_commit_date: 2023-10-24 11:48:51 -0400
kjohnson1macOS 13.6.1 Ventura / arm64  OK    OK    OK    OK  UNNEEDED, same version is already published
Package 140/196HostnameOS / ArchINSTALLBUILDCHECKBUILD BIN
PADOG 1.44.0  (landing page)
Adi L. Tarca
git_last_commit: da280c7
git_last_commit_date: 2023-10-24 09:50:47 -0400
kjohnson1macOS 13.6.1 Ventura / arm64  OK    OK    OK    OK  UNNEEDED, same version is already published
Package 141/196HostnameOS / ArchINSTALLBUILDCHECKBUILD BIN
pathRender 1.70.0  (landing page)
Vince Carey
git_last_commit: 1fa46b5
git_last_commit_date: 2023-10-24 09:36:00 -0400
kjohnson1macOS 13.6.1 Ventura / arm64  OK    OK    OK    OK  UNNEEDED, same version is already published
Package 142/196HostnameOS / ArchINSTALLBUILDCHECKBUILD BIN
pathview 1.42.0  (landing page)
Weijun Luo
git_last_commit: 875d8f8
git_last_commit_date: 2023-10-24 09:53:13 -0400
kjohnson1macOS 13.6.1 Ventura / arm64  OK    OK    WARNINGS    OK  UNNEEDED, same version is already published
Package 143/196HostnameOS / ArchINSTALLBUILDCHECKBUILD BIN
pcaExplorer 2.28.0  (landing page)
Federico Marini
git_last_commit: bc5fa86
git_last_commit_date: 2023-10-24 10:49:32 -0400
kjohnson1macOS 13.6.1 Ventura / arm64  OK    OK    OK    OK  UNNEEDED, same version is already published
Package 144/196HostnameOS / ArchINSTALLBUILDCHECKBUILD BIN
phantasus 1.22.2  (landing page)
Alexey Sergushichev
git_last_commit: 64188e7
git_last_commit_date: 2023-11-15 12:34:18 -0400
kjohnson1macOS 13.6.1 Ventura / arm64  OK    OK    OK    OK  UNNEEDED, same version is already published
Package 145/196HostnameOS / ArchINSTALLBUILDCHECKBUILD BIN
phenoTest 1.50.0  (landing page)
Evarist Planet
git_last_commit: b499bc2
git_last_commit_date: 2023-10-24 09:45:37 -0400
kjohnson1macOS 13.6.1 Ventura / arm64  OK    OK    WARNINGS    OK  UNNEEDED, same version is already published
Package 146/196HostnameOS / ArchINSTALLBUILDCHECKBUILD BIN
proActiv 1.12.0  (landing page)
Joseph Lee
git_last_commit: a55e732
git_last_commit_date: 2023-10-24 11:25:31 -0400
kjohnson1macOS 13.6.1 Ventura / arm64  OK    OK    OK    OK  UNNEEDED, same version is already published
Package 147/196HostnameOS / ArchINSTALLBUILDCHECKBUILD BIN
proBAMr 1.36.0  (landing page)
Xiaojing Wang
git_last_commit: 49db4d2
git_last_commit_date: 2023-10-24 10:39:10 -0400
kjohnson1macOS 13.6.1 Ventura / arm64  OK    OK    OK    OK  UNNEEDED, same version is already published
Package 148/196HostnameOS / ArchINSTALLBUILDCHECKBUILD BIN
psichomics 1.28.1  (landing page)
Nuno Saraiva-Agostinho
git_last_commit: 444a86a
git_last_commit_date: 2024-02-04 17:55:30 -0400
kjohnson1macOS 13.6.1 Ventura / arm64  OK    OK    OK    OK  UNNEEDED, same version is already published
Package 149/196HostnameOS / ArchINSTALLBUILDCHECKBUILD BIN
pwOmics 1.34.0  (landing page)
Torsten Schoeps
git_last_commit: dc5bce7
git_last_commit_date: 2023-10-24 10:43:28 -0400
kjohnson1macOS 13.6.1 Ventura / arm64  OK    OK    WARNINGS    OK  UNNEEDED, same version is already published
Package 150/196HostnameOS / ArchINSTALLBUILDCHECKBUILD BIN
qpgraph 2.36.0  (landing page)
Robert Castelo
git_last_commit: 08faf23
git_last_commit_date: 2023-10-24 09:41:20 -0400
kjohnson1macOS 13.6.1 Ventura / arm64  OK    OK    WARNINGS    OK  UNNEEDED, same version is already published
Package 151/196HostnameOS / ArchINSTALLBUILDCHECKBUILD BIN
QuasR 1.42.1  (landing page)
Michael Stadler
git_last_commit: 04c8406
git_last_commit_date: 2023-11-01 08:10:31 -0400
kjohnson1macOS 13.6.1 Ventura / arm64  OK    OK    WARNINGS    OK  UNNEEDED, same version is already published
Package 152/196HostnameOS / ArchINSTALLBUILDCHECKBUILD BIN
RAIDS 1.0.0  (landing page)
Pascal Belleau
git_last_commit: 12ea1e7
git_last_commit_date: 2023-10-24 11:51:36 -0400
kjohnson1macOS 13.6.1 Ventura / arm64  OK    OK    OK    OK  UNNEEDED, same version is already published
Package 153/196HostnameOS / ArchINSTALLBUILDCHECKBUILD BIN
rCGH 1.32.0  (landing page)
Frederic Commo
git_last_commit: f44b331
git_last_commit_date: 2023-10-24 10:44:17 -0400
kjohnson1macOS 13.6.1 Ventura / arm64  OK    OK    OK    OK  UNNEEDED, same version is already published
Package 154/196HostnameOS / ArchINSTALLBUILDCHECKBUILD BIN
ReactomePA 1.46.0  (landing page)
Guangchuang Yu
git_last_commit: 4fc270b
git_last_commit_date: 2023-10-24 09:49:45 -0400
kjohnson1macOS 13.6.1 Ventura / arm64  OK    OK    OK    OK  UNNEEDED, same version is already published
Package 155/196HostnameOS / ArchINSTALLBUILDCHECKBUILD BIN
REDseq 1.48.0  (landing page)
Lihua Julie Zhu
git_last_commit: 883d05f
git_last_commit_date: 2023-10-24 09:46:52 -0400
kjohnson1macOS 13.6.1 Ventura / arm64  OK    OK    OK    OK  UNNEEDED, same version is already published
Package 156/196HostnameOS / ArchINSTALLBUILDCHECKBUILD BIN
regutools 1.14.0  (landing page)
Joselyn Chavez
git_last_commit: 5db6548
git_last_commit_date: 2023-10-24 11:22:02 -0400
kjohnson1macOS 13.6.1 Ventura / arm64  OK    OK    OK    OK  UNNEEDED, same version is already published
Package 157/196HostnameOS / ArchINSTALLBUILDCHECKBUILD BIN
ReportingTools 2.42.3  (landing page)
Jason A. Hackney , Gabriel Becker
git_last_commit: fcaebd4
git_last_commit_date: 2023-12-07 14:55:10 -0400
kjohnson1macOS 13.6.1 Ventura / arm64  OK    OK    OK    OK  UNNEEDED, same version is already published
Package 158/196HostnameOS / ArchINSTALLBUILDCHECKBUILD BIN
restfulSE 1.24.0  (landing page)
Shweta Gopaulakrishnan
git_last_commit: 8154538
git_last_commit_date: 2023-10-24 10:59:57 -0400
kjohnson1macOS 13.6.1 Ventura / arm64  OK    OK    OK    OK  UNNEEDED, same version is already published
Package 159/196HostnameOS / ArchINSTALLBUILDCHECKBUILD BIN
rGREAT 2.4.0  (landing page)
Zuguang Gu
git_last_commit: b3e45d8
git_last_commit_date: 2023-10-24 10:41:30 -0400
kjohnson1macOS 13.6.1 Ventura / arm64  OK    OK    OK    OK  UNNEEDED, same version is already published
Package 160/196HostnameOS / ArchINSTALLBUILDCHECKBUILD BIN
rgsepd 1.34.0  (landing page)
Karl Stamm
git_last_commit: e227887
git_last_commit_date: 2023-10-24 10:40:48 -0400
kjohnson1macOS 13.6.1 Ventura / arm64  OK    OK    OK    OK  UNNEEDED, same version is already published
Package 161/196HostnameOS / ArchINSTALLBUILDCHECKBUILD BIN
ribosomeProfilingQC 1.14.1  (landing page)
Jianhong Ou
git_last_commit: 9286a0a
git_last_commit_date: 2024-03-15 08:29:00 -0400
kjohnson1macOS 13.6.1 Ventura / arm64  OK    OK    OK    OK  UNNEEDED, same version is already published
Package 162/196HostnameOS / ArchINSTALLBUILDCHECKBUILD BIN
RNAAgeCalc 1.14.0  (landing page)
Xu Ren
git_last_commit: da4cd15
git_last_commit_date: 2023-10-24 11:20:12 -0400
kjohnson1macOS 13.6.1 Ventura / arm64  OK    OK    OK    OK  UNNEEDED, same version is already published
Package 163/196HostnameOS / ArchINSTALLBUILDCHECKBUILD BIN
rrvgo 1.14.2  (landing page)
Sergi Sayols
git_last_commit: 143d64c
git_last_commit_date: 2024-03-11 09:04:02 -0400
kjohnson1macOS 13.6.1 Ventura / arm64  OK    OK    OK    OK  UNNEEDED, same version is already published
Package 164/196HostnameOS / ArchINSTALLBUILDCHECKBUILD BIN
rTRM 1.40.0  (landing page)
Diego Diez
git_last_commit: d1183dd
git_last_commit_date: 2023-10-24 09:54:41 -0400
kjohnson1macOS 13.6.1 Ventura / arm64  OK    OK    OK    OK  UNNEEDED, same version is already published
Package 165/196HostnameOS / ArchINSTALLBUILDCHECKBUILD BIN
safe 3.42.0  (landing page)
Ludwig Geistlinger
git_last_commit: eb6249c
git_last_commit_date: 2023-10-24 09:34:48 -0400
kjohnson1macOS 13.6.1 Ventura / arm64  OK    OK    OK    OK  UNNEEDED, same version is already published
Package 166/196HostnameOS / ArchINSTALLBUILDCHECKBUILD BIN
SBGNview 1.16.0  (landing page)
Weijun Luo
git_last_commit: 035330e
git_last_commit_date: 2023-10-24 11:14:55 -0400
kjohnson1macOS 13.6.1 Ventura / arm64  OK    OK    OK    OK  UNNEEDED, same version is already published
Package 167/196HostnameOS / ArchINSTALLBUILDCHECKBUILD BIN
scanMiRApp 1.8.0  (landing page)
Pierre-Luc Germain
git_last_commit: 1f05d94
git_last_commit_date: 2023-10-24 11:35:21 -0400
kjohnson1macOS 13.6.1 Ventura / arm64  OK    OK    WARNINGS    OK  UNNEEDED, same version is already published
Package 168/196HostnameOS / ArchINSTALLBUILDCHECKBUILD BIN
scPipe 2.2.0  (landing page)
Shian Su
git_last_commit: 64848af
git_last_commit_date: 2023-10-24 11:00:35 -0400
kjohnson1macOS 13.6.1 Ventura / arm64  OK    OK    WARNINGS    OK  UNNEEDED, same version is already published
Package 169/196HostnameOS / ArchINSTALLBUILDCHECKBUILD BIN
scruff 1.20.0  (landing page)
Zhe Wang
git_last_commit: 9c5a572
git_last_commit_date: 2023-10-24 11:06:39 -0400
kjohnson1macOS 13.6.1 Ventura / arm64  OK    OK    OK    OK  UNNEEDED, same version is already published
Package 170/196HostnameOS / ArchINSTALLBUILDCHECKBUILD BIN
scTensor 2.12.0  (landing page)
Koki Tsuyuzaki
git_last_commit: 40a43b3
git_last_commit_date: 2023-10-24 11:09:40 -0400
kjohnson1macOS 13.6.1 Ventura / arm64  OK    OK    WARNINGS    OK  UNNEEDED, same version is already published
Package 171/196HostnameOS / ArchINSTALLBUILDCHECKBUILD BIN
SemDist 1.36.0  (landing page)
Ian Gonzalez
git_last_commit: bf8559d
git_last_commit_date: 2023-10-24 10:00:38 -0400
kjohnson1macOS 13.6.1 Ventura / arm64  OK    OK    OK    OK  UNNEEDED, same version is already published
Package 172/196HostnameOS / ArchINSTALLBUILDCHECKBUILD BIN
SGSeq 1.36.0  (landing page)
Leonard Goldstein
git_last_commit: be443cf
git_last_commit_date: 2023-10-24 10:39:42 -0400
kjohnson1macOS 13.6.1 Ventura / arm64  OK    OK    OK    OK  UNNEEDED, same version is already published
Package 173/196HostnameOS / ArchINSTALLBUILDCHECKBUILD BIN
signatureSearch 1.16.0  (landing page)
Brendan Gongol
git_last_commit: 4230980
git_last_commit_date: 2023-10-24 11:18:10 -0400
kjohnson1macOS 13.6.1 Ventura / arm64  OK    OK    OK    OK  UNNEEDED, same version is already published
Package 174/196HostnameOS / ArchINSTALLBUILDCHECKBUILD BIN
signifinder 1.4.0  (landing page)
Stefania Pirrotta
git_last_commit: b8e4f6d
git_last_commit_date: 2023-10-24 11:44:57 -0400
kjohnson1macOS 13.6.1 Ventura / arm64  OK    OK    OK    OK  UNNEEDED, same version is already published
Package 175/196HostnameOS / ArchINSTALLBUILDCHECKBUILD BIN
simplifyEnrichment 1.12.0  (landing page)
Zuguang Gu
git_last_commit: 32b08eb
git_last_commit_date: 2023-10-24 11:22:49 -0400
kjohnson1macOS 13.6.1 Ventura / arm64  OK    OK    OK    OK  UNNEEDED, same version is already published
Package 176/196HostnameOS / ArchINSTALLBUILDCHECKBUILD BIN
SMITE 1.30.0  (landing page)
Neil Ari Wijetunga
git_last_commit: 7e7699a
git_last_commit_date: 2023-10-24 10:47:29 -0400
kjohnson1macOS 13.6.1 Ventura / arm64  OK    OK    OK    OK  UNNEEDED, same version is already published
Package 177/196HostnameOS / ArchINSTALLBUILDCHECKBUILD BIN
SpidermiR 1.32.0  (landing page)
Claudia Cava
git_last_commit: 02f4a52
git_last_commit_date: 2023-10-24 10:48:36 -0400
kjohnson1macOS 13.6.1 Ventura / arm64  OK    OK    ERROR    OK  
Package 178/196HostnameOS / ArchINSTALLBUILDCHECKBUILD BIN
StarBioTrek 1.28.0  (landing page)
Claudia Cava
git_last_commit: 7d03f4d
git_last_commit_date: 2023-10-24 10:53:53 -0400
kjohnson1macOS 13.6.1 Ventura / arm64  OK    OK    WARNINGS    OK  UNNEEDED, same version is already published
Package 179/196HostnameOS / ArchINSTALLBUILDCHECKBUILD BIN
SubCellBarCode 1.18.0  (landing page)
Taner Arslan
git_last_commit: dc1e986
git_last_commit_date: 2023-10-24 11:14:00 -0400
kjohnson1macOS 13.6.1 Ventura / arm64  OK    OK    OK    OK  UNNEEDED, same version is already published
Package 180/196HostnameOS / ArchINSTALLBUILDCHECKBUILD BIN
SVMDO 1.2.8  (landing page)
Mustafa Erhan Ozer
git_last_commit: e42b83d
git_last_commit_date: 2024-01-08 13:29:46 -0400
kjohnson1macOS 13.6.1 Ventura / arm64  OK    OK    OK    OK  UNNEEDED, same version is already published
Package 181/196HostnameOS / ArchINSTALLBUILDCHECKBUILD BIN
TCGAutils 1.22.2  (landing page)
Marcel Ramos
git_last_commit: 653217e
git_last_commit_date: 2023-12-08 11:45:35 -0400
kjohnson1macOS 13.6.1 Ventura / arm64  OK    OK    OK    OK  UNNEEDED, same version is already published
Package 182/196HostnameOS / ArchINSTALLBUILDCHECKBUILD BIN
tenXplore 1.24.0  (landing page)
VJ Carey
git_last_commit: 9c4165a
git_last_commit_date: 2023-10-24 11:01:19 -0400
kjohnson1macOS 13.6.1 Ventura / arm64  OK    OK    OK    OK  UNNEEDED, same version is already published
Package 183/196HostnameOS / ArchINSTALLBUILDCHECKBUILD BIN
TFutils 1.22.0  (landing page)
Vincent Carey
git_last_commit: 29d5e5c
git_last_commit_date: 2023-10-24 11:04:27 -0400
kjohnson1macOS 13.6.1 Ventura / arm64  OK    OK    OK    OK  UNNEEDED, same version is already published
Package 184/196HostnameOS / ArchINSTALLBUILDCHECKBUILD BIN
tigre 1.56.0  (landing page)
Antti Honkela
git_last_commit: f92dc57
git_last_commit_date: 2023-10-24 09:43:43 -0400
kjohnson1macOS 13.6.1 Ventura / arm64  OK    OK    OK    OK  UNNEEDED, same version is already published
Package 185/196HostnameOS / ArchINSTALLBUILDCHECKBUILD BIN
topGO 2.54.0  (landing page)
Adrian Alexa
git_last_commit: 6f2ce73
git_last_commit_date: 2023-10-24 09:37:59 -0400
kjohnson1macOS 13.6.1 Ventura / arm64  OK    OK    OK    OK  UNNEEDED, same version is already published
Package 186/196HostnameOS / ArchINSTALLBUILDCHECKBUILD BIN
trackViewer 1.38.2  (landing page)
Jianhong Ou
git_last_commit: 9e62ddd
git_last_commit_date: 2024-03-18 15:25:13 -0400
kjohnson1macOS 13.6.1 Ventura / arm64  OK    OK    OK    OK  UNNEEDED, same version is already published
Package 187/196HostnameOS / ArchINSTALLBUILDCHECKBUILD BIN
trena 1.24.0  (landing page)
Paul Shannon
git_last_commit: 32af010
git_last_commit_date: 2023-10-24 10:57:26 -0400
kjohnson1macOS 13.6.1 Ventura / arm64  OK    OK    WARNINGS    OK  UNNEEDED, same version is already published
Package 188/196HostnameOS / ArchINSTALLBUILDCHECKBUILD BIN
TRESS 1.8.0  (landing page)
Zhenxing Guo
git_last_commit: 7e92939
git_last_commit_date: 2023-10-24 11:37:07 -0400
kjohnson1macOS 13.6.1 Ventura / arm64  OK    OK    OK    OK  UNNEEDED, same version is already published
Package 189/196HostnameOS / ArchINSTALLBUILDCHECKBUILD BIN
tricycle 1.10.0  (landing page)
Shijie Zheng
git_last_commit: e1b6ba5
git_last_commit_date: 2023-10-24 11:32:09 -0400
kjohnson1macOS 13.6.1 Ventura / arm64  OK    ERROR  skippedskipped
Package 190/196HostnameOS / ArchINSTALLBUILDCHECKBUILD BIN
txcutr 1.8.0  (landing page)
Mervin Fansler
git_last_commit: 9478f70
git_last_commit_date: 2023-10-24 11:38:04 -0400
kjohnson1macOS 13.6.1 Ventura / arm64  OK    OK    OK    OK  UNNEEDED, same version is already published
Package 191/196HostnameOS / ArchINSTALLBUILDCHECKBUILD BIN
tximeta 1.20.3  (landing page)
Michael Love
git_last_commit: 4b7dc4d
git_last_commit_date: 2024-01-28 21:16:35 -0400
kjohnson1macOS 13.6.1 Ventura / arm64  OK    OK    OK    OK  UNNEEDED, same version is already published
Package 192/196HostnameOS / ArchINSTALLBUILDCHECKBUILD BIN
Ularcirc 1.20.0  (landing page)
David Humphreys
git_last_commit: 65fe081
git_last_commit_date: 2023-10-24 11:05:57 -0400
kjohnson1macOS 13.6.1 Ventura / arm64  OK    OK    WARNINGS    OK  UNNEEDED, same version is already published
Package 193/196HostnameOS / ArchINSTALLBUILDCHECKBUILD BIN
UniProt.ws 2.42.0  (landing page)
Marcel Ramos
git_last_commit: 72fb35b
git_last_commit_date: 2023-10-24 09:51:56 -0400
kjohnson1macOS 13.6.1 Ventura / arm64  OK    OK    OK    OK  UNNEEDED, same version is already published
Package 194/196HostnameOS / ArchINSTALLBUILDCHECKBUILD BIN
VariantAnnotation 1.48.1  (landing page)
Bioconductor Package Maintainer
git_last_commit: ef918f8
git_last_commit_date: 2023-11-15 01:47:30 -0400
kjohnson1macOS 13.6.1 Ventura / arm64  OK    OK    WARNINGS    OK  UNNEEDED, same version is already published
Package 195/196HostnameOS / ArchINSTALLBUILDCHECKBUILD BIN
VariantFiltering 1.38.0  (landing page)
Robert Castelo
git_last_commit: fa37d53
git_last_commit_date: 2023-10-24 09:58:34 -0400
kjohnson1macOS 13.6.1 Ventura / arm64  OK    OK    OK    OK  UNNEEDED, same version is already published
Package 196/196HostnameOS / ArchINSTALLBUILDCHECKBUILD BIN
ViSEAGO 1.16.0  (landing page)
Aurelien Brionne
git_last_commit: 21e6693
git_last_commit_date: 2023-10-24 11:15:09 -0400
kjohnson1macOS 13.6.1 Ventura / arm64  OK    OK    WARNINGS    OK  UNNEEDED, same version is already published