Back to Mac ARM64 build report for BioC 3.18
ABCDEF[G]HIJKLMNOPQRSTUVWXYZ

This page was generated on 2024-02-22 11:32:06 -0500 (Thu, 22 Feb 2024).

HostnameOSArch (*)R versionInstalled pkgs
kjohnson1macOS 13.6.1 Venturaarm644.3.2 (2023-10-31) -- "Eye Holes" 4300
Click on any hostname to see more info about the system (e.g. compilers)      (*) as reported by 'uname -p', except on Windows and Mac OS X

All results for package gcrma


To the developers/maintainers of the gcrma package:
- Use the following Renviron settings to reproduce errors and warnings.
- If 'R CMD check' started to fail recently on the Linux builder(s) over a missing dependency, add the missing dependency to 'Suggests:' in your DESCRIPTION file. See Renviron.bioc for more information.

raw results

Package 773/2266HostnameOS / ArchINSTALLBUILDCHECKBUILD BIN
gcrma 2.74.0  (landing page)
Z. Wu
Snapshot Date: 2024-02-20 09:00:03 -0500 (Tue, 20 Feb 2024)
git_url: https://git.bioconductor.org/packages/gcrma
git_branch: RELEASE_3_18
git_last_commit: 1ceeafe
git_last_commit_date: 2023-10-24 09:32:13 -0500 (Tue, 24 Oct 2023)
kjohnson1macOS 13.6.1 Ventura / arm64  OK    OK    OK    OK  UNNEEDED, same version is already published

Results for Bioconductor software packages that depend directly on package gcrma

QUICK STATSOS / ArchINSTALLBUILDCHECKBUILD BIN
kjohnson1macOS 13.6.1 Ventura / arm64
008
008
0008
008
Package 1/8HostnameOS / ArchINSTALLBUILDCHECKBUILD BIN
affycoretools 1.74.0  (landing page)
James W. MacDonald
git_last_commit: c04ad6f
git_last_commit_date: 2023-10-24 09:35:49 -0500
kjohnson1macOS 13.6.1 Ventura / arm64  OK    OK    OK    OK  UNNEEDED, same version is already published
Package 2/8HostnameOS / ArchINSTALLBUILDCHECKBUILD BIN
affyILM 1.54.0  (landing page)
Myriam Kroll and Fabrice Berger
git_last_commit: 4586915
git_last_commit_date: 2023-10-24 09:44:11 -0500
kjohnson1macOS 13.6.1 Ventura / arm64  OK    OK    OK    OK  UNNEEDED, same version is already published
Package 3/8HostnameOS / ArchINSTALLBUILDCHECKBUILD BIN
affylmGUI 1.76.0  (landing page)
Gordon Smyth
git_last_commit: d6a5c35
git_last_commit_date: 2023-10-24 09:33:21 -0500
kjohnson1macOS 13.6.1 Ventura / arm64  OK    OK    OK    OK  UNNEEDED, same version is already published
Package 4/8HostnameOS / ArchINSTALLBUILDCHECKBUILD BIN
affyPLM 1.78.0  (landing page)
Ben Bolstad
git_last_commit: 1fa54e2
git_last_commit_date: 2023-10-24 09:32:34 -0500
kjohnson1macOS 13.6.1 Ventura / arm64  OK    OK    OK    OK  UNNEEDED, same version is already published
Package 5/8HostnameOS / ArchINSTALLBUILDCHECKBUILD BIN
bgx 1.68.3  (landing page)
Ernest Turro
git_last_commit: a3843a5
git_last_commit_date: 2024-02-09 13:54:22 -0500
kjohnson1macOS 13.6.1 Ventura / arm64  OK    OK    OK    OK  UNNEEDED, same version is already published
Package 6/8HostnameOS / ArchINSTALLBUILDCHECKBUILD BIN
maPredictDSC 1.40.0  (landing page)
Adi Laurentiu Tarca
git_last_commit: 20ea6c6
git_last_commit_date: 2023-10-24 09:54:43 -0500
kjohnson1macOS 13.6.1 Ventura / arm64  OK    OK    OK    OK  UNNEEDED, same version is already published
Package 7/8HostnameOS / ArchINSTALLBUILDCHECKBUILD BIN
maskBAD 1.46.0  (landing page)
Michael Dannemann
git_last_commit: b0b9d7e
git_last_commit_date: 2023-10-24 09:49:03 -0500
kjohnson1macOS 13.6.1 Ventura / arm64  OK    OK    OK    OK  UNNEEDED, same version is already published
Package 8/8HostnameOS / ArchINSTALLBUILDCHECKBUILD BIN
webbioc 1.74.0  (landing page)
Colin A. Smith
git_last_commit: 631bc8f
git_last_commit_date: 2023-10-24 09:32:39 -0500
kjohnson1macOS 13.6.1 Ventura / arm64  OK    OK    OK    OK  UNNEEDED, same version is already published