Back to Mac ARM64 build report for BioC 3.18
A[B]CDEFGHIJKLMNOPQRSTUVWXYZ

This page was generated on 2024-02-22 11:32:05 -0500 (Thu, 22 Feb 2024).

HostnameOSArch (*)R versionInstalled pkgs
kjohnson1macOS 13.6.1 Venturaarm644.3.2 (2023-10-31) -- "Eye Holes" 4300
Click on any hostname to see more info about the system (e.g. compilers)      (*) as reported by 'uname -p', except on Windows and Mac OS X

All results for package BSgenome


To the developers/maintainers of the BSgenome package:
- Use the following Renviron settings to reproduce errors and warnings.
- If 'R CMD check' started to fail recently on the Linux builder(s) over a missing dependency, add the missing dependency to 'Suggests:' in your DESCRIPTION file. See Renviron.bioc for more information.

raw results

Package 242/2266HostnameOS / ArchINSTALLBUILDCHECKBUILD BIN
BSgenome 1.70.2  (landing page)
Hervé Pagès
Snapshot Date: 2024-02-20 09:00:03 -0500 (Tue, 20 Feb 2024)
git_url: https://git.bioconductor.org/packages/BSgenome
git_branch: RELEASE_3_18
git_last_commit: 77b80d5
git_last_commit_date: 2024-02-07 18:38:59 -0500 (Wed, 07 Feb 2024)
kjohnson1macOS 13.6.1 Ventura / arm64  OK    OK    WARNINGS    OK  UNNEEDED, same version is already published

Results for Bioconductor software packages that depend directly on package BSgenome

QUICK STATSOS / ArchINSTALLBUILDCHECKBUILD BIN
kjohnson1macOS 13.6.1 Ventura / arm64
0793
01288
111571
0088
Package 1/100HostnameOS / ArchINSTALLBUILDCHECKBUILD BIN
AllelicImbalance 1.40.0  (landing page)
Jesper R Gadin
git_last_commit: e3fc911
git_last_commit_date: 2023-10-24 09:56:05 -0500
kjohnson1macOS 13.6.1 Ventura / arm64  OK    OK    OK    OK  UNNEEDED, same version is already published
Package 2/100HostnameOS / ArchINSTALLBUILDCHECKBUILD BIN
appreci8R 1.20.2  (landing page)
Sarah Sandmann
git_last_commit: 491a34d
git_last_commit_date: 2024-02-14 07:29:50 -0500
kjohnson1macOS 13.6.1 Ventura / arm64  OK    OK    OK    OK  UNNEEDED, same version is already published
Package 3/100HostnameOS / ArchINSTALLBUILDCHECKBUILD BIN
ATACseqQC 1.26.0  (landing page)
Jianhong Ou
git_last_commit: 415dbcb
git_last_commit_date: 2023-10-24 10:57:16 -0500
kjohnson1macOS 13.6.1 Ventura / arm64  OK    OK    OK    OK  UNNEEDED, same version is already published
Package 4/100HostnameOS / ArchINSTALLBUILDCHECKBUILD BIN
atSNP 1.18.0  (landing page)
Sunyoung Shin
git_last_commit: a1ce82d
git_last_commit_date: 2023-10-24 11:11:02 -0500
kjohnson1macOS 13.6.1 Ventura / arm64  OK    OK    OK    OK  UNNEEDED, same version is already published
Package 5/100HostnameOS / ArchINSTALLBUILDCHECKBUILD BIN
bambu 3.4.0  (landing page)
Ying Chen
git_last_commit: bf38f6d
git_last_commit_date: 2023-10-24 11:27:04 -0500
kjohnson1macOS 13.6.1 Ventura / arm64  OK    OK    OK    OK  UNNEEDED, same version is already published
Package 6/100HostnameOS / ArchINSTALLBUILDCHECKBUILD BIN
BEAT 1.40.0  (landing page)
Kemal Akman
git_last_commit: 27254d0
git_last_commit_date: 2023-10-24 09:57:14 -0500
kjohnson1macOS 13.6.1 Ventura / arm64  OK    OK    OK    OK  UNNEEDED, same version is already published
Package 7/100HostnameOS / ArchINSTALLBUILDCHECKBUILD BIN
BSgenomeForge 1.2.2  (landing page)
Hervé Pagès
git_last_commit: 6fe1ff5
git_last_commit_date: 2024-02-12 12:55:36 -0500
kjohnson1macOS 13.6.1 Ventura / arm64  OK    ERROR  skippedskipped
Package 8/100HostnameOS / ArchINSTALLBUILDCHECKBUILD BIN
bsseq 1.38.0  (landing page)
Kasper Daniel Hansen
git_last_commit: 392e22c
git_last_commit_date: 2023-10-24 09:50:39 -0500
kjohnson1macOS 13.6.1 Ventura / arm64  OK    OK    OK    OK  UNNEEDED, same version is already published
Package 9/100HostnameOS / ArchINSTALLBUILDCHECKBUILD BIN
BUSpaRse 1.16.0  (landing page)
Lambda Moses
git_last_commit: 07bc14e
git_last_commit_date: 2024-01-26 19:06:58 -0500
kjohnson1macOS 13.6.1 Ventura / arm64  OK    ERROR  skippedskipped
Package 10/100HostnameOS / ArchINSTALLBUILDCHECKBUILD BIN
CAGEr 2.8.0  (landing page)
Charles Plessy
git_last_commit: 6ad953b
git_last_commit_date: 2023-10-24 09:52:59 -0500
kjohnson1macOS 13.6.1 Ventura / arm64  OK    OK    OK    OK  UNNEEDED, same version is already published
Package 11/100HostnameOS / ArchINSTALLBUILDCHECKBUILD BIN
ChIPanalyser 1.24.0  (landing page)
Patrick C.N. Martin
git_last_commit: c88afcb
git_last_commit_date: 2023-10-24 10:59:22 -0500
kjohnson1macOS 13.6.1 Ventura / arm64  OK    OK    OK    OK  UNNEEDED, same version is already published
Package 12/100HostnameOS / ArchINSTALLBUILDCHECKBUILD BIN
chromVAR 1.24.0  (landing page)
Alicia Schep
git_last_commit: e2d61b0
git_last_commit_date: 2023-10-24 11:00:14 -0500
kjohnson1macOS 13.6.1 Ventura / arm64  OK    OK    OK    OK  NO, package depends on 'TFBSTools' which is only available as a source package that needs compilation
Package 13/100HostnameOS / ArchINSTALLBUILDCHECKBUILD BIN
circRNAprofiler 1.16.0  (landing page)
Simona Aufiero
git_last_commit: 39fe35b
git_last_commit_date: 2023-10-24 11:15:12 -0500
kjohnson1macOS 13.6.1 Ventura / arm64  OK    OK    OK    OK  UNNEEDED, same version is already published
Package 14/100HostnameOS / ArchINSTALLBUILDCHECKBUILD BIN
cleanUpdTSeq 1.40.0  (landing page)
Jianhong Ou ; Lihua Julie Zhu
git_last_commit: a14f6c9
git_last_commit_date: 2023-10-24 09:54:49 -0500
kjohnson1macOS 13.6.1 Ventura / arm64  OK    OK    OK    OK  UNNEEDED, same version is already published
Package 15/100HostnameOS / ArchINSTALLBUILDCHECKBUILD BIN
cliProfiler 1.8.0  (landing page)
You Zhou
git_last_commit: 0b11936
git_last_commit_date: 2023-10-24 11:37:13 -0500
kjohnson1macOS 13.6.1 Ventura / arm64  OK    OK    OK    OK  UNNEEDED, same version is already published
Package 16/100HostnameOS / ArchINSTALLBUILDCHECKBUILD BIN
crisprBowtie 1.6.0  (landing page)
Jean-Philippe Fortin
git_last_commit: 8e28fd8
git_last_commit_date: 2023-10-24 11:39:40 -0500
kjohnson1macOS 13.6.1 Ventura / arm64  OK    OK    OK    OK  UNNEEDED, same version is already published
Package 17/100HostnameOS / ArchINSTALLBUILDCHECKBUILD BIN
crisprBwa 1.6.0  (landing page)
Jean-Philippe Fortin
git_last_commit: e4775a7
git_last_commit_date: 2023-10-24 11:41:41 -0500
kjohnson1macOS 13.6.1 Ventura / arm64  OK    OK    OK    OK  UNNEEDED, same version is already published
Package 18/100HostnameOS / ArchINSTALLBUILDCHECKBUILD BIN
crisprDesign 1.4.0  (landing page)
Jean-Philippe Fortin
git_last_commit: 47405b3
git_last_commit_date: 2023-10-24 11:43:12 -0500
kjohnson1macOS 13.6.1 Ventura / arm64  OK    OK    OK    OK  UNNEEDED, same version is already published
Package 19/100HostnameOS / ArchINSTALLBUILDCHECKBUILD BIN
CRISPRseek 1.42.0  (landing page)
Lihua Julie Zhu
git_last_commit: bd578a5
git_last_commit_date: 2023-10-24 09:56:49 -0500
kjohnson1macOS 13.6.1 Ventura / arm64  OK    OK    TIMEOUT    OK  
Package 20/100HostnameOS / ArchINSTALLBUILDCHECKBUILD BIN
crisprseekplus 1.28.0  (landing page)
Alper Kucukural
git_last_commit: 8338d72
git_last_commit_date: 2023-10-24 10:53:40 -0500
kjohnson1macOS 13.6.1 Ventura / arm64  OK    OK    OK    OK  UNNEEDED, same version is already published
Package 21/100HostnameOS / ArchINSTALLBUILDCHECKBUILD BIN
crisprViz 1.4.0  (landing page)
Jean-Philippe Fortin
git_last_commit: 1275317
git_last_commit_date: 2023-10-24 11:44:10 -0500
kjohnson1macOS 13.6.1 Ventura / arm64  OK    OK    OK    OK  UNNEEDED, same version is already published
Package 22/100HostnameOS / ArchINSTALLBUILDCHECKBUILD BIN
diffHic 1.34.0  (landing page)
Aaron Lun
git_last_commit: d7d9f66
git_last_commit_date: 2023-10-24 10:43:16 -0500
kjohnson1macOS 13.6.1 Ventura / arm64  OK    OK    WARNINGS    OK  UNNEEDED, same version is already published
Package 23/100HostnameOS / ArchINSTALLBUILDCHECKBUILD BIN
dpeak 1.14.0  (landing page)
Dongjun Chung
git_last_commit: 174adc9
git_last_commit_date: 2023-10-24 11:21:57 -0500
kjohnson1macOS 13.6.1 Ventura / arm64  OK    OK    OK    OK  UNNEEDED, same version is already published
Package 24/100HostnameOS / ArchINSTALLBUILDCHECKBUILD BIN
enhancerHomologSearch 1.8.3  (landing page)
Jianhong Ou
git_last_commit: f2f7a74
git_last_commit_date: 2024-02-06 11:45:52 -0500
kjohnson1macOS 13.6.1 Ventura / arm64  OK    OK    OK    OK  NO, package depends on 'motifmatchr' which is only available as a source package that needs compilation
Package 25/100HostnameOS / ArchINSTALLBUILDCHECKBUILD BIN
enrichTF 1.18.0  (landing page)
Zheng Wei
git_last_commit: fab8b47
git_last_commit_date: 2023-10-24 11:13:36 -0500
kjohnson1macOS 13.6.1 Ventura / arm64  OK    OK    OK    OK  NO, package depends on 'motifmatchr' which is only available as a source package that needs compilation
Package 26/100HostnameOS / ArchINSTALLBUILDCHECKBUILD BIN
esATAC 1.24.0  (landing page)
Zheng Wei
git_last_commit: fc5274b
git_last_commit_date: 2023-10-24 11:01:27 -0500
kjohnson1macOS 13.6.1 Ventura / arm64  OK    OK    OK    OK  NO, package depends on 'TFBSTools' which is only available as a source package that needs compilation
Package 27/100HostnameOS / ArchINSTALLBUILDCHECKBUILD BIN
EventPointer 3.10.0  (landing page)
Juan A. Ferrer-Bonsoms
git_last_commit: 3989887
git_last_commit_date: 2023-10-24 10:55:44 -0500
kjohnson1macOS 13.6.1 Ventura / arm64  OK    OK    OK    OK  UNNEEDED, same version is already published
Package 28/100HostnameOS / ArchINSTALLBUILDCHECKBUILD BIN
exomePeak2 1.14.3  (landing page)
Zhen Wei
git_last_commit: 8d265ea
git_last_commit_date: 2023-11-26 20:47:38 -0500
kjohnson1macOS 13.6.1 Ventura / arm64  OK    OK    OK    OK  UNNEEDED, same version is already published
Package 29/100HostnameOS / ArchINSTALLBUILDCHECKBUILD BIN
FRASER 1.14.1  (landing page)
Christian Mertes
git_last_commit: 0a7204b
git_last_commit_date: 2024-02-11 14:03:18 -0500
kjohnson1macOS 13.6.1 Ventura / arm64  OK    OK    OK    OK  UNNEEDED, same version is already published
Package 30/100HostnameOS / ArchINSTALLBUILDCHECKBUILD BIN
gcapc 1.26.0  (landing page)
Mingxiang Teng
git_last_commit: ceff70c
git_last_commit_date: 2023-10-24 10:54:29 -0500
kjohnson1macOS 13.6.1 Ventura / arm64  OK    OK    OK    OK  UNNEEDED, same version is already published
Package 31/100HostnameOS / ArchINSTALLBUILDCHECKBUILD BIN
genomation 1.34.0  (landing page)
Altuna Akalin , Vedran Franke
git_last_commit: accaf9c
git_last_commit_date: 2023-10-24 10:40:33 -0500
kjohnson1macOS 13.6.1 Ventura / arm64  OK    OK    WARNINGS    OK  UNNEEDED, same version is already published
Package 32/100HostnameOS / ArchINSTALLBUILDCHECKBUILD BIN
GenVisR 1.34.0  (landing page)
Zachary Skidmore
git_last_commit: 99c427b
git_last_commit_date: 2023-10-24 10:47:14 -0500
kjohnson1macOS 13.6.1 Ventura / arm64  OK    OK    OK    OK  UNNEEDED, same version is already published
Package 33/100HostnameOS / ArchINSTALLBUILDCHECKBUILD BIN
ggbio 1.50.0  (landing page)
Michael Lawrence
git_last_commit: ec89905
git_last_commit_date: 2023-10-24 09:48:30 -0500
kjohnson1macOS 13.6.1 Ventura / arm64  OK    OK    WARNINGS    OK  UNNEEDED, same version is already published
Package 34/100HostnameOS / ArchINSTALLBUILDCHECKBUILD BIN
gmapR 1.44.0  (landing page)
Michael Lawrence
git_last_commit: 5a7a726
git_last_commit_date: 2024-01-18 16:27:39 -0500
kjohnson1macOS 13.6.1 Ventura / arm64  OK    OK    WARNINGS    OK  UNNEEDED, same version is already published
Package 35/100HostnameOS / ArchINSTALLBUILDCHECKBUILD BIN
GOTHiC 1.38.0  (landing page)
Borbala Mifsud
git_last_commit: 809ce7c
git_last_commit_date: 2023-10-24 11:15:00 -0500
kjohnson1macOS 13.6.1 Ventura / arm64  OK    OK    OK    OK  UNNEEDED, same version is already published
Package 36/100HostnameOS / ArchINSTALLBUILDCHECKBUILD BIN
GreyListChIP 1.34.0  (landing page)
Matt Eldridge
git_last_commit: 75f5a62
git_last_commit_date: 2023-10-24 10:41:19 -0500
kjohnson1macOS 13.6.1 Ventura / arm64  OK    OK    OK    OK  UNNEEDED, same version is already published
Package 37/100HostnameOS / ArchINSTALLBUILDCHECKBUILD BIN
GUIDEseq 1.32.0  (landing page)
Lihua Julie Zhu
git_last_commit: d675d44
git_last_commit_date: 2023-10-24 10:45:51 -0500
kjohnson1macOS 13.6.1 Ventura / arm64  OK    OK    OK    OK  UNNEEDED, same version is already published
Package 38/100HostnameOS / ArchINSTALLBUILDCHECKBUILD BIN
Gviz 1.46.1  (landing page)
Robert Ivanek
git_last_commit: ef98aa8
git_last_commit_date: 2023-11-16 09:48:08 -0500
kjohnson1macOS 13.6.1 Ventura / arm64  OK    OK    OK    OK  UNNEEDED, same version is already published
Package 39/100HostnameOS / ArchINSTALLBUILDCHECKBUILD BIN
HelloRanges 1.28.0  (landing page)
Michael Lawrence
git_last_commit: 8cafa1f
git_last_commit_date: 2023-10-24 10:53:38 -0500
kjohnson1macOS 13.6.1 Ventura / arm64  OK    ERROR  skippedskipped
Package 40/100HostnameOS / ArchINSTALLBUILDCHECKBUILD BIN
hiAnnotator 1.36.0  (landing page)
Nirav V Malani
git_last_commit: 5c4211d
git_last_commit_date: 2023-10-24 09:59:04 -0500
kjohnson1macOS 13.6.1 Ventura / arm64  OK    OK    OK    OK  UNNEEDED, same version is already published
Package 41/100HostnameOS / ArchINSTALLBUILDCHECKBUILD BIN
HiCDCPlus 1.10.0  (landing page)
Merve Sahin
git_last_commit: 6ebd031
git_last_commit_date: 2023-10-24 11:29:59 -0500
kjohnson1macOS 13.6.1 Ventura / arm64  OK    OK    OK    OK  UNNEEDED, same version is already published
Package 42/100HostnameOS / ArchINSTALLBUILDCHECKBUILD BIN
InPAS 2.10.0  (landing page)
Jianhong Ou
git_last_commit: a2f3538
git_last_commit_date: 2023-10-24 10:42:15 -0500
kjohnson1macOS 13.6.1 Ventura / arm64  OK    OK    OK    OK  UNNEEDED, same version is already published
Package 43/100HostnameOS / ArchINSTALLBUILDCHECKBUILD BIN
IsoformSwitchAnalyzeR 2.2.0  (landing page)
Kristoffer Vitting-Seerup
git_last_commit: 172bcd1
git_last_commit_date: 2023-10-24 10:57:42 -0500
kjohnson1macOS 13.6.1 Ventura / arm64  OK    OK    OK    OK  UNNEEDED, same version is already published
Package 44/100HostnameOS / ArchINSTALLBUILDCHECKBUILD BIN
katdetectr 1.4.0  (landing page)
Daan Hazelaar
git_last_commit: 579e2f8
git_last_commit_date: 2023-10-24 11:42:37 -0500
kjohnson1macOS 13.6.1 Ventura / arm64  ERROR    ERROR  skippedskipped
Package 45/100HostnameOS / ArchINSTALLBUILDCHECKBUILD BIN
m6Aboost 1.8.0  (landing page)
You Zhou
git_last_commit: c64f738
git_last_commit_date: 2023-10-24 11:34:23 -0500
kjohnson1macOS 13.6.1 Ventura / arm64  OK    OK    OK    OK  UNNEEDED, same version is already published
Package 46/100HostnameOS / ArchINSTALLBUILDCHECKBUILD BIN
MADSEQ 1.28.0  (landing page)
Yu Kong
git_last_commit: 2448026
git_last_commit_date: 2023-10-24 10:50:43 -0500
kjohnson1macOS 13.6.1 Ventura / arm64  OK    OK    OK    OK  UNNEEDED, same version is already published
Package 47/100HostnameOS / ArchINSTALLBUILDCHECKBUILD BIN
MEDIPS 1.54.0  (landing page)
Lukas Chavez
git_last_commit: a174f2a
git_last_commit_date: 2023-10-24 09:45:13 -0500
kjohnson1macOS 13.6.1 Ventura / arm64  ERROR    ERROR  skippedskipped
Package 48/100HostnameOS / ArchINSTALLBUILDCHECKBUILD BIN
methrix 1.16.0  (landing page)
Anand Mayakonda
git_last_commit: 6ed5233
git_last_commit_date: 2023-10-24 11:17:51 -0500
kjohnson1macOS 13.6.1 Ventura / arm64  OK    OK    OK    OK  UNNEEDED, same version is already published
Package 49/100HostnameOS / ArchINSTALLBUILDCHECKBUILD BIN
MethylSeekR 1.42.0  (landing page)
Lukas Burger
git_last_commit: 40b73b2
git_last_commit_date: 2023-10-24 09:52:39 -0500
kjohnson1macOS 13.6.1 Ventura / arm64  OK    OK    OK    OK  UNNEEDED, same version is already published
Package 50/100HostnameOS / ArchINSTALLBUILDCHECKBUILD BIN
MMDiff2 1.30.0  (landing page)
Gabriele Schweikert
git_last_commit: 59a5822
git_last_commit_date: 2023-10-24 10:50:12 -0500
kjohnson1macOS 13.6.1 Ventura / arm64  OK    OK    OK    OK  UNNEEDED, same version is already published
Package 51/100HostnameOS / ArchINSTALLBUILDCHECKBUILD BIN
monaLisa 1.8.0  (landing page)
Michael Stadler
git_last_commit: 81a9ca4
git_last_commit_date: 2023-10-24 11:36:43 -0500
kjohnson1macOS 13.6.1 Ventura / arm64  OK    OK    ERROR    OK  
Package 52/100HostnameOS / ArchINSTALLBUILDCHECKBUILD BIN
Motif2Site 1.6.0  (landing page)
Peyman Zarrineh
git_last_commit: 9150ae7
git_last_commit_date: 2023-10-24 11:39:38 -0500
kjohnson1macOS 13.6.1 Ventura / arm64  OK    OK    OK    OK  UNNEEDED, same version is already published
Package 53/100HostnameOS / ArchINSTALLBUILDCHECKBUILD BIN
motifbreakR 2.16.0  (landing page)
Simon Gert Coetzee
git_last_commit: 741df7f
git_last_commit_date: 2023-10-24 10:45:13 -0500
kjohnson1macOS 13.6.1 Ventura / arm64  OK    OK    WARNINGS    OK  UNNEEDED, same version is already published
Package 54/100HostnameOS / ArchINSTALLBUILDCHECKBUILD BIN
motifmatchr 1.24.0  (landing page)
Alicia Schep
git_last_commit: 4051143
git_last_commit_date: 2023-10-24 10:57:39 -0500
kjohnson1macOS 13.6.1 Ventura / arm64  OK    OK    OK    OK  NO, package depends on 'TFBSTools' which is only available as a source package that needs compilation
Package 55/100HostnameOS / ArchINSTALLBUILDCHECKBUILD BIN
msgbsR 1.26.0  (landing page)
Benjamin Mayne
git_last_commit: 0b34e7d
git_last_commit_date: 2023-10-24 10:57:23 -0500
kjohnson1macOS 13.6.1 Ventura / arm64  OK    OK    OK    OK  UNNEEDED, same version is already published
Package 56/100HostnameOS / ArchINSTALLBUILDCHECKBUILD BIN
multicrispr 1.12.3  (landing page)
Aditya Bhagwat
git_last_commit: fdead8c
git_last_commit_date: 2023-11-13 04:55:16 -0500
kjohnson1macOS 13.6.1 Ventura / arm64  OK    OK    OK    OK  UNNEEDED, same version is already published
Package 57/100HostnameOS / ArchINSTALLBUILDCHECKBUILD BIN
MungeSumstats 1.10.1  (landing page)
Alan Murphy
git_last_commit: 83ed5fb
git_last_commit_date: 2023-10-26 06:36:40 -0500
kjohnson1macOS 13.6.1 Ventura / arm64  OK    OK    OK    OK  UNNEEDED, same version is already published
Package 58/100HostnameOS / ArchINSTALLBUILDCHECKBUILD BIN
musicatk 1.12.0  (landing page)
Aaron Chevalier
git_last_commit: 69a345e
git_last_commit_date: 2023-10-24 11:27:12 -0500
kjohnson1macOS 13.6.1 Ventura / arm64  ERROR    ERROR  skippedskipped
Package 59/100HostnameOS / ArchINSTALLBUILDCHECKBUILD BIN
MutationalPatterns 3.12.0  (landing page)
Mark van Roosmalen
git_last_commit: 072c251
git_last_commit_date: 2023-10-24 10:53:35 -0500
kjohnson1macOS 13.6.1 Ventura / arm64  OK    ERROR  skippedskipped
Package 60/100HostnameOS / ArchINSTALLBUILDCHECKBUILD BIN
ORFik 1.22.1  (landing page)
Haakon Tjeldnes
git_last_commit: 68311e4
git_last_commit_date: 2023-12-08 03:55:13 -0500
kjohnson1macOS 13.6.1 Ventura / arm64  ERROR    ERROR  skippedskipped
Package 61/100HostnameOS / ArchINSTALLBUILDCHECKBUILD BIN
periodicDNA 1.12.0  (landing page)
Jacques Serizay
git_last_commit: 70bd9f4
git_last_commit_date: 2023-10-24 11:25:19 -0500
kjohnson1macOS 13.6.1 Ventura / arm64  OK    OK    WARNINGS    OK  UNNEEDED, same version is already published
Package 62/100HostnameOS / ArchINSTALLBUILDCHECKBUILD BIN
PING 2.46.0  (landing page)
Renan Sauteraud
git_last_commit: 49706e2
git_last_commit_date: 2023-10-24 09:49:31 -0500
kjohnson1macOS 13.6.1 Ventura / arm64  OK    OK    WARNINGS    OK  UNNEEDED, same version is already published
Package 63/100HostnameOS / ArchINSTALLBUILDCHECKBUILD BIN
pipeFrame 1.18.0  (landing page)
Zheng Wei
git_last_commit: a212a9e
git_last_commit_date: 2023-10-24 11:13:25 -0500
kjohnson1macOS 13.6.1 Ventura / arm64  OK    OK    OK    OK  UNNEEDED, same version is already published
Package 64/100HostnameOS / ArchINSTALLBUILDCHECKBUILD BIN
podkat 1.34.0  (landing page)
Ulrich Bodenhofer
git_last_commit: 0a4ab12
git_last_commit_date: 2023-10-24 10:42:31 -0500
kjohnson1macOS 13.6.1 Ventura / arm64  OK    ERROR  skippedskipped
Package 65/100HostnameOS / ArchINSTALLBUILDCHECKBUILD BIN
qsea 1.28.0  (landing page)
Matthias Lienhard
git_last_commit: f1623a1
git_last_commit_date: 2023-10-24 10:51:07 -0500
kjohnson1macOS 13.6.1 Ventura / arm64  OK    OK    OK    OK  UNNEEDED, same version is already published
Package 66/100HostnameOS / ArchINSTALLBUILDCHECKBUILD BIN
QuasR 1.42.1  (landing page)
Michael Stadler
git_last_commit: 04c8406
git_last_commit_date: 2023-11-01 08:10:31 -0500
kjohnson1macOS 13.6.1 Ventura / arm64  OK    OK    WARNINGS    OK  UNNEEDED, same version is already published
Package 67/100HostnameOS / ArchINSTALLBUILDCHECKBUILD BIN
R453Plus1Toolbox 1.52.0  (landing page)
Hans-Ulrich Klein
git_last_commit: f72252b
git_last_commit_date: 2023-10-24 09:45:08 -0500
kjohnson1macOS 13.6.1 Ventura / arm64  OK    OK    OK    OK  UNNEEDED, same version is already published
Package 68/100HostnameOS / ArchINSTALLBUILDCHECKBUILD BIN
raer 1.0.0  (landing page)
Kent Riemondy
git_last_commit: e9fce7f
git_last_commit_date: 2023-10-24 11:52:07 -0500
kjohnson1macOS 13.6.1 Ventura / arm64  OK    OK    WARNINGS    OK  UNNEEDED, same version is already published
Package 69/100HostnameOS / ArchINSTALLBUILDCHECKBUILD BIN
RAIDS 1.0.0  (landing page)
Pascal Belleau
git_last_commit: 12ea1e7
git_last_commit_date: 2023-10-24 11:51:36 -0500
kjohnson1macOS 13.6.1 Ventura / arm64  ERROR    ERROR  skippedskipped
Package 70/100HostnameOS / ArchINSTALLBUILDCHECKBUILD BIN
RareVariantVis 2.30.0  (landing page)
Tomasz Stokowy
git_last_commit: 3234d00
git_last_commit_date: 2023-10-24 10:43:51 -0500
kjohnson1macOS 13.6.1 Ventura / arm64  OK    OK    OK    OK  UNNEEDED, same version is already published
Package 71/100HostnameOS / ArchINSTALLBUILDCHECKBUILD BIN
RCAS 1.28.3  (landing page)
Bora Uyar
git_last_commit: f3b9047
git_last_commit_date: 2024-02-04 15:28:43 -0500
kjohnson1macOS 13.6.1 Ventura / arm64  OK    OK    OK    OK  UNNEEDED, same version is already published
Package 72/100HostnameOS / ArchINSTALLBUILDCHECKBUILD BIN
REDseq 1.48.0  (landing page)
Lihua Julie Zhu
git_last_commit: 883d05f
git_last_commit_date: 2023-10-24 09:46:52 -0500
kjohnson1macOS 13.6.1 Ventura / arm64  OK    OK    OK    OK  UNNEEDED, same version is already published
Package 73/100HostnameOS / ArchINSTALLBUILDCHECKBUILD BIN
regioneR 1.34.0  (landing page)
Bernat Gel
git_last_commit: 769313a
git_last_commit_date: 2023-10-24 10:42:41 -0500
kjohnson1macOS 13.6.1 Ventura / arm64  OK    OK    OK    OK  UNNEEDED, same version is already published
Package 74/100HostnameOS / ArchINSTALLBUILDCHECKBUILD BIN
REMP 1.26.0  (landing page)
Yinan Zheng
git_last_commit: ee4ee19
git_last_commit_date: 2023-10-24 10:55:28 -0500
kjohnson1macOS 13.6.1 Ventura / arm64  OK    OK    OK    OK  UNNEEDED, same version is already published
Package 75/100HostnameOS / ArchINSTALLBUILDCHECKBUILD BIN
Repitools 1.48.0  (landing page)
Mark Robinson
git_last_commit: 2513661
git_last_commit_date: 2023-10-24 09:47:10 -0500
kjohnson1macOS 13.6.1 Ventura / arm64  ERROR    ERROR  skippedskipped
Package 76/100HostnameOS / ArchINSTALLBUILDCHECKBUILD BIN
RESOLVE 1.4.0  (landing page)
Luca De Sano
git_last_commit: 52f4592
git_last_commit_date: 2023-10-24 11:44:49 -0500
kjohnson1macOS 13.6.1 Ventura / arm64  OK    OK    OK    OK  UNNEEDED, same version is already published
Package 77/100HostnameOS / ArchINSTALLBUILDCHECKBUILD BIN
rGADEM 2.50.0  (landing page)
Arnaud Droit
git_last_commit: 2ec7aeb
git_last_commit_date: 2023-10-24 09:43:19 -0500
kjohnson1macOS 13.6.1 Ventura / arm64  OK    OK    OK    OK  UNNEEDED, same version is already published
Package 78/100HostnameOS / ArchINSTALLBUILDCHECKBUILD BIN
ribosomeProfilingQC 1.14.0  (landing page)
Jianhong Ou
git_last_commit: ae73f4a
git_last_commit_date: 2023-10-24 11:19:41 -0500
kjohnson1macOS 13.6.1 Ventura / arm64  OK    OK    OK    OK  UNNEEDED, same version is already published
Package 79/100HostnameOS / ArchINSTALLBUILDCHECKBUILD BIN
RNAmodR 1.16.0  (landing page)
Felix G.M. Ernst
git_last_commit: 721aa3d
git_last_commit_date: 2023-10-24 11:14:34 -0500
kjohnson1macOS 13.6.1 Ventura / arm64  OK    OK    OK    OK  UNNEEDED, same version is already published
Package 80/100HostnameOS / ArchINSTALLBUILDCHECKBUILD BIN
scmeth 1.22.0  (landing page)
Divy Kangeyan
git_last_commit: 39a201a
git_last_commit_date: 2023-10-24 11:02:56 -0500
kjohnson1macOS 13.6.1 Ventura / arm64  OK    OK    OK    OK  UNNEEDED, same version is already published
Package 81/100HostnameOS / ArchINSTALLBUILDCHECKBUILD BIN
SCOPE 1.14.0  (landing page)
Rujin Wang
git_last_commit: 11e3191
git_last_commit_date: 2023-10-24 11:19:30 -0500
kjohnson1macOS 13.6.1 Ventura / arm64  ERROR    ERROR  skippedskipped
Package 82/100HostnameOS / ArchINSTALLBUILDCHECKBUILD BIN
seqArchRplus 1.2.0  (landing page)
Sarvesh Nikumbh
git_last_commit: ce8bb37
git_last_commit_date: 2023-10-24 11:45:43 -0500
kjohnson1macOS 13.6.1 Ventura / arm64  OK    OK    OK    OK  UNNEEDED, same version is already published
Package 83/100HostnameOS / ArchINSTALLBUILDCHECKBUILD BIN
signeR 2.4.0  (landing page)
Renan Valieris
git_last_commit: 5464986
git_last_commit_date: 2023-10-24 10:52:34 -0500
kjohnson1macOS 13.6.1 Ventura / arm64  OK    OK    OK    OK  UNNEEDED, same version is already published
Package 84/100HostnameOS / ArchINSTALLBUILDCHECKBUILD BIN
SigsPack 1.16.0  (landing page)
Franziska Schumann
git_last_commit: bbf5709
git_last_commit_date: 2023-10-24 11:15:49 -0500
kjohnson1macOS 13.6.1 Ventura / arm64  OK    OK    OK    OK  UNNEEDED, same version is already published
Package 85/100HostnameOS / ArchINSTALLBUILDCHECKBUILD BIN
SingleMoleculeFootprinting 1.10.0  (landing page)
Guido Barzaghi
git_last_commit: 44ae1a2
git_last_commit_date: 2023-10-24 11:34:06 -0500
kjohnson1macOS 13.6.1 Ventura / arm64  OK    OK    OK    OK  UNNEEDED, same version is already published
Package 86/100HostnameOS / ArchINSTALLBUILDCHECKBUILD BIN
SparseSignatures 2.12.0  (landing page)
Luca De Sano
git_last_commit: 761604b
git_last_commit_date: 2023-10-24 11:04:29 -0500
kjohnson1macOS 13.6.1 Ventura / arm64  OK    OK    OK    OK  UNNEEDED, same version is already published
Package 87/100HostnameOS / ArchINSTALLBUILDCHECKBUILD BIN
spatzie 1.8.0  (landing page)
Jennifer Hammelman
git_last_commit: a9dbc03
git_last_commit_date: 2023-10-24 11:35:19 -0500
kjohnson1macOS 13.6.1 Ventura / arm64  OK    OK    OK    OK  NO, package depends on 'motifmatchr' which is only available as a source package that needs compilation
Package 88/100HostnameOS / ArchINSTALLBUILDCHECKBUILD BIN
spiky 1.8.0  (landing page)
Tim Triche
git_last_commit: 9732d52
git_last_commit_date: 2023-10-24 11:34:17 -0500
kjohnson1macOS 13.6.1 Ventura / arm64  OK    OK    OK    OK  UNNEEDED, same version is already published
Package 89/100HostnameOS / ArchINSTALLBUILDCHECKBUILD BIN
SpliceWiz 1.4.1  (landing page)
Alex Chit Hei Wong
git_last_commit: e98216c
git_last_commit_date: 2024-01-04 23:20:45 -0500
kjohnson1macOS 13.6.1 Ventura / arm64  OK    OK    OK    OK  UNNEEDED, same version is already published
Package 90/100HostnameOS / ArchINSTALLBUILDCHECKBUILD BIN
TAPseq 1.14.1  (landing page)
Andreas R. Gschwind
git_last_commit: bc862df
git_last_commit_date: 2023-11-06 23:39:08 -0500
kjohnson1macOS 13.6.1 Ventura / arm64  OK    OK    WARNINGS    OK  UNNEEDED, same version is already published
Package 91/100HostnameOS / ArchINSTALLBUILDCHECKBUILD BIN
TFBSTools 1.40.0  (landing page)
Ge Tan
git_last_commit: c3a176b
git_last_commit_date: 2023-10-24 09:56:29 -0500
kjohnson1macOS 13.6.1 Ventura / arm64  OK    OK    OK    OK  NO, package depends on 'CNEr' which is only available as a source package that needs compilation
Package 92/100HostnameOS / ArchINSTALLBUILDCHECKBUILD BIN
trena 1.24.0  (landing page)
Paul Shannon
git_last_commit: 32af010
git_last_commit_date: 2023-10-24 10:57:26 -0500
kjohnson1macOS 13.6.1 Ventura / arm64  OK    OK    WARNINGS    OK  UNNEEDED, same version is already published
Package 93/100HostnameOS / ArchINSTALLBUILDCHECKBUILD BIN
tRNAscanImport 1.22.0  (landing page)
Felix G.M. Ernst
git_last_commit: 2f69582
git_last_commit_date: 2023-10-24 11:03:16 -0500
kjohnson1macOS 13.6.1 Ventura / arm64  OK    OK    OK    OK  UNNEEDED, same version is already published
Package 94/100HostnameOS / ArchINSTALLBUILDCHECKBUILD BIN
Ularcirc 1.20.0  (landing page)
David Humphreys
git_last_commit: 65fe081
git_last_commit_date: 2023-10-24 11:05:57 -0500
kjohnson1macOS 13.6.1 Ventura / arm64  OK    OK    WARNINGS    OK  UNNEEDED, same version is already published
Package 95/100HostnameOS / ArchINSTALLBUILDCHECKBUILD BIN
UMI4Cats 1.12.0  (landing page)
Mireia Ramos-Rodriguez
git_last_commit: df941ac
git_last_commit_date: 2023-10-24 11:24:33 -0500
kjohnson1macOS 13.6.1 Ventura / arm64  OK    OK    OK    OK  UNNEEDED, same version is already published
Package 96/100HostnameOS / ArchINSTALLBUILDCHECKBUILD BIN
VarCon 1.10.0  (landing page)
Johannes Ptok
git_last_commit: 7d6b51f
git_last_commit_date: 2023-10-24 11:28:11 -0500
kjohnson1macOS 13.6.1 Ventura / arm64  OK    OK    OK    OK  UNNEEDED, same version is already published
Package 97/100HostnameOS / ArchINSTALLBUILDCHECKBUILD BIN
VariantAnnotation 1.48.1  (landing page)
Bioconductor Package Maintainer
git_last_commit: ef918f8
git_last_commit_date: 2023-11-15 01:47:30 -0500
kjohnson1macOS 13.6.1 Ventura / arm64  OK    OK    WARNINGS    OK  UNNEEDED, same version is already published
Package 98/100HostnameOS / ArchINSTALLBUILDCHECKBUILD BIN
VariantFiltering 1.38.0  (landing page)
Robert Castelo
git_last_commit: fa37d53
git_last_commit_date: 2023-10-24 09:58:34 -0500
kjohnson1macOS 13.6.1 Ventura / arm64  OK    OK    OK    OK  UNNEEDED, same version is already published
Package 99/100HostnameOS / ArchINSTALLBUILDCHECKBUILD BIN
VariantTools 1.44.0  (landing page)
Michael Lawrence
git_last_commit: 905b2d2
git_last_commit_date: 2023-10-24 09:51:46 -0500
kjohnson1macOS 13.6.1 Ventura / arm64  OK    OK    WARNINGS    OK  UNNEEDED, same version is already published
Package 100/100HostnameOS / ArchINSTALLBUILDCHECKBUILD BIN
XNAString 1.10.0  (landing page)
Marianna Plucinska
git_last_commit: 2237ef8
git_last_commit_date: 2023-10-24 11:33:33 -0500
kjohnson1macOS 13.6.1 Ventura / arm64  OK    OK    WARNINGS    OK  UNNEEDED, same version is already published