Back to Mac ARM64 build report for BioC 3.18
AB[C]DEFGHIJKLMNOPQRSTUVWXYZ

This page was generated on 2024-03-28 11:32:07 -0400 (Thu, 28 Mar 2024).

HostnameOSArch (*)R versionInstalled pkgs
kjohnson1macOS 13.6.1 Venturaarm644.3.3 (2024-02-29) -- "Angel Food Cake" 4376
Click on any hostname to see more info about the system (e.g. compilers)      (*) as reported by 'uname -p', except on Windows and Mac OS X

All results for package cytomapper


To the developers/maintainers of the cytomapper package:
- Use the following Renviron settings to reproduce errors and warnings.
- If 'R CMD check' started to fail recently on the Linux builder(s) over a missing dependency, add the missing dependency to 'Suggests:' in your DESCRIPTION file. See Renviron.bioc for more information.

raw results

Package 489/2266HostnameOS / ArchINSTALLBUILDCHECKBUILD BIN
cytomapper 1.14.0  (landing page)
Nils Eling
Snapshot Date: 2024-03-26 09:00:03 -0400 (Tue, 26 Mar 2024)
git_url: https://git.bioconductor.org/packages/cytomapper
git_branch: RELEASE_3_18
git_last_commit: 2e891af
git_last_commit_date: 2023-10-24 11:20:45 -0400 (Tue, 24 Oct 2023)
kjohnson1macOS 13.6.1 Ventura / arm64  OK    OK    OK    OK  UNNEEDED, same version is already published

Results for Bioconductor software packages that depend directly on package cytomapper

QUICK STATSOS / ArchINSTALLBUILDCHECKBUILD BIN
kjohnson1macOS 13.6.1 Ventura / arm64
003
003
0102
003
Package 1/3HostnameOS / ArchINSTALLBUILDCHECKBUILD BIN
cytoviewer 1.2.0  (landing page)
Lasse Meyer
git_last_commit: 96bf9c6
git_last_commit_date: 2023-10-24 11:47:56 -0400
kjohnson1macOS 13.6.1 Ventura / arm64  OK    OK    OK    OK  UNNEEDED, same version is already published
Package 2/3HostnameOS / ArchINSTALLBUILDCHECKBUILD BIN
imcRtools 1.8.0  (landing page)
Nils Eling
git_last_commit: 5dc066a
git_last_commit_date: 2023-10-24 11:36:40 -0400
kjohnson1macOS 13.6.1 Ventura / arm64  OK    OK    ERROR    OK  
Package 3/3HostnameOS / ArchINSTALLBUILDCHECKBUILD BIN
simpleSeg 1.4.1  (landing page)
Ellis Patrick
git_last_commit: d1db456
git_last_commit_date: 2023-12-10 19:34:26 -0400
kjohnson1macOS 13.6.1 Ventura / arm64  OK    OK    OK    OK  UNNEEDED, same version is already published