Back to Mac ARM64 build report for BioC 3.18
ABCDEFG[H]IJKLMNOPQRSTUVWXYZ

This page was generated on 2024-02-22 11:32:08 -0500 (Thu, 22 Feb 2024).

HostnameOSArch (*)R versionInstalled pkgs
kjohnson1macOS 13.6.1 Venturaarm644.3.2 (2023-10-31) -- "Eye Holes" 4300
Click on any hostname to see more info about the system (e.g. compilers)      (*) as reported by 'uname -p', except on Windows and Mac OS X

All results for package HelloRanges


To the developers/maintainers of the HelloRanges package:
- Use the following Renviron settings to reproduce errors and warnings.
- If 'R CMD check' started to fail recently on the Linux builder(s) over a missing dependency, add the missing dependency to 'Suggests:' in your DESCRIPTION file. See Renviron.bioc for more information.

raw results

Package 939/2266HostnameOS / ArchINSTALLBUILDCHECKBUILD BIN
HelloRanges 1.28.0  (landing page)
Michael Lawrence
Snapshot Date: 2024-02-20 09:00:03 -0500 (Tue, 20 Feb 2024)
git_url: https://git.bioconductor.org/packages/HelloRanges
git_branch: RELEASE_3_18
git_last_commit: 8cafa1f
git_last_commit_date: 2023-10-24 10:53:38 -0500 (Tue, 24 Oct 2023)
kjohnson1macOS 13.6.1 Ventura / arm64  OK    ERROR  skippedskipped

Results for Bioconductor software packages that depend directly on package HelloRanges

QUICK STATSOS / ArchINSTALLBUILDCHECKBUILD BIN
kjohnson1macOS 13.6.1 Ventura / arm64
001
001
0001
001
Package 1/1HostnameOS / ArchINSTALLBUILDCHECKBUILD BIN
OMICsPCA 1.20.0  (landing page)
Subhadeep Das
git_last_commit: fbf1917
git_last_commit_date: 2023-10-24 11:08:12 -0500
kjohnson1macOS 13.6.1 Ventura / arm64  OK    OK    OK    OK  UNNEEDED, same version is already published