Back to Mac ARM64 build report for BioC 3.18
ABCDEFGHIJKLMNOPQ[R]STUVWXYZ

This page was generated on 2024-02-22 11:32:10 -0500 (Thu, 22 Feb 2024).

HostnameOSArch (*)R versionInstalled pkgs
kjohnson1macOS 13.6.1 Venturaarm644.3.2 (2023-10-31) -- "Eye Holes" 4300
Click on any hostname to see more info about the system (e.g. compilers)      (*) as reported by 'uname -p', except on Windows and Mac OS X

All results for package Repitools


To the developers/maintainers of the Repitools package:
- Use the following Renviron settings to reproduce errors and warnings.
- If 'R CMD check' started to fail recently on the Linux builder(s) over a missing dependency, add the missing dependency to 'Suggests:' in your DESCRIPTION file. See Renviron.bioc for more information.

raw results

Package 1717/2266HostnameOS / ArchINSTALLBUILDCHECKBUILD BIN
Repitools 1.48.0  (landing page)
Mark Robinson
Snapshot Date: 2024-02-20 09:00:03 -0500 (Tue, 20 Feb 2024)
git_url: https://git.bioconductor.org/packages/Repitools
git_branch: RELEASE_3_18
git_last_commit: 2513661
git_last_commit_date: 2023-10-24 09:47:10 -0500 (Tue, 24 Oct 2023)
kjohnson1macOS 13.6.1 Ventura / arm64  ERROR    ERROR  skippedskipped

Results for Bioconductor software packages that depend directly on package Repitools

QUICK STATSOS / ArchINSTALLBUILDCHECKBUILD BIN
kjohnson1macOS 13.6.1 Ventura / arm64
010
010
0000
000
Package 1/1HostnameOS / ArchINSTALLBUILDCHECKBUILD BIN
OutSplice 1.2.0  (landing page)
Theresa Guo
git_last_commit: 2035f79
git_last_commit_date: 2023-10-24 11:48:51 -0500
kjohnson1macOS 13.6.1 Ventura / arm64  ERROR    ERROR  skippedskipped