Back to Mac ARM64 build report for BioC 3.18
ABCD[E]FGHIJKLMNOPQRSTUVWXYZ

This page was generated on 2024-03-28 11:32:08 -0400 (Thu, 28 Mar 2024).

HostnameOSArch (*)R versionInstalled pkgs
kjohnson1macOS 13.6.1 Venturaarm644.3.3 (2024-02-29) -- "Angel Food Cake" 4376
Click on any hostname to see more info about the system (e.g. compilers)      (*) as reported by 'uname -p', except on Windows and Mac OS X

All results for package EBcoexpress


To the developers/maintainers of the EBcoexpress package:
- Use the following Renviron settings to reproduce errors and warnings.
- If 'R CMD check' started to fail recently on the Linux builder(s) over a missing dependency, add the missing dependency to 'Suggests:' in your DESCRIPTION file. See Renviron.bioc for more information.

raw results

Package 617/2266HostnameOS / ArchINSTALLBUILDCHECKBUILD BIN
EBcoexpress 1.46.0  (landing page)
John A. Dawson
Snapshot Date: 2024-03-26 09:00:03 -0400 (Tue, 26 Mar 2024)
git_url: https://git.bioconductor.org/packages/EBcoexpress
git_branch: RELEASE_3_18
git_last_commit: 85b8c64
git_last_commit_date: 2023-10-24 09:49:57 -0400 (Tue, 24 Oct 2023)
kjohnson1macOS 13.6.1 Ventura / arm64  OK    OK    OK    OK  UNNEEDED, same version is already published