Back to Mac ARM64 build report for BioC 3.19
ABCDEFGHIJKL[M]NOPQRSTUVWXYZ

This page was generated on 2024-05-07 11:32:37 -0400 (Tue, 07 May 2024).

HostnameOSArch (*)R versionInstalled pkgs
kjohnson3macOS 13.6.5 Venturaarm644.4.0 (2024-04-24) -- "Puppy Cup" 4461
Click on any hostname to see more info about the system (e.g. compilers)      (*) as reported by 'uname -p', except on Windows and Mac OS X

Package 1139/2300HostnameOS / ArchINSTALLBUILDCHECKBUILD BIN
Macarron 1.8.0  (landing page)
Sagun Maharjan
Snapshot Date: 2024-05-06 14:00:02 -0400 (Mon, 06 May 2024)
git_url: https://git.bioconductor.org/packages/Macarron
git_branch: RELEASE_3_19
git_last_commit: 0bfd125
git_last_commit_date: 2024-04-30 11:42:21 -0400 (Tue, 30 Apr 2024)
kjohnson3macOS 13.6.5 Ventura / arm64  OK    OK    WARNINGS    OK  UNNEEDED, same version is already published

BUILD results for Macarron on kjohnson3


To the developers/maintainers of the Macarron package:
- Use the following Renviron settings to reproduce errors and warnings.
- If 'R CMD check' started to fail recently on the Linux builder(s) over a missing dependency, add the missing dependency to 'Suggests:' in your DESCRIPTION file. See Renviron.bioc for more information.

raw results


Summary

Package: Macarron
Version: 1.8.0
Command: /Library/Frameworks/R.framework/Resources/bin/R CMD build --keep-empty-dirs --no-resave-data Macarron
StartedAt: 2024-05-06 17:48:06 -0400 (Mon, 06 May 2024)
EndedAt: 2024-05-06 17:48:22 -0400 (Mon, 06 May 2024)
EllapsedTime: 16.2 seconds
RetCode: 0
Status:   OK  
PackageFile: Macarron_1.8.0.tar.gz
PackageFileSize: 577.6 KiB

Command output

##############################################################################
##############################################################################
###
### Running command:
###
###   /Library/Frameworks/R.framework/Resources/bin/R CMD build --keep-empty-dirs --no-resave-data Macarron
###
##############################################################################
##############################################################################


* checking for file ‘Macarron/DESCRIPTION’ ... OK
* preparing ‘Macarron’:
* checking DESCRIPTION meta-information ... OK
* installing the package to build vignettes
* creating vignettes ... OK
* checking for LF line-endings in source and make files and shell scripts
* checking for empty or unneeded directories
* building ‘Macarron_1.8.0.tar.gz’