Back to Mac ARM64 build report for BioC 3.18
ABCDEFG[H]IJKLMNOPQRSTUVWXYZ

This page was generated on 2024-03-28 11:32:10 -0400 (Thu, 28 Mar 2024).

HostnameOSArch (*)R versionInstalled pkgs
kjohnson1macOS 13.6.1 Venturaarm644.3.3 (2024-02-29) -- "Angel Food Cake" 4376
Click on any hostname to see more info about the system (e.g. compilers)      (*) as reported by 'uname -p', except on Windows and Mac OS X

All results for package HiCcompare


To the developers/maintainers of the HiCcompare package:
- Use the following Renviron settings to reproduce errors and warnings.
- If 'R CMD check' started to fail recently on the Linux builder(s) over a missing dependency, add the missing dependency to 'Suggests:' in your DESCRIPTION file. See Renviron.bioc for more information.

raw results

Package 949/2266HostnameOS / ArchINSTALLBUILDCHECKBUILD BIN
HiCcompare 1.24.0  (landing page)
Mikhail Dozmorov
Snapshot Date: 2024-03-26 09:00:03 -0400 (Tue, 26 Mar 2024)
git_url: https://git.bioconductor.org/packages/HiCcompare
git_branch: RELEASE_3_18
git_last_commit: 07ca875
git_last_commit_date: 2023-10-24 10:58:31 -0400 (Tue, 24 Oct 2023)
kjohnson1macOS 13.6.1 Ventura / arm64  OK    OK    OK    OK  UNNEEDED, same version is already published

Results for Bioconductor software packages that depend directly on package HiCcompare

QUICK STATSOS / ArchINSTALLBUILDCHECKBUILD BIN
kjohnson1macOS 13.6.1 Ventura / arm64
003
003
0003
003
Package 1/3HostnameOS / ArchINSTALLBUILDCHECKBUILD BIN
multiHiCcompare 1.20.0  (landing page)
Mikhail Dozmorov
git_last_commit: 2767324
git_last_commit_date: 2023-10-24 11:07:06 -0400
kjohnson1macOS 13.6.1 Ventura / arm64  OK    OK    OK    OK  UNNEEDED, same version is already published
Package 2/3HostnameOS / ArchINSTALLBUILDCHECKBUILD BIN
SpectralTAD 1.18.0  (landing page)
Mikhail Dozmorov
git_last_commit: 380dfcd
git_last_commit_date: 2023-10-24 11:11:17 -0400
kjohnson1macOS 13.6.1 Ventura / arm64  OK    OK    OK    OK  UNNEEDED, same version is already published
Package 3/3HostnameOS / ArchINSTALLBUILDCHECKBUILD BIN
TADCompare 1.12.1  (landing page)
Mikhail Dozmorov
git_last_commit: 81d1913
git_last_commit_date: 2024-02-28 13:42:19 -0400
kjohnson1macOS 13.6.1 Ventura / arm64  OK    OK    OK    OK  UNNEEDED, same version is already published