Back to Mac ARM64 build report for BioC 3.19
ABCDEFGHIJKL[M]NOPQRSTUVWXYZ

This page was generated on 2024-05-07 11:32:24 -0400 (Tue, 07 May 2024).

HostnameOSArch (*)R versionInstalled pkgs
kjohnson3macOS 13.6.5 Venturaarm644.4.0 (2024-04-24) -- "Puppy Cup" 4461
Click on any hostname to see more info about the system (e.g. compilers)      (*) as reported by 'uname -p', except on Windows and Mac OS X

All results for package multiHiCcompare


To the developers/maintainers of the multiHiCcompare package:
- Use the following Renviron settings to reproduce errors and warnings.
- If 'R CMD check' started to fail recently on the Linux builder(s) over a missing dependency, add the missing dependency to 'Suggests:' in your DESCRIPTION file. See Renviron.bioc for more information.

raw results

Package 1378/2300HostnameOS / ArchINSTALLBUILDCHECKBUILD BIN
multiHiCcompare 1.22.0  (landing page)
Mikhail Dozmorov
Snapshot Date: 2024-05-06 14:00:02 -0400 (Mon, 06 May 2024)
git_url: https://git.bioconductor.org/packages/multiHiCcompare
git_branch: RELEASE_3_19
git_last_commit: ac513a5
git_last_commit_date: 2024-04-30 11:08:22 -0400 (Tue, 30 Apr 2024)
kjohnson3macOS 13.6.5 Ventura / arm64  OK    OK    OK    OK  UNNEEDED, same version is already published

Results for Bioconductor software packages that depend directly on package multiHiCcompare

QUICK STATSOS / ArchINSTALLBUILDCHECKBUILD BIN
kjohnson3macOS 13.6.5 Ventura / arm64
001
001
0001
001
Package 1/1HostnameOS / ArchINSTALLBUILDCHECKBUILD BIN
HiCDOC 1.6.0  (landing page)
Maign√© √Člise
git_last_commit: cb7b0bf
git_last_commit_date: 2024-04-30 11:43:34 -0400
kjohnson3macOS 13.6.5 Ventura / arm64  OK    OK    OK    OK  UNNEEDED, same version is already published