Back to Mac ARM64 build report for BioC 3.18
ABCDEF[G]HIJKLMNOPQRSTUVWXYZ

This page was generated on 2024-02-22 11:32:08 -0500 (Thu, 22 Feb 2024).

HostnameOSArch (*)R versionInstalled pkgs
kjohnson1macOS 13.6.1 Venturaarm644.3.2 (2023-10-31) -- "Eye Holes" 4300
Click on any hostname to see more info about the system (e.g. compilers)      (*) as reported by 'uname -p', except on Windows and Mac OS X

All results for package ggbio


To the developers/maintainers of the ggbio package:
- Use the following Renviron settings to reproduce errors and warnings.
- If 'R CMD check' started to fail recently on the Linux builder(s) over a missing dependency, add the missing dependency to 'Suggests:' in your DESCRIPTION file. See Renviron.bioc for more information.

raw results

Package 849/2266HostnameOS / ArchINSTALLBUILDCHECKBUILD BIN
ggbio 1.50.0  (landing page)
Michael Lawrence
Snapshot Date: 2024-02-20 09:00:03 -0500 (Tue, 20 Feb 2024)
git_url: https://git.bioconductor.org/packages/ggbio
git_branch: RELEASE_3_18
git_last_commit: ec89905
git_last_commit_date: 2023-10-24 09:48:30 -0500 (Tue, 24 Oct 2023)
kjohnson1macOS 13.6.1 Ventura / arm64  OK    OK    WARNINGS    OK  UNNEEDED, same version is already published

Results for Bioconductor software packages that depend directly on package ggbio

QUICK STATSOS / ArchINSTALLBUILDCHECKBUILD BIN
kjohnson1macOS 13.6.1 Ventura / arm64
0012
0012
0138
0012
Package 1/12HostnameOS / ArchINSTALLBUILDCHECKBUILD BIN
BOBaFIT 1.6.0  (landing page)
Gaia Mazzocchetti
git_last_commit: 2bac67f
git_last_commit_date: 2023-10-24 11:38:56 -0500
kjohnson1macOS 13.6.1 Ventura / arm64  OK    OK    WARNINGS    OK  UNNEEDED, same version is already published
Package 2/12HostnameOS / ArchINSTALLBUILDCHECKBUILD BIN
CAFE 1.38.0  (landing page)
Sander Bollen
git_last_commit: ecba1e7
git_last_commit_date: 2023-10-24 09:57:47 -0500
kjohnson1macOS 13.6.1 Ventura / arm64  OK    OK    WARNINGS    OK  UNNEEDED, same version is already published
Package 3/12HostnameOS / ArchINSTALLBUILDCHECKBUILD BIN
cageminer 1.8.0  (landing page)
Fabrício Almeida-Silva
git_last_commit: 31e3906
git_last_commit_date: 2023-10-24 11:35:02 -0500
kjohnson1macOS 13.6.1 Ventura / arm64  OK    OK    OK    OK  UNNEEDED, same version is already published
Package 4/12HostnameOS / ArchINSTALLBUILDCHECKBUILD BIN
derfinderPlot 1.36.0  (landing page)
Leonardo Collado-Torres
git_last_commit: 23673da
git_last_commit_date: 2023-10-24 10:38:59 -0500
kjohnson1macOS 13.6.1 Ventura / arm64  OK    OK    OK    OK  UNNEEDED, same version is already published
Package 5/12HostnameOS / ArchINSTALLBUILDCHECKBUILD BIN
FLAMES 1.8.0  (landing page)
Oliver Voogd
git_last_commit: 8b72098
git_last_commit_date: 2023-10-24 11:34:56 -0500
kjohnson1macOS 13.6.1 Ventura / arm64  OK    OK    OK    OK  UNNEEDED, same version is already published
Package 6/12HostnameOS / ArchINSTALLBUILDCHECKBUILD BIN
GenomicOZone 1.16.0  (landing page)
Hua Zhong, Mingzhou Song
git_last_commit: 7e7361a
git_last_commit_date: 2023-10-24 11:15:46 -0500
kjohnson1macOS 13.6.1 Ventura / arm64  OK    OK    OK    OK  UNNEEDED, same version is already published
Package 7/12HostnameOS / ArchINSTALLBUILDCHECKBUILD BIN
intansv 1.42.0  (landing page)
Wen Yao
git_last_commit: 7e3a725
git_last_commit_date: 2023-10-24 09:55:04 -0500
kjohnson1macOS 13.6.1 Ventura / arm64  OK    OK    OK    OK  UNNEEDED, same version is already published
Package 8/12HostnameOS / ArchINSTALLBUILDCHECKBUILD BIN
msgbsR 1.26.0  (landing page)
Benjamin Mayne
git_last_commit: 0b34e7d
git_last_commit_date: 2023-10-24 10:57:23 -0500
kjohnson1macOS 13.6.1 Ventura / arm64  OK    OK    OK    OK  UNNEEDED, same version is already published
Package 9/12HostnameOS / ArchINSTALLBUILDCHECKBUILD BIN
ReportingTools 2.42.3  (landing page)
Jason A. Hackney , Gabriel Becker
git_last_commit: fcaebd4
git_last_commit_date: 2023-12-07 14:55:10 -0500
kjohnson1macOS 13.6.1 Ventura / arm64  OK    OK    OK    OK  UNNEEDED, same version is already published
Package 10/12HostnameOS / ArchINSTALLBUILDCHECKBUILD BIN
RiboProfiling 1.32.0  (landing page)
A. Popa
git_last_commit: 8cec7bf
git_last_commit_date: 2023-10-24 10:45:56 -0500
kjohnson1macOS 13.6.1 Ventura / arm64  OK    OK    WARNINGS    OK  UNNEEDED, same version is already published
Package 11/12HostnameOS / ArchINSTALLBUILDCHECKBUILD BIN
scruff 1.20.0  (landing page)
Zhe Wang
git_last_commit: 9c5a572
git_last_commit_date: 2023-10-24 11:06:39 -0500
kjohnson1macOS 13.6.1 Ventura / arm64  OK    OK    OK    OK  UNNEEDED, same version is already published
Package 12/12HostnameOS / ArchINSTALLBUILDCHECKBUILD BIN
SomaticSignatures 2.38.0  (landing page)
Julian Gehring
git_last_commit: 7578824
git_last_commit_date: 2023-10-24 09:57:24 -0500
kjohnson1macOS 13.6.1 Ventura / arm64  OK    OK    ERROR    OK