Back to Mac ARM64 build report for BioC 3.18
AB[C]DEFGHIJKLMNOPQRSTUVWXYZ

This page was generated on 2024-03-04 11:32:01 -0500 (Mon, 04 Mar 2024).

HostnameOSArch (*)R versionInstalled pkgs
kjohnson1macOS 13.6.1 Venturaarm644.3.2 (2023-10-31) -- "Eye Holes" 4346
Click on any hostname to see more info about the system (e.g. compilers)      (*) as reported by 'uname -p', except on Windows and Mac OS X

All results for package crisprVerse


To the developers/maintainers of the crisprVerse package:
- Use the following Renviron settings to reproduce errors and warnings.
- If 'R CMD check' started to fail recently on the Linux builder(s) over a missing dependency, add the missing dependency to 'Suggests:' in your DESCRIPTION file. See Renviron.bioc for more information.

raw results

Package 461/2266HostnameOS / ArchINSTALLBUILDCHECKBUILD BIN
crisprVerse 1.4.0  (landing page)
Jean-Philippe Fortin
Snapshot Date: 2024-03-02 09:00:04 -0500 (Sat, 02 Mar 2024)
git_url: https://git.bioconductor.org/packages/crisprVerse
git_branch: RELEASE_3_18
git_last_commit: 8cad1ea
git_last_commit_date: 2023-10-24 11:43:34 -0500 (Tue, 24 Oct 2023)
kjohnson1macOS 13.6.1 Ventura / arm64  OK    OK    OK    OK  UNNEEDED, same version is already published