Back to Mac ARM64 build report for BioC 3.18
ABCDEFGHIJKLMNOP[Q]RSTUVWXYZ

This page was generated on 2024-02-19 11:31:59 -0500 (Mon, 19 Feb 2024).

HostnameOSArch (*)R versionInstalled pkgs
kjohnson1macOS 13.6.1 Venturaarm644.3.2 (2023-10-31) -- "Eye Holes" 4299
Click on any hostname to see more info about the system (e.g. compilers)      (*) as reported by 'uname -p', except on Windows and Mac OS X

All results for package QuasR


To the developers/maintainers of the QuasR package:
- Use the following Renviron settings to reproduce errors and warnings.
- If 'R CMD check' started to fail recently on the Linux builder(s) over a missing dependency, add the missing dependency to 'Suggests:' in your DESCRIPTION file. See Renviron.bioc for more information.

raw results

Package 1639/2266HostnameOS / ArchINSTALLBUILDCHECKBUILD BIN
QuasR 1.42.1  (landing page)
Michael Stadler
Snapshot Date: 2024-02-17 09:00:03 -0500 (Sat, 17 Feb 2024)
git_url: https://git.bioconductor.org/packages/QuasR
git_branch: RELEASE_3_18
git_last_commit: 04c8406
git_last_commit_date: 2023-11-01 08:10:31 -0500 (Wed, 01 Nov 2023)
kjohnson1macOS 13.6.1 Ventura / arm64  OK    OK    WARNINGS    OK  UNNEEDED, same version is already published

Results for Bioconductor software packages that depend directly on package QuasR

QUICK STATSOS / ArchINSTALLBUILDCHECKBUILD BIN
kjohnson1macOS 13.6.1 Ventura / arm64
001
001
0001
001
Package 1/1HostnameOS / ArchINSTALLBUILDCHECKBUILD BIN
SingleMoleculeFootprinting 1.10.0  (landing page)
Guido Barzaghi
git_last_commit: 44ae1a2
git_last_commit_date: 2023-10-24 11:34:06 -0500
kjohnson1macOS 13.6.1 Ventura / arm64  OK    OK    OK    OK  UNNEEDED, same version is already published