Back to Mac ARM64 build report for BioC 3.18
ABCDEFGHIJKLMNOPQR[S]TUVWXYZ

This page was generated on 2024-03-28 11:32:14 -0400 (Thu, 28 Mar 2024).

HostnameOSArch (*)R versionInstalled pkgs
kjohnson1macOS 13.6.1 Venturaarm644.3.3 (2024-02-29) -- "Angel Food Cake" 4376
Click on any hostname to see more info about the system (e.g. compilers)      (*) as reported by 'uname -p', except on Windows and Mac OS X

All results for package SummarizedExperiment


To the developers/maintainers of the SummarizedExperiment package:
- Use the following Renviron settings to reproduce errors and warnings.
- If 'R CMD check' started to fail recently on the Linux builder(s) over a missing dependency, add the missing dependency to 'Suggests:' in your DESCRIPTION file. See Renviron.bioc for more information.

raw results

Package 2076/2266HostnameOS / ArchINSTALLBUILDCHECKBUILD BIN
SummarizedExperiment 1.32.0  (landing page)
Hervé Pagès
Snapshot Date: 2024-03-26 09:00:03 -0400 (Tue, 26 Mar 2024)
git_url: https://git.bioconductor.org/packages/SummarizedExperiment
git_branch: RELEASE_3_18
git_last_commit: fbea511
git_last_commit_date: 2023-10-24 10:43:38 -0400 (Tue, 24 Oct 2023)
kjohnson1macOS 13.6.1 Ventura / arm64  OK    OK    OK    OK  UNNEEDED, same version is already published

Results for Bioconductor software packages that depend directly on package SummarizedExperiment

QUICK STATSOS / ArchINSTALLBUILDCHECKBUILD BIN
kjohnson1macOS 13.6.1 Ventura / arm64
06525
151479
12460394
00479
Package 1/532HostnameOS / ArchINSTALLBUILDCHECKBUILD BIN
ADAM 1.18.0  (landing page)
Jose Luiz Rybarczyk Filho
git_last_commit: 1652823
git_last_commit_date: 2023-10-24 11:09:37 -0400
kjohnson1macOS 13.6.1 Ventura / arm64  OK    OK    OK    OK  UNNEEDED, same version is already published
Package 2/532HostnameOS / ArchINSTALLBUILDCHECKBUILD BIN
ADImpute 1.12.0  (landing page)
Ana Carolina Leote
git_last_commit: 327d96d
git_last_commit_date: 2023-10-24 11:27:27 -0400
kjohnson1macOS 13.6.1 Ventura / arm64  OK    OK    WARNINGS    OK  UNNEEDED, same version is already published
Package 3/532HostnameOS / ArchINSTALLBUILDCHECKBUILD BIN
AffiXcan 1.20.0  (landing page)
Alessandro Lussana
git_last_commit: 26a1df7
git_last_commit_date: 2023-10-24 11:08:20 -0400
kjohnson1macOS 13.6.1 Ventura / arm64  OK    OK    OK    OK  UNNEEDED, same version is already published
Package 4/532HostnameOS / ArchINSTALLBUILDCHECKBUILD BIN
aggregateBioVar 1.12.0  (landing page)
Jason Ratcliff
git_last_commit: 2cefc8a
git_last_commit_date: 2023-10-24 11:26:05 -0400
kjohnson1macOS 13.6.1 Ventura / arm64  OK    OK    OK    OK  UNNEEDED, same version is already published
Package 5/532HostnameOS / ArchINSTALLBUILDCHECKBUILD BIN
airpart 1.10.0  (landing page)
Wancen Mu
git_last_commit: 7666c3b
git_last_commit_date: 2023-10-24 11:31:27 -0400
kjohnson1macOS 13.6.1 Ventura / arm64  OK    OK    OK    OK  UNNEEDED, same version is already published
Package 6/532HostnameOS / ArchINSTALLBUILDCHECKBUILD BIN
alabaster.se 1.2.0  (landing page)
Aaron Lun
git_last_commit: d1222d4
git_last_commit_date: 2023-10-24 11:47:00 -0400
kjohnson1macOS 13.6.1 Ventura / arm64  OK    OK    OK    OK  UNNEEDED, same version is already published
Package 7/532HostnameOS / ArchINSTALLBUILDCHECKBUILD BIN
alabaster.spatial 1.2.0  (landing page)
Aaron Lun
git_last_commit: ec0ca0a
git_last_commit_date: 2023-10-24 11:47:05 -0400
kjohnson1macOS 13.6.1 Ventura / arm64  OK    OK    OK    OK  UNNEEDED, same version is already published
Package 8/532HostnameOS / ArchINSTALLBUILDCHECKBUILD BIN
ALDEx2 1.34.0  (landing page)
Greg Gloor
git_last_commit: eda12f9
git_last_commit_date: 2023-10-24 10:38:50 -0400
kjohnson1macOS 13.6.1 Ventura / arm64  OK    OK    OK    OK  UNNEEDED, same version is already published
Package 9/532HostnameOS / ArchINSTALLBUILDCHECKBUILD BIN
AllelicImbalance 1.40.0  (landing page)
Jesper R Gadin
git_last_commit: e3fc911
git_last_commit_date: 2023-10-24 09:56:05 -0400
kjohnson1macOS 13.6.1 Ventura / arm64  OK    OK    OK    OK  UNNEEDED, same version is already published
Package 10/532HostnameOS / ArchINSTALLBUILDCHECKBUILD BIN
ANCOMBC 2.4.0  (landing page)
Huang Lin
git_last_commit: c60c1b0
git_last_commit_date: 2023-10-24 11:25:23 -0400
kjohnson1macOS 13.6.1 Ventura / arm64  OK    OK    OK    OK  UNNEEDED, same version is already published
Package 11/532HostnameOS / ArchINSTALLBUILDCHECKBUILD BIN
animalcules 1.18.3  (landing page)
Jessica McClintock
git_last_commit: 8e8e658
git_last_commit_date: 2024-02-02 16:30:32 -0400
kjohnson1macOS 13.6.1 Ventura / arm64  OK    OK    ERROR    OK  
Package 12/532HostnameOS / ArchINSTALLBUILDCHECKBUILD BIN
anota2seq 1.24.0  (landing page)
Christian Oertlin , Ola Larsson
git_last_commit: aca5ad9
git_last_commit_date: 2023-10-24 11:00:23 -0400
kjohnson1macOS 13.6.1 Ventura / arm64  OK    OK    OK    OK  UNNEEDED, same version is already published
Package 13/532HostnameOS / ArchINSTALLBUILDCHECKBUILD BIN
APAlyzer 1.16.0  (landing page)
Ruijia Wang
git_last_commit: 9a02db1
git_last_commit_date: 2023-10-24 11:15:41 -0400
kjohnson1macOS 13.6.1 Ventura / arm64  OK    OK    WARNINGS    OK  UNNEEDED, same version is already published
Package 14/532HostnameOS / ArchINSTALLBUILDCHECKBUILD BIN
apeglm 1.24.0  (landing page)
Anqi Zhu
git_last_commit: b6b76e6
git_last_commit_date: 2023-10-24 10:59:24 -0400
kjohnson1macOS 13.6.1 Ventura / arm64  OK    OK    OK    OK  UNNEEDED, same version is already published
Package 15/532HostnameOS / ArchINSTALLBUILDCHECKBUILD BIN
APL 1.6.1  (landing page)
Clemens Kohl
git_last_commit: 56ef8fb
git_last_commit_date: 2024-02-09 11:19:44 -0400
kjohnson1macOS 13.6.1 Ventura / arm64  OK    OK    OK    OK  UNNEEDED, same version is already published
Package 16/532HostnameOS / ArchINSTALLBUILDCHECKBUILD BIN
appreci8R 1.20.2  (landing page)
Sarah Sandmann
git_last_commit: 491a34d
git_last_commit_date: 2024-02-14 07:29:50 -0400
kjohnson1macOS 13.6.1 Ventura / arm64  OK    OK    OK    OK  UNNEEDED, same version is already published
Package 17/532HostnameOS / ArchINSTALLBUILDCHECKBUILD BIN
ASICS 2.18.1  (landing page)
Gaëlle Lefort
git_last_commit: 0337859
git_last_commit_date: 2024-03-05 03:50:55 -0400
kjohnson1macOS 13.6.1 Ventura / arm64  OK    OK    OK    OK  UNNEEDED, same version is already published
Package 18/532HostnameOS / ArchINSTALLBUILDCHECKBUILD BIN
ASURAT 1.6.0  (landing page)
Keita Iida
git_last_commit: b1581b2
git_last_commit_date: 2023-10-24 11:40:38 -0400
kjohnson1macOS 13.6.1 Ventura / arm64  OK    OK    OK    OK  UNNEEDED, same version is already published
Package 19/532HostnameOS / ArchINSTALLBUILDCHECKBUILD BIN
ATACseqTFEA 1.4.0  (landing page)
Jianhong Ou
git_last_commit: a8b0929
git_last_commit_date: 2023-10-24 11:43:31 -0400
kjohnson1macOS 13.6.1 Ventura / arm64  OK    OK    OK    OK  NO, package depends on 'motifmatchr' which is only available as a source package that needs compilation
Package 20/532HostnameOS / ArchINSTALLBUILDCHECKBUILD BIN
atena 1.8.0  (landing page)
Beatriz Calvo-Serra
git_last_commit: 634a469
git_last_commit_date: 2023-10-24 11:36:26 -0400
kjohnson1macOS 13.6.1 Ventura / arm64  OK    OK    OK    OK  UNNEEDED, same version is already published
Package 21/532HostnameOS / ArchINSTALLBUILDCHECKBUILD BIN
AUCell 1.24.0  (landing page)
Sara Aibar
git_last_commit: 8c22389
git_last_commit_date: 2023-10-24 10:59:42 -0400
kjohnson1macOS 13.6.1 Ventura / arm64  OK    OK    ERROR    OK  
Package 22/532HostnameOS / ArchINSTALLBUILDCHECKBUILD BIN
autonomics 1.10.2  (landing page)
Aditya Bhagwat
git_last_commit: 230045c
git_last_commit_date: 2023-11-08 04:08:57 -0400
kjohnson1macOS 13.6.1 Ventura / arm64  OK    ERROR  skippedskipped
Package 23/532HostnameOS / ArchINSTALLBUILDCHECKBUILD BIN
awst 1.10.0  (landing page)
Davide Risso
git_last_commit: 0adbbf1
git_last_commit_date: 2023-10-24 11:32:42 -0400
kjohnson1macOS 13.6.1 Ventura / arm64  OK    OK    OK    OK  UNNEEDED, same version is already published
Package 24/532HostnameOS / ArchINSTALLBUILDCHECKBUILD BIN
bambu 3.4.0  (landing page)
Ying Chen
git_last_commit: bf38f6d
git_last_commit_date: 2023-10-24 11:27:04 -0400
kjohnson1macOS 13.6.1 Ventura / arm64  OK    OK    OK    OK  UNNEEDED, same version is already published
Package 25/532HostnameOS / ArchINSTALLBUILDCHECKBUILD BIN
barcodetrackR 1.10.0  (landing page)
Diego Alexander Espinoza
git_last_commit: e53b7a6
git_last_commit_date: 2023-10-24 11:31:32 -0400
kjohnson1macOS 13.6.1 Ventura / arm64  OK    OK    OK    OK  UNNEEDED, same version is already published
Package 26/532HostnameOS / ArchINSTALLBUILDCHECKBUILD BIN
BASiCS 2.14.0  (landing page)
Catalina Vallejos
git_last_commit: 7b60c29
git_last_commit_date: 2024-03-11 13:42:52 -0400
kjohnson1macOS 13.6.1 Ventura / arm64  OK    OK    WARNINGS    OK  UNNEEDED, same version is already published
Package 27/532HostnameOS / ArchINSTALLBUILDCHECKBUILD BIN
BASiCStan 1.4.0  (landing page)
Alan O'Callaghan
git_last_commit: 5172b15
git_last_commit_date: 2023-10-24 11:43:36 -0400
kjohnson1macOS 13.6.1 Ventura / arm64  OK    OK    OK    OK  UNNEEDED, same version is already published
Package 28/532HostnameOS / ArchINSTALLBUILDCHECKBUILD BIN
batchelor 1.18.1  (landing page)
Aaron Lun
git_last_commit: c427893
git_last_commit_date: 2023-12-27 13:57:13 -0400
kjohnson1macOS 13.6.1 Ventura / arm64  OK    OK    OK    OK  UNNEEDED, same version is already published
Package 29/532HostnameOS / ArchINSTALLBUILDCHECKBUILD BIN
BayesSpace 1.12.0  (landing page)
Matt Stone
git_last_commit: 1e3042d
git_last_commit_date: 2023-10-24 11:26:25 -0400
kjohnson1macOS 13.6.1 Ventura / arm64  OK    OK    OK    OK  UNNEEDED, same version is already published
Package 30/532HostnameOS / ArchINSTALLBUILDCHECKBUILD BIN
bayNorm 1.20.0  (landing page)
Wenhao Tang
git_last_commit: 29ecf00
git_last_commit_date: 2023-10-24 11:08:36 -0400
kjohnson1macOS 13.6.1 Ventura / arm64  OK    OK    OK    OK  UNNEEDED, same version is already published
Package 31/532HostnameOS / ArchINSTALLBUILDCHECKBUILD BIN
BBCAnalyzer 1.32.0  (landing page)
Sarah Sandmann
git_last_commit: eb90d95
git_last_commit_date: 2023-10-24 10:44:49 -0400
kjohnson1macOS 13.6.1 Ventura / arm64  OK    OK    OK    OK  UNNEEDED, same version is already published
Package 32/532HostnameOS / ArchINSTALLBUILDCHECKBUILD BIN
BDMMAcorrect 1.20.0  (landing page)
ZHENWEI DAI
git_last_commit: 8c790c5
git_last_commit_date: 2023-10-24 11:09:28 -0400
kjohnson1macOS 13.6.1 Ventura / arm64  OK    OK    OK    OK  UNNEEDED, same version is already published
Package 33/532HostnameOS / ArchINSTALLBUILDCHECKBUILD BIN
beer 1.6.0  (landing page)
Athena Chen
git_last_commit: 33576a8
git_last_commit_date: 2023-10-24 11:39:32 -0400
kjohnson1macOS 13.6.1 Ventura / arm64  OK    OK    OK    OK  UNNEEDED, same version is already published
Package 34/532HostnameOS / ArchINSTALLBUILDCHECKBUILD BIN
benchdamic 1.8.2  (landing page)
Matteo Calgaro
git_last_commit: c22b193
git_last_commit_date: 2024-03-06 05:03:42 -0400
kjohnson1macOS 13.6.1 Ventura / arm64  OK    OK    OK    OK  UNNEEDED, same version is already published
Package 35/532HostnameOS / ArchINSTALLBUILDCHECKBUILD BIN
bigPint 1.18.1  (landing page)
Lindsay Rutter
git_last_commit: 22bd06d
git_last_commit_date: 2024-02-12 04:30:48 -0400
kjohnson1macOS 13.6.1 Ventura / arm64  OK    OK    ERROR    OK  
Package 36/532HostnameOS / ArchINSTALLBUILDCHECKBUILD BIN
BiocOncoTK 1.22.0  (landing page)
VJ Carey
git_last_commit: b9864a0
git_last_commit_date: 2023-10-24 11:05:15 -0400
kjohnson1macOS 13.6.1 Ventura / arm64  ERROR    ERROR  skippedskipped
Package 37/532HostnameOS / ArchINSTALLBUILDCHECKBUILD BIN
BiocSklearn 1.24.0  (landing page)
Vince Carey
git_last_commit: f1a6bdc
git_last_commit_date: 2023-10-24 10:58:42 -0400
kjohnson1macOS 13.6.1 Ventura / arm64  OK    OK    OK    OK  UNNEEDED, same version is already published
Package 38/532HostnameOS / ArchINSTALLBUILDCHECKBUILD BIN
BioNERO 1.10.3  (landing page)
Fabricio Almeida-Silva
git_last_commit: 05d11b1
git_last_commit_date: 2024-03-25 08:41:01 -0400
kjohnson1macOS 13.6.1 Ventura / arm64  OK    OK    OK    OK  YES
Package 39/532HostnameOS / ArchINSTALLBUILDCHECKBUILD BIN
biosigner 1.30.0  (landing page)
Etienne A. Thevenot
git_last_commit: 8e7b0e2
git_last_commit_date: 2023-10-24 10:48:11 -0400
kjohnson1macOS 13.6.1 Ventura / arm64  OK    OK    ERROR    OK  
Package 40/532HostnameOS / ArchINSTALLBUILDCHECKBUILD BIN
biotmle 1.26.0  (landing page)
Nima Hejazi
git_last_commit: e95f9b0
git_last_commit_date: 2023-10-24 10:56:59 -0400
kjohnson1macOS 13.6.1 Ventura / arm64  OK    OK    OK    OK  UNNEEDED, same version is already published
Package 41/532HostnameOS / ArchINSTALLBUILDCHECKBUILD BIN
biovizBase 1.50.0  (landing page)
Michael Lawrence
git_last_commit: c961633
git_last_commit_date: 2023-10-24 09:48:08 -0400
kjohnson1macOS 13.6.1 Ventura / arm64  OK    OK    WARNINGS    OK  UNNEEDED, same version is already published
Package 42/532HostnameOS / ArchINSTALLBUILDCHECKBUILD BIN
biscuiteer 1.16.0  (landing page)
Jacob Morrison
git_last_commit: ebfa0bf
git_last_commit_date: 2023-10-24 11:17:31 -0400
kjohnson1macOS 13.6.1 Ventura / arm64  OK    OK    WARNINGS    OK  UNNEEDED, same version is already published
Package 43/532HostnameOS / ArchINSTALLBUILDCHECKBUILD BIN
BiSeq 1.42.0  (landing page)
Katja Hebestreit
git_last_commit: 7dce55a
git_last_commit_date: 2023-10-24 09:53:54 -0400
kjohnson1macOS 13.6.1 Ventura / arm64  OK    OK    OK    OK  UNNEEDED, same version is already published
Package 44/532HostnameOS / ArchINSTALLBUILDCHECKBUILD BIN
blacksheepr 1.16.0  (landing page)
RugglesLab
git_last_commit: 9445c8f
git_last_commit_date: 2023-10-24 11:17:10 -0400
kjohnson1macOS 13.6.1 Ventura / arm64  OK    OK    OK    OK  UNNEEDED, same version is already published
Package 45/532HostnameOS / ArchINSTALLBUILDCHECKBUILD BIN
BloodGen3Module 1.10.0  (landing page)
Darawan Rinchai
git_last_commit: 388b9c6
git_last_commit_date: 2023-10-24 11:33:38 -0400
kjohnson1macOS 13.6.1 Ventura / arm64  OK    OK    WARNINGS    OK  UNNEEDED, same version is already published
Package 46/532HostnameOS / ArchINSTALLBUILDCHECKBUILD BIN
bnbc 1.24.2  (landing page)
Kipper Fletez-Brant
git_last_commit: c80ab47
git_last_commit_date: 2024-01-26 13:19:18 -0400
kjohnson1macOS 13.6.1 Ventura / arm64  OK    OK    OK    OK  UNNEEDED, same version is already published
Package 47/532HostnameOS / ArchINSTALLBUILDCHECKBUILD BIN
BRGenomics 1.14.1  (landing page)
Mike DeBerardine
git_last_commit: bbd90bf
git_last_commit_date: 2024-02-29 16:27:31 -0400
kjohnson1macOS 13.6.1 Ventura / arm64  OK    OK    OK    OK  UNNEEDED, same version is already published
Package 48/532HostnameOS / ArchINSTALLBUILDCHECKBUILD BIN
bsseq 1.38.0  (landing page)
Kasper Daniel Hansen
git_last_commit: 392e22c
git_last_commit_date: 2023-10-24 09:50:39 -0400
kjohnson1macOS 13.6.1 Ventura / arm64  OK    OK    OK    OK  UNNEEDED, same version is already published
Package 49/532HostnameOS / ArchINSTALLBUILDCHECKBUILD BIN
BUMHMM 1.26.0  (landing page)
Alina Selega
git_last_commit: 586babd
git_last_commit_date: 2023-10-24 10:54:31 -0400
kjohnson1macOS 13.6.1 Ventura / arm64  OK    OK    OK    OK  UNNEEDED, same version is already published
Package 50/532HostnameOS / ArchINSTALLBUILDCHECKBUILD BIN
BUScorrect 1.20.0  (landing page)
Xiangyu Luo
git_last_commit: b2c038a
git_last_commit_date: 2023-10-24 11:07:12 -0400
kjohnson1macOS 13.6.1 Ventura / arm64  OK    OK    OK    OK  UNNEEDED, same version is already published
Package 51/532HostnameOS / ArchINSTALLBUILDCHECKBUILD BIN
BUSseq 1.8.0  (landing page)
Fangda Song
git_last_commit: c8be50e
git_last_commit_date: 2023-10-24 11:34:28 -0400
kjohnson1macOS 13.6.1 Ventura / arm64  OK    OK    OK    OK  UNNEEDED, same version is already published
Package 52/532HostnameOS / ArchINSTALLBUILDCHECKBUILD BIN
CaDrA 1.0.2  (landing page)
Reina Chau
git_last_commit: 134a61e
git_last_commit_date: 2024-03-13 23:22:32 -0400
kjohnson1macOS 13.6.1 Ventura / arm64  OK    OK    OK    OK  UNNEEDED, same version is already published
Package 53/532HostnameOS / ArchINSTALLBUILDCHECKBUILD BIN
CAEN 1.10.0  (landing page)
Zhou Yan
git_last_commit: 2d9a7d2
git_last_commit_date: 2023-10-24 11:28:48 -0400
kjohnson1macOS 13.6.1 Ventura / arm64  OK    OK    OK    OK  UNNEEDED, same version is already published
Package 54/532HostnameOS / ArchINSTALLBUILDCHECKBUILD BIN
CAGEfightR 1.22.0  (landing page)
Malte Thodberg
git_last_commit: 8a75f42
git_last_commit_date: 2023-10-24 11:05:23 -0400
kjohnson1macOS 13.6.1 Ventura / arm64  OK    OK    OK    OK  UNNEEDED, same version is already published
Package 55/532HostnameOS / ArchINSTALLBUILDCHECKBUILD BIN
CAGEr 2.8.0  (landing page)
Charles Plessy
git_last_commit: 6ad953b
git_last_commit_date: 2023-10-24 09:52:59 -0400
kjohnson1macOS 13.6.1 Ventura / arm64  OK    OK    OK    OK  UNNEEDED, same version is already published
Package 56/532HostnameOS / ArchINSTALLBUILDCHECKBUILD BIN
CATALYST 1.26.0  (landing page)
Helena L. Crowell
git_last_commit: 98fffcb
git_last_commit_date: 2023-10-24 10:56:46 -0400
kjohnson1macOS 13.6.1 Ventura / arm64  OK    ERROR  skippedskipped
Package 57/532HostnameOS / ArchINSTALLBUILDCHECKBUILD BIN
CBEA 1.2.0  (landing page)
Quang Nguyen
git_last_commit: 486c9d0
git_last_commit_date: 2023-10-24 11:40:17 -0400
kjohnson1macOS 13.6.1 Ventura / arm64  OK    OK    OK    OK  UNNEEDED, same version is already published
Package 58/532HostnameOS / ArchINSTALLBUILDCHECKBUILD BIN
cBioPortalData 2.14.2  (landing page)
Marcel Ramos
git_last_commit: 3d59ad6
git_last_commit_date: 2024-02-02 15:16:38 -0400
kjohnson1macOS 13.6.1 Ventura / arm64  OK    OK    OK    OK  UNNEEDED, same version is already published
Package 59/532HostnameOS / ArchINSTALLBUILDCHECKBUILD BIN
ccfindR 1.22.0  (landing page)
Jun Woo
git_last_commit: ac6bcb1
git_last_commit_date: 2023-10-24 11:05:03 -0400
kjohnson1macOS 13.6.1 Ventura / arm64  ERROR    ERROR  skippedskipped
Package 60/532HostnameOS / ArchINSTALLBUILDCHECKBUILD BIN
CDI 1.0.2  (landing page)
Jiyuan Fang
git_last_commit: 38c9ab6
git_last_commit_date: 2023-12-05 05:02:03 -0400
kjohnson1macOS 13.6.1 Ventura / arm64  OK    OK    OK    OK  UNNEEDED, same version is already published
Package 61/532HostnameOS / ArchINSTALLBUILDCHECKBUILD BIN
celaref 1.20.0  (landing page)
Sarah Williams
git_last_commit: 54fc418
git_last_commit_date: 2023-10-24 11:07:01 -0400
kjohnson1macOS 13.6.1 Ventura / arm64  OK    OK    OK    OK  UNNEEDED, same version is already published
Package 62/532HostnameOS / ArchINSTALLBUILDCHECKBUILD BIN
celda 1.18.1  (landing page)
Joshua Campbell
git_last_commit: 50211da1
git_last_commit_date: 2023-11-04 19:06:00 -0400
kjohnson1macOS 13.6.1 Ventura / arm64  OK    ERROR  skippedskipped
Package 63/532HostnameOS / ArchINSTALLBUILDCHECKBUILD BIN
CelliD 1.10.1  (landing page)
Akira Cortal
git_last_commit: 5dc220a
git_last_commit_date: 2023-11-30 02:01:04 -0400
kjohnson1macOS 13.6.1 Ventura / arm64  OK    OK    WARNINGS    OK  UNNEEDED, same version is already published
Package 64/532HostnameOS / ArchINSTALLBUILDCHECKBUILD BIN
CellMixS 1.18.0  (landing page)
Almut Lütge
git_last_commit: f781a7c
git_last_commit_date: 2023-10-24 11:12:36 -0400
kjohnson1macOS 13.6.1 Ventura / arm64  OK    OK    OK    OK  UNNEEDED, same version is already published
Package 65/532HostnameOS / ArchINSTALLBUILDCHECKBUILD BIN
CellScore 1.22.0  (landing page)
Nancy Mah
git_last_commit: 4188452
git_last_commit_date: 2023-10-24 11:02:53 -0400
kjohnson1macOS 13.6.1 Ventura / arm64  OK    OK    OK    OK  UNNEEDED, same version is already published
Package 66/532HostnameOS / ArchINSTALLBUILDCHECKBUILD BIN
CellTrails 1.20.0  (landing page)
Daniel Ellwanger
git_last_commit: 3e1f87c
git_last_commit_date: 2023-10-24 11:06:14 -0400
kjohnson1macOS 13.6.1 Ventura / arm64  OK    OK    OK    OK  UNNEEDED, same version is already published
Package 67/532HostnameOS / ArchINSTALLBUILDCHECKBUILD BIN
censcyt 1.10.0  (landing page)
Reto Gerber
git_last_commit: b09fb06
git_last_commit_date: 2023-10-24 11:28:36 -0400
kjohnson1macOS 13.6.1 Ventura / arm64  OK    OK    OK    OK  UNNEEDED, same version is already published
Package 68/532HostnameOS / ArchINSTALLBUILDCHECKBUILD BIN
Cepo 1.8.0  (landing page)
Hani Jieun Kim
git_last_commit: 5482f8e
git_last_commit_date: 2023-10-24 11:37:48 -0400
kjohnson1macOS 13.6.1 Ventura / arm64  OK    OK    WARNINGS    OK  UNNEEDED, same version is already published
Package 69/532HostnameOS / ArchINSTALLBUILDCHECKBUILD BIN
CeTF 1.14.0  (landing page)
Carlos Alberto Oliveira de Biagi Junior
git_last_commit: a3be90f
git_last_commit_date: 2023-10-24 11:18:38 -0400
kjohnson1macOS 13.6.1 Ventura / arm64  OK    OK    OK    OK  UNNEEDED, same version is already published
Package 70/532HostnameOS / ArchINSTALLBUILDCHECKBUILD BIN
CHETAH 1.18.0  (landing page)
Jurrian de Kanter
git_last_commit: 8f59c4d
git_last_commit_date: 2023-10-24 11:43:04 -0400
kjohnson1macOS 13.6.1 Ventura / arm64  OK    OK    OK    OK  UNNEEDED, same version is already published
Package 71/532HostnameOS / ArchINSTALLBUILDCHECKBUILD BIN
ChIPpeakAnno 3.36.1  (landing page)
Jianhong Ou
git_last_commit: 105ec60
git_last_commit_date: 2024-02-15 15:06:09 -0400
kjohnson1macOS 13.6.1 Ventura / arm64  OK    OK    OK    OK  UNNEEDED, same version is already published
Package 72/532HostnameOS / ArchINSTALLBUILDCHECKBUILD BIN
ChromSCape 1.12.0  (landing page)
Pacome Prompsy
git_last_commit: 8311c30
git_last_commit_date: 2023-10-24 11:26:16 -0400
kjohnson1macOS 13.6.1 Ventura / arm64  OK    OK    ERROR    OK  
Package 73/532HostnameOS / ArchINSTALLBUILDCHECKBUILD BIN
chromVAR 1.24.0  (landing page)
Alicia Schep
git_last_commit: e2d61b0
git_last_commit_date: 2023-10-24 11:00:14 -0400
kjohnson1macOS 13.6.1 Ventura / arm64  OK    OK    OK    OK  NO, package depends on 'TFBSTools' which is only available as a source package that needs compilation
Package 74/532HostnameOS / ArchINSTALLBUILDCHECKBUILD BIN
CiteFuse 1.14.0  (landing page)
Yingxin Lin
git_last_commit: 154770f
git_last_commit_date: 2023-10-24 11:21:20 -0400
kjohnson1macOS 13.6.1 Ventura / arm64  OK    ERROR  skippedskipped
Package 75/532HostnameOS / ArchINSTALLBUILDCHECKBUILD BIN
clusterExperiment 2.22.0  (landing page)
Elizabeth Purdom
git_last_commit: e99c78d
git_last_commit_date: 2023-10-24 10:51:18 -0400
kjohnson1macOS 13.6.1 Ventura / arm64  OK    OK    WARNINGS    OK  UNNEEDED, same version is already published
Package 76/532HostnameOS / ArchINSTALLBUILDCHECKBUILD BIN
clustifyr 1.14.0  (landing page)
Kent Riemondy
git_last_commit: de3d2df
git_last_commit_date: 2023-10-24 11:19:27 -0400
kjohnson1macOS 13.6.1 Ventura / arm64  OK    OK    OK    OK  UNNEEDED, same version is already published
Package 77/532HostnameOS / ArchINSTALLBUILDCHECKBUILD BIN
cmapR 1.14.0  (landing page)
Ted Natoli
git_last_commit: 34c94ad
git_last_commit_date: 2023-10-24 11:20:22 -0400
kjohnson1macOS 13.6.1 Ventura / arm64  OK    OK    OK    OK  UNNEEDED, same version is already published
Package 78/532HostnameOS / ArchINSTALLBUILDCHECKBUILD BIN
CNVfilteR 1.16.0  (landing page)
Jose Marcos Moreno-Cabrera
git_last_commit: b3a6913
git_last_commit_date: 2023-10-24 11:17:02 -0400
kjohnson1macOS 13.6.1 Ventura / arm64  OK    OK    OK    OK  UNNEEDED, same version is already published
Package 79/532HostnameOS / ArchINSTALLBUILDCHECKBUILD BIN
CNVRanger 1.18.1  (landing page)
Ludwig Geistlinger
git_last_commit: bccc306
git_last_commit_date: 2024-02-24 16:54:29 -0400
kjohnson1macOS 13.6.1 Ventura / arm64  OK    OK    OK    OK  UNNEEDED, same version is already published
Package 80/532HostnameOS / ArchINSTALLBUILDCHECKBUILD BIN
CoGAPS 3.22.0  (landing page)
Elana J. Fertig
git_last_commit: 4118fd6
git_last_commit_date: 2023-10-24 09:44:27 -0400
kjohnson1macOS 13.6.1 Ventura / arm64  OK    ERROR  skippedskipped
Package 81/532HostnameOS / ArchINSTALLBUILDCHECKBUILD BIN
comapr 1.6.1  (landing page)
Ruqian Lyu
git_last_commit: fe01419
git_last_commit_date: 2023-10-27 00:06:38 -0400
kjohnson1macOS 13.6.1 Ventura / arm64  OK    OK    OK    OK  UNNEEDED, same version is already published
Package 82/532HostnameOS / ArchINSTALLBUILDCHECKBUILD BIN
combi 1.14.0  (landing page)
Stijn Hawinkel
git_last_commit: 79a4a97
git_last_commit_date: 2023-10-24 11:20:28 -0400
kjohnson1macOS 13.6.1 Ventura / arm64  OK    OK    OK    OK  UNNEEDED, same version is already published
Package 83/532HostnameOS / ArchINSTALLBUILDCHECKBUILD BIN
compartmap 1.20.0  (landing page)
Benjamin Johnson
git_last_commit: 4538ef1
git_last_commit_date: 2023-10-24 11:09:25 -0400
kjohnson1macOS 13.6.1 Ventura / arm64  OK    OK    OK    OK  UNNEEDED, same version is already published
Package 84/532HostnameOS / ArchINSTALLBUILDCHECKBUILD BIN
condiments 1.10.0  (landing page)
Hector Roux de Bezieux
git_last_commit: d7f032b
git_last_commit_date: 2023-10-24 11:31:30 -0400
kjohnson1macOS 13.6.1 Ventura / arm64  OK    OK    OK    OK  UNNEEDED, same version is already published
Package 85/532HostnameOS / ArchINSTALLBUILDCHECKBUILD BIN
consensusDE 1.20.0  (landing page)
Ashley J. Waardenberg
git_last_commit: 8cccaad
git_last_commit_date: 2023-10-24 11:09:05 -0400
kjohnson1macOS 13.6.1 Ventura / arm64  OK    OK    OK    OK  UNNEEDED, same version is already published
Package 86/532HostnameOS / ArchINSTALLBUILDCHECKBUILD BIN
consICA 2.0.0  (landing page)
Petr V. Nazarov
git_last_commit: d7fa01e
git_last_commit_date: 2023-10-24 11:43:58 -0400
kjohnson1macOS 13.6.1 Ventura / arm64  OK    OK    OK    OK  UNNEEDED, same version is already published
Package 87/532HostnameOS / ArchINSTALLBUILDCHECKBUILD BIN
CopyNumberPlots 1.18.0  (landing page)
Bernat Gel
git_last_commit: 88ca611
git_last_commit_date: 2023-10-24 11:13:15 -0400
kjohnson1macOS 13.6.1 Ventura / arm64  OK    OK    OK    OK  UNNEEDED, same version is already published
Package 88/532HostnameOS / ArchINSTALLBUILDCHECKBUILD BIN
CoreGx 2.6.1  (landing page)
Benjamin Haibe-Kains
git_last_commit: a9b3365
git_last_commit_date: 2024-03-11 16:26:11 -0400
kjohnson1macOS 13.6.1 Ventura / arm64  OK    OK    WARNINGS    OK  UNNEEDED, same version is already published
Package 89/532HostnameOS / ArchINSTALLBUILDCHECKBUILD BIN
corral 1.12.0  (landing page)
Lauren Hsu
git_last_commit: ff9dade
git_last_commit_date: 2023-10-24 11:23:12 -0400
kjohnson1macOS 13.6.1 Ventura / arm64  OK    ERROR  skippedskipped
Package 90/532HostnameOS / ArchINSTALLBUILDCHECKBUILD BIN
coseq 1.26.0  (landing page)
Andrea Rau
git_last_commit: 985d20a
git_last_commit_date: 2023-10-24 10:54:56 -0400
kjohnson1macOS 13.6.1 Ventura / arm64  OK    OK    OK    OK  UNNEEDED, same version is already published
Package 91/532HostnameOS / ArchINSTALLBUILDCHECKBUILD BIN
countsimQC 1.20.0  (landing page)
Charlotte Soneson
git_last_commit: 7089dc0
git_last_commit_date: 2023-10-24 11:08:14 -0400
kjohnson1macOS 13.6.1 Ventura / arm64  OK    OK    OK    OK  UNNEEDED, same version is already published
Package 92/532HostnameOS / ArchINSTALLBUILDCHECKBUILD BIN
csaw 1.36.1  (landing page)
Aaron Lun
git_last_commit: 25b51ba
git_last_commit_date: 2023-11-30 02:21:57 -0400
kjohnson1macOS 13.6.1 Ventura / arm64  OK    OK    WARNINGS    OK  UNNEEDED, same version is already published
Package 93/532HostnameOS / ArchINSTALLBUILDCHECKBUILD BIN
CSSQ 1.14.0  (landing page)
Fan Lab at Georgia Institute of Technology
git_last_commit: 169f2fd
git_last_commit_date: 2023-10-24 11:18:33 -0400
kjohnson1macOS 13.6.1 Ventura / arm64  OK    OK    OK    OK  UNNEEDED, same version is already published
Package 94/532HostnameOS / ArchINSTALLBUILDCHECKBUILD BIN
CTSV 1.4.0  (landing page)
Jinge Yu Developer
git_last_commit: c5da80c
git_last_commit_date: 2023-10-24 11:42:40 -0400
kjohnson1macOS 13.6.1 Ventura / arm64  OK    OK    OK    OK  UNNEEDED, same version is already published
Package 95/532HostnameOS / ArchINSTALLBUILDCHECKBUILD BIN
CuratedAtlasQueryR 1.0.1  (landing page)
Stefano Mangiola
git_last_commit: bb3acd7
git_last_commit_date: 2023-12-06 18:35:08 -0400
kjohnson1macOS 13.6.1 Ventura / arm64  OK    OK    OK    OK  UNNEEDED, same version is already published
Package 96/532HostnameOS / ArchINSTALLBUILDCHECKBUILD BIN
cydar 1.26.0  (landing page)
Aaron Lun
git_last_commit: 0191ed4
git_last_commit_date: 2023-10-24 10:56:16 -0400
kjohnson1macOS 13.6.1 Ventura / arm64  OK    OK    OK    OK  UNNEEDED, same version is already published
Package 97/532HostnameOS / ArchINSTALLBUILDCHECKBUILD BIN
CyTOFpower 1.8.0  (landing page)
Anne-Maud Ferreira
git_last_commit: d62a254
git_last_commit_date: 2023-10-24 11:37:28 -0400
kjohnson1macOS 13.6.1 Ventura / arm64  OK    OK    ERROR    OK  
Package 98/532HostnameOS / ArchINSTALLBUILDCHECKBUILD BIN
cytofQC 1.2.0  (landing page)
Jill Lundell
git_last_commit: 93adeda
git_last_commit_date: 2023-10-24 11:47:40 -0400
kjohnson1macOS 13.6.1 Ventura / arm64  OK    OK    OK    OK  UNNEEDED, same version is already published
Package 99/532HostnameOS / ArchINSTALLBUILDCHECKBUILD BIN
cytoKernel 1.8.0  (landing page)
Tusharkanti Ghosh
git_last_commit: 7991fb2
git_last_commit_date: 2023-10-24 11:36:32 -0400
kjohnson1macOS 13.6.1 Ventura / arm64  OK    OK    OK    OK  UNNEEDED, same version is already published
Package 100/532HostnameOS / ArchINSTALLBUILDCHECKBUILD BIN
cytomapper 1.14.0  (landing page)
Nils Eling
git_last_commit: 2e891af
git_last_commit_date: 2023-10-24 11:20:45 -0400
kjohnson1macOS 13.6.1 Ventura / arm64  OK    OK    OK    OK  UNNEEDED, same version is already published
Package 101/532HostnameOS / ArchINSTALLBUILDCHECKBUILD BIN
cytoviewer 1.2.0  (landing page)
Lasse Meyer
git_last_commit: 96bf9c6
git_last_commit_date: 2023-10-24 11:47:56 -0400
kjohnson1macOS 13.6.1 Ventura / arm64  OK    OK    OK    OK  UNNEEDED, same version is already published
Package 102/532HostnameOS / ArchINSTALLBUILDCHECKBUILD BIN
DAMEfinder 1.14.0  (landing page)
Stephany Orjuela
git_last_commit: 622c379
git_last_commit_date: 2023-10-24 11:19:04 -0400
kjohnson1macOS 13.6.1 Ventura / arm64  OK    OK    OK    OK  UNNEEDED, same version is already published
Package 103/532HostnameOS / ArchINSTALLBUILDCHECKBUILD BIN
DaMiRseq 2.14.0  (landing page)
Mattia Chiesa
git_last_commit: 18c499a
git_last_commit_date: 2023-10-24 10:56:05 -0400
kjohnson1macOS 13.6.1 Ventura / arm64  OK    OK    OK    OK  UNNEEDED, same version is already published
Package 104/532HostnameOS / ArchINSTALLBUILDCHECKBUILD BIN
debCAM 1.20.0  (landing page)
Lulu Chen
git_last_commit: 6ad0999
git_last_commit_date: 2023-10-24 11:16:25 -0400
kjohnson1macOS 13.6.1 Ventura / arm64  OK    OK    OK    OK  UNNEEDED, same version is already published
Package 105/532HostnameOS / ArchINSTALLBUILDCHECKBUILD BIN
debrowser 1.30.2  (landing page)
Alper Kucukural
git_last_commit: edf9f4c
git_last_commit_date: 2024-02-05 11:10:13 -0400
kjohnson1macOS 13.6.1 Ventura / arm64  OK    ERROR  skippedskipped
Package 106/532HostnameOS / ArchINSTALLBUILDCHECKBUILD BIN
deco 1.18.0  (landing page)
Francisco Jose Campos Laborie
git_last_commit: e2f2dad
git_last_commit_date: 2023-10-24 11:10:03 -0400
kjohnson1macOS 13.6.1 Ventura / arm64  OK    ERROR  skippedskipped
Package 107/532HostnameOS / ArchINSTALLBUILDCHECKBUILD BIN
decompTumor2Sig 2.18.0  (landing page)
Rosario M. Piro
git_last_commit: d01f0b5
git_last_commit_date: 2023-10-24 11:09:45 -0400
kjohnson1macOS 13.6.1 Ventura / arm64  OK    TIMEOUT  skippedskipped
Package 108/532HostnameOS / ArchINSTALLBUILDCHECKBUILD BIN
decontX 1.0.0  (landing page)
Yuan Yin
git_last_commit: 980f09b
git_last_commit_date: 2023-10-24 11:52:30 -0400
kjohnson1macOS 13.6.1 Ventura / arm64  OK    OK    WARNINGS    OK  UNNEEDED, same version is already published
Package 109/532HostnameOS / ArchINSTALLBUILDCHECKBUILD BIN
deepSNV 1.48.0  (landing page)
Moritz Gerstung
git_last_commit: 38615a9
git_last_commit_date: 2023-10-24 09:49:21 -0400
kjohnson1macOS 13.6.1 Ventura / arm64  OK    OK    WARNINGS    OK  UNNEEDED, same version is already published
Package 110/532HostnameOS / ArchINSTALLBUILDCHECKBUILD BIN
DEFormats 1.30.0  (landing page)
Andrzej Oleś
git_last_commit: aeab5ae
git_last_commit_date: 2023-10-24 10:48:54 -0400
kjohnson1macOS 13.6.1 Ventura / arm64  OK    OK    OK    OK  UNNEEDED, same version is already published
Package 111/532HostnameOS / ArchINSTALLBUILDCHECKBUILD BIN
DEGreport 1.38.5  (landing page)
Lorena Pantano
git_last_commit: 672d8e5
git_last_commit_date: 2023-12-06 13:39:58 -0400
kjohnson1macOS 13.6.1 Ventura / arm64  OK    OK    OK    OK  UNNEEDED, same version is already published
Package 112/532HostnameOS / ArchINSTALLBUILDCHECKBUILD BIN
DELocal 1.2.1  (landing page)
Rishi Das Roy
git_last_commit: 063d523
git_last_commit_date: 2024-03-26 04:27:26 -0400
kjohnson1macOS 13.6.1 Ventura / arm64  OK    OK    OK    OK  YES
Package 113/532HostnameOS / ArchINSTALLBUILDCHECKBUILD BIN
deltaCaptureC 1.16.1  (landing page)
Michael Shapiro
git_last_commit: f7fe245
git_last_commit_date: 2024-03-21 07:33:24 -0400
kjohnson1macOS 13.6.1 Ventura / arm64  OK    OK    OK    OK  UNNEEDED, same version is already published
Package 114/532HostnameOS / ArchINSTALLBUILDCHECKBUILD BIN
DeMixT 1.18.0  (landing page)
Shuai Guo
git_last_commit: 27c62df
git_last_commit_date: 2023-10-24 11:12:18 -0400
kjohnson1macOS 13.6.1 Ventura / arm64  OK    OK    WARNINGS    OK  UNNEEDED, same version is already published
Package 115/532HostnameOS / ArchINSTALLBUILDCHECKBUILD BIN
demuxSNP 1.0.0  (landing page)
Michael Lynch
git_last_commit: 1af04e3
git_last_commit_date: 2023-10-24 11:49:18 -0400
kjohnson1macOS 13.6.1 Ventura / arm64  OK    OK    OK    OK  UNNEEDED, same version is already published
Package 116/532HostnameOS / ArchINSTALLBUILDCHECKBUILD BIN
DEP 1.24.0  (landing page)
Arne Smits
git_last_commit: 3eedbc9
git_last_commit_date: 2023-10-24 10:58:53 -0400
kjohnson1macOS 13.6.1 Ventura / arm64  OK    OK    WARNINGS    OK  UNNEEDED, same version is already published
Package 117/532HostnameOS / ArchINSTALLBUILDCHECKBUILD BIN
DEScan2 1.22.0  (landing page)
Dario Righelli
git_last_commit: 9abfdf1
git_last_commit_date: 2023-10-24 11:03:24 -0400
kjohnson1macOS 13.6.1 Ventura / arm64  OK    OK    WARNINGS    OK  UNNEEDED, same version is already published
Package 118/532HostnameOS / ArchINSTALLBUILDCHECKBUILD BIN
DESeq2 1.42.1  (landing page)
Michael Love
git_last_commit: 1c1c928
git_last_commit_date: 2024-03-06 10:49:39 -0400
kjohnson1macOS 13.6.1 Ventura / arm64  OK    OK    OK    OK  UNNEEDED, same version is already published
Package 119/532HostnameOS / ArchINSTALLBUILDCHECKBUILD BIN
DESpace 1.2.1  (landing page)
Peiying Cai
git_last_commit: ad6d77d
git_last_commit_date: 2024-01-22 11:01:36 -0400
kjohnson1macOS 13.6.1 Ventura / arm64  OK    OK    OK    OK  UNNEEDED, same version is already published
Package 120/532HostnameOS / ArchINSTALLBUILDCHECKBUILD BIN
destiny 3.16.0  (landing page)
Philipp Angerer
git_last_commit: 300eb29
git_last_commit_date: 2023-12-28 07:36:24 -0400
kjohnson1macOS 13.6.1 Ventura / arm64  OK    OK    ERROR    OK  
Package 121/532HostnameOS / ArchINSTALLBUILDCHECKBUILD BIN
DEWSeq 1.16.2  (landing page)
bioinformatics team Hentze
git_last_commit: 9459b13
git_last_commit_date: 2023-11-15 02:40:12 -0400
kjohnson1macOS 13.6.1 Ventura / arm64  OK    OK    OK    OK  UNNEEDED, same version is already published
Package 122/532HostnameOS / ArchINSTALLBUILDCHECKBUILD BIN
DEXSeq 1.48.0  (landing page)
Alejandro Reyes
git_last_commit: 40ec7ae
git_last_commit_date: 2023-10-24 09:47:02 -0400
kjohnson1macOS 13.6.1 Ventura / arm64  OK    OK    OK    OK  UNNEEDED, same version is already published
Package 123/532HostnameOS / ArchINSTALLBUILDCHECKBUILD BIN
DiffBind 3.12.0  (landing page)
Rory Stark
git_last_commit: 00284e8
git_last_commit_date: 2023-10-24 09:48:02 -0400
kjohnson1macOS 13.6.1 Ventura / arm64  OK    OK    WARNINGS    OK  UNNEEDED, same version is already published
Package 124/532HostnameOS / ArchINSTALLBUILDCHECKBUILD BIN
diffcoexp 1.22.0  (landing page)
Wenbin Wei
git_last_commit: d903fab
git_last_commit_date: 2023-10-24 11:03:26 -0400
kjohnson1macOS 13.6.1 Ventura / arm64  OK    OK    OK    OK  UNNEEDED, same version is already published
Package 125/532HostnameOS / ArchINSTALLBUILDCHECKBUILD BIN
diffcyt 1.22.1  (landing page)
Lukas M. Weber
git_last_commit: 871da65
git_last_commit_date: 2024-03-17 14:26:13 -0400
kjohnson1macOS 13.6.1 Ventura / arm64  OK    OK    OK    OK  UNNEEDED, same version is already published
Package 126/532HostnameOS / ArchINSTALLBUILDCHECKBUILD BIN
DifferentialRegulation 2.0.3  (landing page)
Simone Tiberi
git_last_commit: 5880e44
git_last_commit_date: 2024-01-22 10:47:17 -0400
kjohnson1macOS 13.6.1 Ventura / arm64  OK    OK    OK    OK  UNNEEDED, same version is already published
Package 127/532HostnameOS / ArchINSTALLBUILDCHECKBUILD BIN
diffHic 1.34.0  (landing page)
Aaron Lun
git_last_commit: d7d9f66
git_last_commit_date: 2023-10-24 10:43:16 -0400
kjohnson1macOS 13.6.1 Ventura / arm64  OK    OK    WARNINGS    OK  UNNEEDED, same version is already published
Package 128/532HostnameOS / ArchINSTALLBUILDCHECKBUILD BIN
diffUTR 1.10.0  (landing page)
Pierre-Luc Germain
git_last_commit: 90e9a90
git_last_commit_date: 2023-10-24 11:33:18 -0400
kjohnson1macOS 13.6.1 Ventura / arm64  OK    OK    OK    OK  UNNEEDED, same version is already published
Package 129/532HostnameOS / ArchINSTALLBUILDCHECKBUILD BIN
Dino 1.8.0  (landing page)
Jared Brown
git_last_commit: 6057572
git_last_commit_date: 2023-10-24 11:34:47 -0400
kjohnson1macOS 13.6.1 Ventura / arm64  OK    ERROR  skippedskipped
Package 130/532HostnameOS / ArchINSTALLBUILDCHECKBUILD BIN
DiscoRhythm 1.18.0  (landing page)
Matthew Carlucci
git_last_commit: 3019321
git_last_commit_date: 2023-10-24 11:12:44 -0400
kjohnson1macOS 13.6.1 Ventura / arm64  OK    OK    OK    OK  UNNEEDED, same version is already published
Package 131/532HostnameOS / ArchINSTALLBUILDCHECKBUILD BIN
distinct 1.14.5  (landing page)
Simone Tiberi
git_last_commit: 31c7174
git_last_commit_date: 2023-12-04 09:29:02 -0400
kjohnson1macOS 13.6.1 Ventura / arm64  OK    OK    OK    OK  UNNEEDED, same version is already published
Package 132/532HostnameOS / ArchINSTALLBUILDCHECKBUILD BIN
dittoSeq 1.14.3  (landing page)
Daniel Bunis
git_last_commit: 34da864
git_last_commit_date: 2024-03-15 10:27:28 -0400
kjohnson1macOS 13.6.1 Ventura / arm64  OK    ERROR  skippedskipped
Package 133/532HostnameOS / ArchINSTALLBUILDCHECKBUILD BIN
divergence 1.18.0  (landing page)
Wikum Dinalankara , Luigi Marchionni
git_last_commit: 7ec43c9
git_last_commit_date: 2023-10-24 11:10:44 -0400
kjohnson1macOS 13.6.1 Ventura / arm64  OK    OK    OK    OK  UNNEEDED, same version is already published
Package 134/532HostnameOS / ArchINSTALLBUILDCHECKBUILD BIN
DMCFB 1.16.1  (landing page)
Farhad Shokoohi
git_last_commit: d224bf2
git_last_commit_date: 2024-02-02 12:58:49 -0400
kjohnson1macOS 13.6.1 Ventura / arm64  OK    OK    OK    OK  UNNEEDED, same version is already published
Package 135/532HostnameOS / ArchINSTALLBUILDCHECKBUILD BIN
DMCHMM 1.24.0  (landing page)
Farhad Shokoohi
git_last_commit: bae8dc8
git_last_commit_date: 2023-10-24 10:59:14 -0400
kjohnson1macOS 13.6.1 Ventura / arm64  OK    OK    OK    OK  UNNEEDED, same version is already published
Package 136/532HostnameOS / ArchINSTALLBUILDCHECKBUILD BIN
DMRcate 2.16.1  (landing page)
Tim Peters
git_last_commit: 4cd2397
git_last_commit_date: 2023-12-04 22:28:28 -0400
kjohnson1macOS 13.6.1 Ventura / arm64  OK    OK    OK    OK  UNNEEDED, same version is already published
Package 137/532HostnameOS / ArchINSTALLBUILDCHECKBUILD BIN
DominoEffect 1.22.0  (landing page)
Marija Buljan
git_last_commit: 58dcf55
git_last_commit_date: 2023-10-24 11:02:58 -0400
kjohnson1macOS 13.6.1 Ventura / arm64  OK    ERROR  skippedskipped
Package 138/532HostnameOS / ArchINSTALLBUILDCHECKBUILD BIN
doppelgangR 1.30.0  (landing page)
Levi Waldron
git_last_commit: 2f9209e
git_last_commit_date: 2023-10-24 10:48:24 -0400
kjohnson1macOS 13.6.1 Ventura / arm64  OK    OK    OK    OK  UNNEEDED, same version is already published
Package 139/532HostnameOS / ArchINSTALLBUILDCHECKBUILD BIN
doseR 1.18.0  (landing page)
ake.vastermark
git_last_commit: 4384034
git_last_commit_date: 2023-10-24 11:11:21 -0400
kjohnson1macOS 13.6.1 Ventura / arm64  OK    OK    OK    OK  UNNEEDED, same version is already published
Package 140/532HostnameOS / ArchINSTALLBUILDCHECKBUILD BIN
dreamlet 1.0.3  (landing page)
Gabriel Hoffman
git_last_commit: 0e59587
git_last_commit_date: 2024-02-27 14:51:44 -0400
kjohnson1macOS 13.6.1 Ventura / arm64  OK    OK    OK    OK  UNNEEDED, same version is already published
Package 141/532HostnameOS / ArchINSTALLBUILDCHECKBUILD BIN
DropletUtils 1.22.0  (landing page)
Jonathan Griffiths
git_last_commit: 56d3ce8
git_last_commit_date: 2023-10-24 11:02:09 -0400
kjohnson1macOS 13.6.1 Ventura / arm64  OK    OK    WARNINGS    OK  UNNEEDED, same version is already published
Package 142/532HostnameOS / ArchINSTALLBUILDCHECKBUILD BIN
Dune 1.14.0  (landing page)
Hector Roux de Bezieux
git_last_commit: b34c4db
git_last_commit_date: 2023-10-24 11:20:25 -0400
kjohnson1macOS 13.6.1 Ventura / arm64  OK    OK    ERROR    OK  
Package 143/532HostnameOS / ArchINSTALLBUILDCHECKBUILD BIN
easyRNASeq 2.38.0  (landing page)
Nicolas Delhomme
git_last_commit: e7d99c2
git_last_commit_date: 2023-10-24 09:49:08 -0400
kjohnson1macOS 13.6.1 Ventura / arm64  OK    OK    OK    OK  UNNEEDED, same version is already published
Package 144/532HostnameOS / ArchINSTALLBUILDCHECKBUILD BIN
eisaR 1.14.1  (landing page)
Michael Stadler
git_last_commit: e4a470a
git_last_commit_date: 2024-01-15 08:05:34 -0400
kjohnson1macOS 13.6.1 Ventura / arm64  OK    OK    OK    OK  UNNEEDED, same version is already published
Package 145/532HostnameOS / ArchINSTALLBUILDCHECKBUILD BIN
ELMER 2.26.0  (landing page)
Tiago Chedraoui Silva
git_last_commit: ceacb6a
git_last_commit_date: 2023-10-24 10:43:48 -0400
kjohnson1macOS 13.6.1 Ventura / arm64  OK    OK    OK    OK  UNNEEDED, same version is already published
Package 146/532HostnameOS / ArchINSTALLBUILDCHECKBUILD BIN
ENmix 1.38.01  (landing page)
Zongli Xu
git_last_commit: 0a1ee50
git_last_commit_date: 2023-10-25 08:27:48 -0400
kjohnson1macOS 13.6.1 Ventura / arm64  OK    OK    OK    OK  UNNEEDED, same version is already published
Package 147/532HostnameOS / ArchINSTALLBUILDCHECKBUILD BIN
EnrichmentBrowser 2.32.0  (landing page)
Ludwig Geistlinger
git_last_commit: a2bb60b
git_last_commit_date: 2023-10-24 10:38:31 -0400
kjohnson1macOS 13.6.1 Ventura / arm64  OK    OK    OK    OK  UNNEEDED, same version is already published
Package 148/532HostnameOS / ArchINSTALLBUILDCHECKBUILD BIN
ensemblVEP 1.44.0  (landing page)
Bioconductor Package Maintainer
git_last_commit: 58d05c0
git_last_commit_date: 2023-10-24 09:52:14 -0400
kjohnson1macOS 13.6.1 Ventura / arm64  OK    ERROR  skippedskipped
Package 149/532HostnameOS / ArchINSTALLBUILDCHECKBUILD BIN
epialleleR 1.10.0  (landing page)
Oleksii Nikolaienko
git_last_commit: 4b18f84
git_last_commit_date: 2023-10-24 11:33:27 -0400
kjohnson1macOS 13.6.1 Ventura / arm64  OK    OK    WARNINGS    OK  UNNEEDED, same version is already published
Package 150/532HostnameOS / ArchINSTALLBUILDCHECKBUILD BIN
epigenomix 1.42.0  (landing page)
Hans-Ulrich Klein
git_last_commit: 060951e
git_last_commit_date: 2023-10-24 09:53:11 -0400
kjohnson1macOS 13.6.1 Ventura / arm64  OK    OK    OK    OK  UNNEEDED, same version is already published
Package 151/532HostnameOS / ArchINSTALLBUILDCHECKBUILD BIN
epigraHMM 1.10.0  (landing page)
Pedro Baldoni
git_last_commit: 810c6f9
git_last_commit_date: 2023-10-24 11:33:52 -0400
kjohnson1macOS 13.6.1 Ventura / arm64  OK    OK    WARNINGS    OK  UNNEEDED, same version is already published
Package 152/532HostnameOS / ArchINSTALLBUILDCHECKBUILD BIN
EpiMix 1.4.0  (landing page)
Yuanning Zheng
git_last_commit: dd3578d
git_last_commit_date: 2023-10-24 11:43:01 -0400
kjohnson1macOS 13.6.1 Ventura / arm64  OK    OK    OK    OK  UNNEEDED, same version is already published
Package 153/532HostnameOS / ArchINSTALLBUILDCHECKBUILD BIN
epimutacions 1.6.1  (landing page)
Dolors Pelegri-Siso
git_last_commit: ba2e314
git_last_commit_date: 2023-11-03 07:47:17 -0400
kjohnson1macOS 13.6.1 Ventura / arm64  OK    OK    OK    OK  UNNEEDED, same version is already published
Package 154/532HostnameOS / ArchINSTALLBUILDCHECKBUILD BIN
epistack 1.8.0  (landing page)
DEVAILLY Guillaume
git_last_commit: cd802db
git_last_commit_date: 2023-10-24 11:37:24 -0400
kjohnson1macOS 13.6.1 Ventura / arm64  OK    OK    OK    OK  UNNEEDED, same version is already published
Package 155/532HostnameOS / ArchINSTALLBUILDCHECKBUILD BIN
epivizrData 1.30.0  (landing page)
Hector Corrada Bravo
git_last_commit: 83031e5
git_last_commit_date: 2023-10-24 10:50:04 -0400
kjohnson1macOS 13.6.1 Ventura / arm64  OK    OK    OK    OK  UNNEEDED, same version is already published
Package 156/532HostnameOS / ArchINSTALLBUILDCHECKBUILD BIN
erma 1.18.0  (landing page)
VJ Carey
git_last_commit: bed2908
git_last_commit_date: 2023-10-24 10:43:59 -0400
kjohnson1macOS 13.6.1 Ventura / arm64  OK    OK    OK    OK  UNNEEDED, same version is already published
Package 157/532HostnameOS / ArchINSTALLBUILDCHECKBUILD BIN
escape 1.12.0  (landing page)
Nick Borcherding
git_last_commit: 51adca6
git_last_commit_date: 2023-10-24 11:23:58 -0400
kjohnson1macOS 13.6.1 Ventura / arm64  OK    OK    OK    OK  UNNEEDED, same version is already published
Package 158/532HostnameOS / ArchINSTALLBUILDCHECKBUILD BIN
escheR 1.2.0  (landing page)
Boyi Guo
git_last_commit: 5db76f5
git_last_commit_date: 2023-10-24 11:47:59 -0400
kjohnson1macOS 13.6.1 Ventura / arm64  OK    OK    OK    OK  UNNEEDED, same version is already published
Package 159/532HostnameOS / ArchINSTALLBUILDCHECKBUILD BIN
evaluomeR 1.18.0  (landing page)
José Antonio Bernabé-Díaz
git_last_commit: 183fda4
git_last_commit_date: 2023-10-24 11:12:14 -0400
kjohnson1macOS 13.6.1 Ventura / arm64  OK    OK    OK    OK  UNNEEDED, same version is already published
Package 160/532HostnameOS / ArchINSTALLBUILDCHECKBUILD BIN
EventPointer 3.10.0  (landing page)
Juan A. Ferrer-Bonsoms
git_last_commit: 3989887
git_last_commit_date: 2023-10-24 10:55:44 -0400
kjohnson1macOS 13.6.1 Ventura / arm64  OK    OK    OK    OK  UNNEEDED, same version is already published
Package 161/532HostnameOS / ArchINSTALLBUILDCHECKBUILD BIN
EWCE 1.10.2  (landing page)
Alan Murphy
git_last_commit: 0413c77
git_last_commit_date: 2023-10-31 11:15:34 -0400
kjohnson1macOS 13.6.1 Ventura / arm64  OK    OK    OK    OK  UNNEEDED, same version is already published
Package 162/532HostnameOS / ArchINSTALLBUILDCHECKBUILD BIN
exomePeak2 1.14.3  (landing page)
Zhen Wei
git_last_commit: 8d265ea
git_last_commit_date: 2023-11-26 20:47:38 -0400
kjohnson1macOS 13.6.1 Ventura / arm64  OK    OK    OK    OK  UNNEEDED, same version is already published
Package 163/532HostnameOS / ArchINSTALLBUILDCHECKBUILD BIN
ExperimentSubset 1.12.0  (landing page)
Irzam Sarfraz
git_last_commit: a43cdbf
git_last_commit_date: 2023-10-24 11:26:48 -0400
kjohnson1macOS 13.6.1 Ventura / arm64  OK    OK    ERROR    OK  
Package 164/532HostnameOS / ArchINSTALLBUILDCHECKBUILD BIN
ExpressionAtlas 1.30.0  (landing page)
Pedro Madrigal
git_last_commit: 62d01ee
git_last_commit_date: 2023-10-24 10:47:44 -0400
kjohnson1macOS 13.6.1 Ventura / arm64  OK    OK    OK    OK  UNNEEDED, same version is already published
Package 165/532HostnameOS / ArchINSTALLBUILDCHECKBUILD BIN
extraChIPs 1.6.1  (landing page)
Stephen Pederson
git_last_commit: fb27d0b
git_last_commit_date: 2024-02-27 06:23:59 -0400
kjohnson1macOS 13.6.1 Ventura / arm64  OK    OK    OK    OK  UNNEEDED, same version is already published
Package 166/532HostnameOS / ArchINSTALLBUILDCHECKBUILD BIN
FCBF 2.10.0  (landing page)
Tiago Lubiana
git_last_commit: 9deb5d7
git_last_commit_date: 2023-10-24 11:08:28 -0400
kjohnson1macOS 13.6.1 Ventura / arm64  OK    OK    OK    OK  UNNEEDED, same version is already published
Package 167/532HostnameOS / ArchINSTALLBUILDCHECKBUILD BIN
fcScan 1.16.0  (landing page)
Pierre Khoueiry Abdullah El-Kurdi
git_last_commit: 0195085
git_last_commit_date: 2023-10-24 11:15:44 -0400
kjohnson1macOS 13.6.1 Ventura / arm64  OK    OK    OK    OK  UNNEEDED, same version is already published
Package 168/532HostnameOS / ArchINSTALLBUILDCHECKBUILD BIN
FEAST 1.10.0  (landing page)
Kenong Su
git_last_commit: fe87a45
git_last_commit_date: 2023-10-24 11:32:31 -0400
kjohnson1macOS 13.6.1 Ventura / arm64  OK    OK    OK    OK  UNNEEDED, same version is already published
Package 169/532HostnameOS / ArchINSTALLBUILDCHECKBUILD BIN
FeatSeekR 1.2.0  (landing page)
Tuemay Capraz
git_last_commit: 984efc5
git_last_commit_date: 2023-10-24 11:48:46 -0400
kjohnson1macOS 13.6.1 Ventura / arm64  OK    OK    OK    OK  UNNEEDED, same version is already published
Package 170/532HostnameOS / ArchINSTALLBUILDCHECKBUILD BIN
FindIT2 1.8.0  (landing page)
Guandong Shang
git_last_commit: f4ef6c4
git_last_commit_date: 2023-10-24 11:34:37 -0400
kjohnson1macOS 13.6.1 Ventura / arm64  OK    OK    OK    OK  UNNEEDED, same version is already published
Package 171/532HostnameOS / ArchINSTALLBUILDCHECKBUILD BIN
fishpond 2.8.0  (landing page)
Michael Love
git_last_commit: 518499a
git_last_commit_date: 2023-10-24 11:11:13 -0400
kjohnson1macOS 13.6.1 Ventura / arm64  OK    OK    OK    OK  UNNEEDED, same version is already published
Package 172/532HostnameOS / ArchINSTALLBUILDCHECKBUILD BIN
FLAMES 1.8.0  (landing page)
Oliver Voogd
git_last_commit: 8b72098
git_last_commit_date: 2023-10-24 11:34:56 -0400
kjohnson1macOS 13.6.1 Ventura / arm64  OK    OK    ERROR    OK  
Package 173/532HostnameOS / ArchINSTALLBUILDCHECKBUILD BIN
FRASER 1.14.1  (landing page)
Christian Mertes
git_last_commit: 0a7204b
git_last_commit_date: 2024-02-11 14:03:18 -0400
kjohnson1macOS 13.6.1 Ventura / arm64  OK    OK    OK    OK  UNNEEDED, same version is already published
Package 174/532HostnameOS / ArchINSTALLBUILDCHECKBUILD BIN
FuseSOM 1.4.0  (landing page)
Elijah Willie
git_last_commit: ab1cc41
git_last_commit_date: 2023-10-24 11:45:14 -0400
kjohnson1macOS 13.6.1 Ventura / arm64  OK    OK    OK    OK  UNNEEDED, same version is already published
Package 175/532HostnameOS / ArchINSTALLBUILDCHECKBUILD BIN
GARS 1.22.0  (landing page)
Mattia Chiesa
git_last_commit: acbc127
git_last_commit_date: 2023-10-24 11:03:13 -0400
kjohnson1macOS 13.6.1 Ventura / arm64  OK    OK    OK    OK  UNNEEDED, same version is already published
Package 176/532HostnameOS / ArchINSTALLBUILDCHECKBUILD BIN
gCrisprTools 2.8.0  (landing page)
Russell Bainer
git_last_commit: b31fbe6
git_last_commit_date: 2023-10-24 10:52:32 -0400
kjohnson1macOS 13.6.1 Ventura / arm64  OK    OK    OK    OK  UNNEEDED, same version is already published
Package 177/532HostnameOS / ArchINSTALLBUILDCHECKBUILD BIN
gDNAx 1.0.2  (landing page)
Beatriz Calvo-Serra
git_last_commit: 0fb2969
git_last_commit_date: 2024-03-15 15:38:59 -0400
kjohnson1macOS 13.6.1 Ventura / arm64  OK    OK    OK    OK  UNNEEDED, same version is already published
Package 178/532HostnameOS / ArchINSTALLBUILDCHECKBUILD BIN
gDRcore 1.0.1  (landing page)
Arkadiusz Gladki
git_last_commit: 0405d87
git_last_commit_date: 2024-02-15 11:18:15 -0400
kjohnson1macOS 13.6.1 Ventura / arm64  OK    OK    OK    OK  UNNEEDED, same version is already published
Package 179/532HostnameOS / ArchINSTALLBUILDCHECKBUILD BIN
gDRimport 1.0.0  (landing page)
Arkadiusz Gladki
git_last_commit: bc9e88f
git_last_commit_date: 2023-10-24 11:49:32 -0400
kjohnson1macOS 13.6.1 Ventura / arm64  OK    OK    OK    OK  UNNEEDED, same version is already published
Package 180/532HostnameOS / ArchINSTALLBUILDCHECKBUILD BIN
gDRutils 1.0.0  (landing page)
Arkadiusz Gladki
git_last_commit: b8a1d96
git_last_commit_date: 2023-10-24 11:49:34 -0400
kjohnson1macOS 13.6.1 Ventura / arm64  OK    OK    OK    OK  UNNEEDED, same version is already published
Package 181/532HostnameOS / ArchINSTALLBUILDCHECKBUILD BIN
gemma.R 2.0.0  (landing page)
Ogan Mancarci
git_last_commit: 1f19014
git_last_commit_date: 2023-10-24 11:44:18 -0400
kjohnson1macOS 13.6.1 Ventura / arm64  OK    ERROR  skippedskipped
Package 182/532HostnameOS / ArchINSTALLBUILDCHECKBUILD BIN
GeneTonic 2.6.0  (landing page)
Federico Marini
git_last_commit: c3f7778
git_last_commit_date: 2023-10-24 11:19:17 -0400
kjohnson1macOS 13.6.1 Ventura / arm64  OK    OK    ERROR    OK  
Package 183/532HostnameOS / ArchINSTALLBUILDCHECKBUILD BIN
GenomicAlignments 1.38.2  (landing page)
Hervé Pagès
git_last_commit: d740c47
git_last_commit_date: 2024-01-16 12:05:27 -0400
kjohnson1macOS 13.6.1 Ventura / arm64  OK    OK    OK    OK  UNNEEDED, same version is already published
Package 184/532HostnameOS / ArchINSTALLBUILDCHECKBUILD BIN
GenomicFiles 1.38.0  (landing page)
Bioconductor Package Maintainer
git_last_commit: ddc9a88
git_last_commit_date: 2023-10-24 09:58:47 -0400
kjohnson1macOS 13.6.1 Ventura / arm64  OK    OK    WARNINGS    OK  UNNEEDED, same version is already published
Package 185/532HostnameOS / ArchINSTALLBUILDCHECKBUILD BIN
genomicInstability 1.8.0  (landing page)
Mariano Alvarez
git_last_commit: 188233e
git_last_commit_date: 2023-10-24 11:35:36 -0400
kjohnson1macOS 13.6.1 Ventura / arm64  OK    OK    OK    OK  UNNEEDED, same version is already published
Package 186/532HostnameOS / ArchINSTALLBUILDCHECKBUILD BIN
GenomicSuperSignature 1.10.0  (landing page)
Sehyun Oh
git_last_commit: 4f4ff12
git_last_commit_date: 2023-10-24 11:34:04 -0400
kjohnson1macOS 13.6.1 Ventura / arm64  OK    OK    WARNINGS    OK  UNNEEDED, same version is already published
Package 187/532HostnameOS / ArchINSTALLBUILDCHECKBUILD BIN
GeoTcgaData 2.2.0  (landing page)
Erqiang Hu
git_last_commit: e239614
git_last_commit_date: 2023-10-24 11:47:37 -0400
kjohnson1macOS 13.6.1 Ventura / arm64  OK    OK    OK    OK  UNNEEDED, same version is already published
Package 188/532HostnameOS / ArchINSTALLBUILDCHECKBUILD BIN
getDEE2 1.12.0  (landing page)
Mark Ziemann
git_last_commit: 6f1e88c
git_last_commit_date: 2023-10-24 11:22:59 -0400
kjohnson1macOS 13.6.1 Ventura / arm64  OK    OK    OK    OK  UNNEEDED, same version is already published
Package 189/532HostnameOS / ArchINSTALLBUILDCHECKBUILD BIN
ggbio 1.50.0  (landing page)
Michael Lawrence
git_last_commit: ec89905
git_last_commit_date: 2023-10-24 09:48:30 -0400
kjohnson1macOS 13.6.1 Ventura / arm64  OK    OK    WARNINGS    OK  UNNEEDED, same version is already published
Package 190/532HostnameOS / ArchINSTALLBUILDCHECKBUILD BIN
ggsc 1.0.2  (landing page)
Guangchuang Yu
git_last_commit: 67f8871
git_last_commit_date: 2023-10-31 11:54:37 -0400
kjohnson1macOS 13.6.1 Ventura / arm64  OK    OK    OK    OK  UNNEEDED, same version is already published
Package 191/532HostnameOS / ArchINSTALLBUILDCHECKBUILD BIN
ggspavis 1.8.1  (landing page)
Lukas M. Weber
git_last_commit: c036da7
git_last_commit_date: 2024-03-17 14:07:38 -0400
kjohnson1macOS 13.6.1 Ventura / arm64  OK    OK    ERROR    OK  
Package 192/532HostnameOS / ArchINSTALLBUILDCHECKBUILD BIN
Glimma 2.12.0  (landing page)
Shian Su
git_last_commit: 9ca869e
git_last_commit_date: 2023-10-24 10:49:23 -0400
kjohnson1macOS 13.6.1 Ventura / arm64  OK    OK    OK    OK  UNNEEDED, same version is already published
Package 193/532HostnameOS / ArchINSTALLBUILDCHECKBUILD BIN
glmGamPoi 1.14.3  (landing page)
Constantin Ahlmann-Eltze
git_last_commit: 5fd20c7
git_last_commit_date: 2024-02-10 01:20:19 -0400
kjohnson1macOS 13.6.1 Ventura / arm64  OK    OK    OK    OK  UNNEEDED, same version is already published
Package 194/532HostnameOS / ArchINSTALLBUILDCHECKBUILD BIN
glmSparseNet 1.20.1  (landing page)
André Veríssimo
git_last_commit: 19e4c66
git_last_commit_date: 2024-02-04 19:06:26 -0400
kjohnson1macOS 13.6.1 Ventura / arm64  OK    OK    OK    OK  UNNEEDED, same version is already published
Package 195/532HostnameOS / ArchINSTALLBUILDCHECKBUILD BIN
GNET2 1.18.0  (landing page)
Chen Chen
git_last_commit: 49bc07b
git_last_commit_date: 2023-10-24 11:12:21 -0400
kjohnson1macOS 13.6.1 Ventura / arm64  OK    OK    OK    OK  UNNEEDED, same version is already published
Package 196/532HostnameOS / ArchINSTALLBUILDCHECKBUILD BIN
GRaNIE 1.6.1  (landing page)
Christian Arnold
git_last_commit: 35f2aa9
git_last_commit_date: 2023-10-26 11:47:33 -0400
kjohnson1macOS 13.6.1 Ventura / arm64  OK    OK    ERROR    OK  
Package 197/532HostnameOS / ArchINSTALLBUILDCHECKBUILD BIN
GreyListChIP 1.34.0  (landing page)
Matt Eldridge
git_last_commit: 75f5a62
git_last_commit_date: 2023-10-24 10:41:19 -0400
kjohnson1macOS 13.6.1 Ventura / arm64  OK    OK    OK    OK  UNNEEDED, same version is already published
Package 198/532HostnameOS / ArchINSTALLBUILDCHECKBUILD BIN
GRmetrics 1.28.0  (landing page)
Nicholas Clark , Mario Medvedovic
git_last_commit: 90c38dd
git_last_commit_date: 2023-10-24 10:52:06 -0400
kjohnson1macOS 13.6.1 Ventura / arm64  OK    OK    OK    OK  UNNEEDED, same version is already published
Package 199/532HostnameOS / ArchINSTALLBUILDCHECKBUILD BIN
gscreend 1.16.1  (landing page)
Katharina Imkeller
git_last_commit: c8d008c
git_last_commit_date: 2024-03-12 06:05:51 -0400
kjohnson1macOS 13.6.1 Ventura / arm64  OK    OK    OK    OK  UNNEEDED, same version is already published
Package 200/532HostnameOS / ArchINSTALLBUILDCHECKBUILD BIN
GSEABenchmarkeR 1.22.0  (landing page)
Ludwig Geistlinger
git_last_commit: 40d5688
git_last_commit_date: 2023-10-24 11:03:50 -0400
kjohnson1macOS 13.6.1 Ventura / arm64  OK    OK    OK    OK  UNNEEDED, same version is already published
Package 201/532HostnameOS / ArchINSTALLBUILDCHECKBUILD BIN
GSVA 1.50.1  (landing page)
Robert Castelo
git_last_commit: e15f1c0
git_last_commit_date: 2024-03-05 06:24:37 -0400
kjohnson1macOS 13.6.1 Ventura / arm64  OK    OK    OK    OK  UNNEEDED, same version is already published
Package 202/532HostnameOS / ArchINSTALLBUILDCHECKBUILD BIN
gwasurvivr 1.20.0  (landing page)
Abbas Rizvi
git_last_commit: 34fb4cb
git_last_commit_date: 2023-10-24 11:06:06 -0400
kjohnson1macOS 13.6.1 Ventura / arm64  OK    OK    OK    OK  UNNEEDED, same version is already published
Package 203/532HostnameOS / ArchINSTALLBUILDCHECKBUILD BIN
GWENA 1.12.0  (landing page)
Gwenaëlle Lemoine
git_last_commit: 76d08ee
git_last_commit_date: 2023-10-24 11:23:28 -0400
kjohnson1macOS 13.6.1 Ventura / arm64  OK    OK    WARNINGS    OK  UNNEEDED, same version is already published
Package 204/532HostnameOS / ArchINSTALLBUILDCHECKBUILD BIN
HarmonizR 1.0.0  (landing page)
Simon Schlumbohm
git_last_commit: 6404f6c
git_last_commit_date: 2023-10-24 11:50:23 -0400
kjohnson1macOS 13.6.1 Ventura / arm64  OK    OK    OK    OK  UNNEEDED, same version is already published
Package 205/532HostnameOS / ArchINSTALLBUILDCHECKBUILD BIN
HelloRanges 1.28.0  (landing page)
Michael Lawrence
git_last_commit: 8cafa1f
git_last_commit_date: 2023-10-24 10:53:38 -0400
kjohnson1macOS 13.6.1 Ventura / arm64  OK    OK    OK    OK  UNNEEDED, same version is already published
Package 206/532HostnameOS / ArchINSTALLBUILDCHECKBUILD BIN
hermes 1.6.1  (landing page)
Daniel Sabanés Bové
git_last_commit: c301424
git_last_commit_date: 2024-03-15 04:30:37 -0400
kjohnson1macOS 13.6.1 Ventura / arm64  OK    OK    OK    OK  UNNEEDED, same version is already published
Package 207/532HostnameOS / ArchINSTALLBUILDCHECKBUILD BIN
HERON 1.0.0  (landing page)
Sean McIlwain
git_last_commit: 233a914
git_last_commit_date: 2023-10-24 11:50:30 -0400
kjohnson1macOS 13.6.1 Ventura / arm64  OK    OK    OK    OK  UNNEEDED, same version is already published
Package 208/532HostnameOS / ArchINSTALLBUILDCHECKBUILD BIN
HiCDOC 1.4.1  (landing page)
Maigné Élise
git_last_commit: 08dd5c5
git_last_commit_date: 2024-02-19 03:52:31 -0400
kjohnson1macOS 13.6.1 Ventura / arm64  OK    OK    OK    OK  UNNEEDED, same version is already published
Package 209/532HostnameOS / ArchINSTALLBUILDCHECKBUILD BIN
HiContacts 1.4.0  (landing page)
Jacques Serizay
git_last_commit: 00956df
git_last_commit_date: 2023-10-24 11:44:15 -0400
kjohnson1macOS 13.6.1 Ventura / arm64  OK    OK    OK    OK  UNNEEDED, same version is already published
Package 210/532HostnameOS / ArchINSTALLBUILDCHECKBUILD BIN
hipathia 3.2.0  (landing page)
Marta R. Hidalgo
git_last_commit: 251de34
git_last_commit_date: 2023-10-24 11:04:44 -0400
kjohnson1macOS 13.6.1 Ventura / arm64  OK    OK    OK    OK  UNNEEDED, same version is already published
Package 211/532HostnameOS / ArchINSTALLBUILDCHECKBUILD BIN
hoodscanR 1.0.0  (landing page)
Ning Liu
git_last_commit: 8d26dd1
git_last_commit_date: 2023-10-24 11:51:09 -0400
kjohnson1macOS 13.6.1 Ventura / arm64  OK    OK    OK    OK  UNNEEDED, same version is already published
Package 212/532HostnameOS / ArchINSTALLBUILDCHECKBUILD BIN
HumanTranscriptomeCompendium 1.18.1  (landing page)
VJ Carey
git_last_commit: dd39203
git_last_commit_date: 2024-02-12 12:23:53 -0400
kjohnson1macOS 13.6.1 Ventura / arm64  OK    OK    OK    OK  UNNEEDED, same version is already published
Package 213/532HostnameOS / ArchINSTALLBUILDCHECKBUILD BIN
hummingbird 1.12.0  (landing page)
Eleni Adam
git_last_commit: 8ba9af2
git_last_commit_date: 2023-10-24 11:24:28 -0400
kjohnson1macOS 13.6.1 Ventura / arm64  OK    OK    OK    OK  UNNEEDED, same version is already published
Package 214/532HostnameOS / ArchINSTALLBUILDCHECKBUILD BIN
iasva 1.20.0  (landing page)
Donghyung Lee , Anthony Cheng
git_last_commit: e6e4472
git_last_commit_date: 2023-10-24 11:05:46 -0400
kjohnson1macOS 13.6.1 Ventura / arm64  OK    OK    OK    OK  UNNEEDED, same version is already published
Package 215/532HostnameOS / ArchINSTALLBUILDCHECKBUILD BIN
icetea 1.20.0  (landing page)
Vivek Bhardwaj
git_last_commit: 7b58dbe
git_last_commit_date: 2023-10-24 11:06:09 -0400
kjohnson1macOS 13.6.1 Ventura / arm64  OK    OK    WARNINGS    OK  UNNEEDED, same version is already published
Package 216/532HostnameOS / ArchINSTALLBUILDCHECKBUILD BIN
ideal 1.26.0  (landing page)
Federico Marini
git_last_commit: d045512
git_last_commit_date: 2023-10-24 10:57:10 -0400
kjohnson1macOS 13.6.1 Ventura / arm64  OK    OK    OK    OK  UNNEEDED, same version is already published
Package 217/532HostnameOS / ArchINSTALLBUILDCHECKBUILD BIN
IFAA 1.4.0  (landing page)
Zhigang Li
git_last_commit: ca5c2f7
git_last_commit_date: 2023-10-24 11:45:38 -0400
kjohnson1macOS 13.6.1 Ventura / arm64  OK    OK    OK    OK  UNNEEDED, same version is already published
Package 218/532HostnameOS / ArchINSTALLBUILDCHECKBUILD BIN
IgGeneUsage 1.16.0  (landing page)
Simo Kitanovski
git_last_commit: 4cb7db5
git_last_commit_date: 2023-10-24 11:15:36 -0400
kjohnson1macOS 13.6.1 Ventura / arm64  OK    OK    OK    OK  UNNEEDED, same version is already published
Package 219/532HostnameOS / ArchINSTALLBUILDCHECKBUILD BIN
ILoReg 1.12.1  (landing page)
Johannes Smolander
git_last_commit: edbe18f
git_last_commit_date: 2024-02-16 12:15:21 -0400
kjohnson1macOS 13.6.1 Ventura / arm64  OK    OK    WARNINGS    OK  UNNEEDED, same version is already published
Package 220/532HostnameOS / ArchINSTALLBUILDCHECKBUILD BIN
imcRtools 1.8.0  (landing page)
Nils Eling
git_last_commit: 5dc066a
git_last_commit_date: 2023-10-24 11:36:40 -0400
kjohnson1macOS 13.6.1 Ventura / arm64  OK    OK    ERROR    OK  
Package 221/532HostnameOS / ArchINSTALLBUILDCHECKBUILD BIN
iNETgrate 1.0.0  (landing page)
Habil Zare
git_last_commit: d178586
git_last_commit_date: 2023-10-24 11:49:40 -0400
kjohnson1macOS 13.6.1 Ventura / arm64  OK    OK    OK    OK  UNNEEDED, same version is already published
Package 222/532HostnameOS / ArchINSTALLBUILDCHECKBUILD BIN
infercnv 1.18.1  (landing page)
Christophe Georgescu
git_last_commit: 8afcd62
git_last_commit_date: 2023-12-01 13:32:48 -0400
kjohnson1macOS 13.6.1 Ventura / arm64  OK    OK    OK    OK  UNNEEDED, same version is already published
Package 223/532HostnameOS / ArchINSTALLBUILDCHECKBUILD BIN
INSPEcT 1.32.1  (landing page)
Stefano de Pretis
git_last_commit: fa69597
git_last_commit_date: 2024-01-04 05:44:49 -0400
kjohnson1macOS 13.6.1 Ventura / arm64  OK    OK    OK    OK  UNNEEDED, same version is already published
Package 224/532HostnameOS / ArchINSTALLBUILDCHECKBUILD BIN
InTAD 1.22.0  (landing page)
Konstantin Okonechnikov
git_last_commit: 1bb9d7a
git_last_commit_date: 2023-10-24 11:04:33 -0400
kjohnson1macOS 13.6.1 Ventura / arm64  OK    OK    OK    OK  UNNEEDED, same version is already published
Package 225/532HostnameOS / ArchINSTALLBUILDCHECKBUILD BIN
InteractionSet 1.30.0  (landing page)
Aaron Lun
git_last_commit: 43e670b
git_last_commit_date: 2023-10-24 10:49:47 -0400
kjohnson1macOS 13.6.1 Ventura / arm64  OK    OK    WARNINGS    OK  UNNEEDED, same version is already published
Package 226/532HostnameOS / ArchINSTALLBUILDCHECKBUILD BIN
IntEREst 1.26.0  (landing page)
Ali Oghabian , Mikko Frilander
git_last_commit: 759bac6
git_last_commit_date: 2023-10-24 10:55:57 -0400
kjohnson1macOS 13.6.1 Ventura / arm64  OK    OK    OK    OK  UNNEEDED, same version is already published
Package 227/532HostnameOS / ArchINSTALLBUILDCHECKBUILD BIN
InterMineR 1.24.0  (landing page)
InterMine Team
git_last_commit: 44aa2fd
git_last_commit_date: 2023-10-24 10:59:29 -0400
kjohnson1macOS 13.6.1 Ventura / arm64  OK    OK    WARNINGS    OK  UNNEEDED, same version is already published
Package 228/532HostnameOS / ArchINSTALLBUILDCHECKBUILD BIN
iSEE 2.14.0  (landing page)
Kevin Rue-Albrecht
git_last_commit: 3e72e8d
git_last_commit_date: 2023-10-24 11:03:32 -0400
kjohnson1macOS 13.6.1 Ventura / arm64  OK    OK    OK    OK  UNNEEDED, same version is already published
Package 229/532HostnameOS / ArchINSTALLBUILDCHECKBUILD BIN
iSEEde 1.0.0  (landing page)
Kevin Rue-Albrecht
git_last_commit: bfb3b22
git_last_commit_date: 2023-10-24 11:50:41 -0400
kjohnson1macOS 13.6.1 Ventura / arm64  OK    OK    OK    OK  UNNEEDED, same version is already published
Package 230/532HostnameOS / ArchINSTALLBUILDCHECKBUILD BIN
iSEEhex 1.4.0  (landing page)
Kevin Rue-Albrecht
git_last_commit: 314bd5f
git_last_commit_date: 2023-10-24 11:42:32 -0400
kjohnson1macOS 13.6.1 Ventura / arm64  OK    OK    OK    OK  UNNEEDED, same version is already published
Package 231/532HostnameOS / ArchINSTALLBUILDCHECKBUILD BIN
iSEEhub 1.4.0  (landing page)
Kevin Rue-Albrecht
git_last_commit: a3ff71c
git_last_commit_date: 2023-10-24 11:44:04 -0400
kjohnson1macOS 13.6.1 Ventura / arm64  OK    OK    OK    OK  UNNEEDED, same version is already published
Package 232/532HostnameOS / ArchINSTALLBUILDCHECKBUILD BIN
iSEEindex 1.0.0  (landing page)
Kevin Rue-Albrecht
git_last_commit: 44fee6f
git_last_commit_date: 2023-10-24 11:49:52 -0400
kjohnson1macOS 13.6.1 Ventura / arm64  OK    OK    OK    OK  UNNEEDED, same version is already published
Package 233/532HostnameOS / ArchINSTALLBUILDCHECKBUILD BIN
iSEEpathways 1.0.0  (landing page)
Kevin Rue-Albrecht
git_last_commit: 23073a9
git_last_commit_date: 2023-10-24 11:51:04 -0400
kjohnson1macOS 13.6.1 Ventura / arm64  OK    OK    OK    OK  UNNEEDED, same version is already published
Package 234/532HostnameOS / ArchINSTALLBUILDCHECKBUILD BIN
iSEEu 1.14.0  (landing page)
Kevin Rue-Albrecht
git_last_commit: 61cbb7a
git_last_commit_date: 2023-10-24 11:21:17 -0400
kjohnson1macOS 13.6.1 Ventura / arm64  OK    OK    ERROR    OK  
Package 235/532HostnameOS / ArchINSTALLBUILDCHECKBUILD BIN
ISLET 1.4.0  (landing page)
Hao Feng
git_last_commit: 6df8c28
git_last_commit_date: 2023-10-24 11:43:55 -0400
kjohnson1macOS 13.6.1 Ventura / arm64  OK    OK    OK    OK  UNNEEDED, same version is already published
Package 236/532HostnameOS / ArchINSTALLBUILDCHECKBUILD BIN
IsoBayes 1.0.1  (landing page)
Simone Tiberi
git_last_commit: 0abca1b
git_last_commit_date: 2023-11-15 07:43:56 -0400
kjohnson1macOS 13.6.1 Ventura / arm64  OK    OK    OK    OK  UNNEEDED, same version is already published
Package 237/532HostnameOS / ArchINSTALLBUILDCHECKBUILD BIN
IsoformSwitchAnalyzeR 2.2.0  (landing page)
Kristoffer Vitting-Seerup
git_last_commit: 172bcd1
git_last_commit_date: 2023-10-24 10:57:42 -0400
kjohnson1macOS 13.6.1 Ventura / arm64  OK    OK    OK    OK  UNNEEDED, same version is already published
Package 238/532HostnameOS / ArchINSTALLBUILDCHECKBUILD BIN
isomiRs 1.30.0  (landing page)
Lorena Pantano
git_last_commit: ac97130
git_last_commit_date: 2023-10-24 10:49:03 -0400
kjohnson1macOS 13.6.1 Ventura / arm64  OK    OK    OK    OK  UNNEEDED, same version is already published
Package 239/532HostnameOS / ArchINSTALLBUILDCHECKBUILD BIN
ivygapSE 1.24.0  (landing page)
VJ Carey
git_last_commit: 0d051fb
git_last_commit_date: 2023-10-24 11:00:58 -0400
kjohnson1macOS 13.6.1 Ventura / arm64  OK    OK    OK    OK  UNNEEDED, same version is already published
Package 240/532HostnameOS / ArchINSTALLBUILDCHECKBUILD BIN
LACE 2.6.1  (landing page)
Davide Maspero
git_last_commit: 32cdacb
git_last_commit_date: 2024-02-22 04:47:25 -0400
kjohnson1macOS 13.6.1 Ventura / arm64  OK    OK    OK    OK  UNNEEDED, same version is already published
Package 241/532HostnameOS / ArchINSTALLBUILDCHECKBUILD BIN
lefser 1.12.1  (landing page)
Asya Khleborodova
git_last_commit: cfb59f8
git_last_commit_date: 2023-11-22 11:20:16 -0400
kjohnson1macOS 13.6.1 Ventura / arm64  OK    OK    OK    OK  UNNEEDED, same version is already published
Package 242/532HostnameOS / ArchINSTALLBUILDCHECKBUILD BIN
lemur 1.0.5  (landing page)
Constantin Ahlmann-Eltze
git_last_commit: 001ae9f
git_last_commit_date: 2023-12-06 10:01:44 -0400
kjohnson1macOS 13.6.1 Ventura / arm64  OK    ERROR  skippedskipped
Package 243/532HostnameOS / ArchINSTALLBUILDCHECKBUILD BIN
LineagePulse 1.22.0  (landing page)
David S Fischer
git_last_commit: ca1332d
git_last_commit_date: 2023-10-24 11:01:44 -0400
kjohnson1macOS 13.6.1 Ventura / arm64  ERROR    ERROR  skippedskipped
Package 244/532HostnameOS / ArchINSTALLBUILDCHECKBUILD BIN
lineagespot 1.6.0  (landing page)
Nikolaos Pechlivanis
git_last_commit: 11817d6
git_last_commit_date: 2023-10-24 11:39:30 -0400
kjohnson1macOS 13.6.1 Ventura / arm64  OK    OK    OK    OK  UNNEEDED, same version is already published
Package 245/532HostnameOS / ArchINSTALLBUILDCHECKBUILD BIN
lionessR 1.16.0  (landing page)
Ping-Han Hsieh
git_last_commit: 215aecf
git_last_commit_date: 2023-10-24 11:16:35 -0400
kjohnson1macOS 13.6.1 Ventura / arm64  OK    OK    OK    OK  UNNEEDED, same version is already published
Package 246/532HostnameOS / ArchINSTALLBUILDCHECKBUILD BIN
lipidr 2.16.0  (landing page)
Ahmed Mohamed
git_last_commit: 247e39c
git_last_commit_date: 2023-10-24 11:13:19 -0400
kjohnson1macOS 13.6.1 Ventura / arm64  OK    OK    OK    OK  UNNEEDED, same version is already published
Package 247/532HostnameOS / ArchINSTALLBUILDCHECKBUILD BIN
lisaClust 1.10.1  (landing page)
Ellis Patrick
git_last_commit: 9353dfa
git_last_commit_date: 2023-10-25 21:01:05 -0400
kjohnson1macOS 13.6.1 Ventura / arm64  OK    OK    OK    OK  UNNEEDED, same version is already published
Package 248/532HostnameOS / ArchINSTALLBUILDCHECKBUILD BIN
LoomExperiment 1.20.0  (landing page)
Bioconductor Package Maintainer
git_last_commit: 9202767
git_last_commit_date: 2023-10-24 11:09:31 -0400
kjohnson1macOS 13.6.1 Ventura / arm64  OK    OK    OK    OK  UNNEEDED, same version is already published
Package 249/532HostnameOS / ArchINSTALLBUILDCHECKBUILD BIN
Macarron 1.6.0  (landing page)
Sagun Maharjan
git_last_commit: 3120897
git_last_commit_date: 2023-11-27 14:55:53 -0400
kjohnson1macOS 13.6.1 Ventura / arm64  OK    OK    WARNINGS    OK  UNNEEDED, same version is already published
Package 250/532HostnameOS / ArchINSTALLBUILDCHECKBUILD BIN
made4 1.76.0  (landing page)
Aedin Culhane
git_last_commit: 4fa6232
git_last_commit_date: 2023-10-24 09:34:42 -0400
kjohnson1macOS 13.6.1 Ventura / arm64  OK    OK    OK    OK  UNNEEDED, same version is already published
Package 251/532HostnameOS / ArchINSTALLBUILDCHECKBUILD BIN
MADSEQ 1.28.0  (landing page)
Yu Kong
git_last_commit: 2448026
git_last_commit_date: 2023-10-24 10:50:43 -0400
kjohnson1macOS 13.6.1 Ventura / arm64  OK    OK    OK    OK  UNNEEDED, same version is already published
Package 252/532HostnameOS / ArchINSTALLBUILDCHECKBUILD BIN
MAI 1.8.0  (landing page)
Jonathan Dekermanjian
git_last_commit: 6d855e6
git_last_commit_date: 2023-10-24 11:35:24 -0400
kjohnson1macOS 13.6.1 Ventura / arm64  OK    OK    OK    OK  UNNEEDED, same version is already published
Package 253/532HostnameOS / ArchINSTALLBUILDCHECKBUILD BIN
mariner 1.2.0  (landing page)
Eric Davis
git_last_commit: 9906b32
git_last_commit_date: 2023-10-24 11:48:59 -0400
kjohnson1macOS 13.6.1 Ventura / arm64  OK    OK    OK    OK  UNNEEDED, same version is already published
Package 254/532HostnameOS / ArchINSTALLBUILDCHECKBUILD BIN
marr 1.12.0  (landing page)
Tusharkanti Ghosh
git_last_commit: dc3af6c
git_last_commit_date: 2023-10-24 11:27:53 -0400
kjohnson1macOS 13.6.1 Ventura / arm64  OK    OK    OK    OK  UNNEEDED, same version is already published
Package 255/532HostnameOS / ArchINSTALLBUILDCHECKBUILD BIN
MAST 1.28.0  (landing page)
Andrew McDavid
git_last_commit: 2a0af38
git_last_commit_date: 2023-10-24 10:53:20 -0400
kjohnson1macOS 13.6.1 Ventura / arm64  OK    OK    ERROR    OK  
Package 256/532HostnameOS / ArchINSTALLBUILDCHECKBUILD BIN
mastR 1.2.3  (landing page)
Jinjin Chen
git_last_commit: 060276e
git_last_commit_date: 2024-01-09 04:03:13 -0400
kjohnson1macOS 13.6.1 Ventura / arm64  OK    OK    OK    OK  UNNEEDED, same version is already published
Package 257/532HostnameOS / ArchINSTALLBUILDCHECKBUILD BIN
MatrixQCvis 1.10.0  (landing page)
Thomas Naake
git_last_commit: 9124112
git_last_commit_date: 2023-10-24 11:33:30 -0400
kjohnson1macOS 13.6.1 Ventura / arm64  OK    OK    OK    OK  UNNEEDED, same version is already published
Package 258/532HostnameOS / ArchINSTALLBUILDCHECKBUILD BIN
MBASED 1.36.0  (landing page)
Oleg Mayba
git_last_commit: 59c9e15
git_last_commit_date: 2023-10-24 10:00:52 -0400
kjohnson1macOS 13.6.1 Ventura / arm64  OK    OK    OK    OK  UNNEEDED, same version is already published
Package 259/532HostnameOS / ArchINSTALLBUILDCHECKBUILD BIN
mbkmeans 1.18.0  (landing page)
Davide Risso
git_last_commit: 276ec39
git_last_commit_date: 2023-10-24 11:12:38 -0400
kjohnson1macOS 13.6.1 Ventura / arm64  OK    ERROR  skippedskipped
Package 260/532HostnameOS / ArchINSTALLBUILDCHECKBUILD BIN
MBQN 2.14.0  (landing page)
Eva Brombacher
git_last_commit: 33f2515
git_last_commit_date: 2023-10-24 11:17:28 -0400
kjohnson1macOS 13.6.1 Ventura / arm64  OK    OK    OK    OK  UNNEEDED, same version is already published
Package 261/532HostnameOS / ArchINSTALLBUILDCHECKBUILD BIN
mCSEA 1.22.0  (landing page)
Jordi Martorell-Marugán
git_last_commit: d875693
git_last_commit_date: 2023-10-24 11:02:15 -0400
kjohnson1macOS 13.6.1 Ventura / arm64  OK    OK    OK    OK  UNNEEDED, same version is already published
Package 262/532HostnameOS / ArchINSTALLBUILDCHECKBUILD BIN
MEAL 1.32.0  (landing page)
Xavier Escribà Montagut
git_last_commit: 4d6f89b
git_last_commit_date: 2023-10-24 10:45:36 -0400
kjohnson1macOS 13.6.1 Ventura / arm64  OK    OK    WARNINGS    OK  UNNEEDED, same version is already published
Package 263/532HostnameOS / ArchINSTALLBUILDCHECKBUILD BIN
MEAT 1.14.0  (landing page)
Sarah Voisin
git_last_commit: d898e43
git_last_commit_date: 2023-10-24 11:19:20 -0400
kjohnson1macOS 13.6.1 Ventura / arm64  OK    OK    WARNINGS    OK  UNNEEDED, same version is already published
Package 264/532HostnameOS / ArchINSTALLBUILDCHECKBUILD BIN
MEB 1.16.0  (landing page)
Jiadi Zhu
git_last_commit: 7cf03db
git_last_commit_date: 2023-10-24 11:16:43 -0400
kjohnson1macOS 13.6.1 Ventura / arm64  OK    OK    OK    OK  UNNEEDED, same version is already published
Package 265/532HostnameOS / ArchINSTALLBUILDCHECKBUILD BIN
MetaboAnnotation 1.6.1  (landing page)
Johannes Rainer
git_last_commit: 7983e3e
git_last_commit_date: 2023-10-26 03:57:55 -0400
kjohnson1macOS 13.6.1 Ventura / arm64  OK    OK    OK    OK  UNNEEDED, same version is already published
Package 266/532HostnameOS / ArchINSTALLBUILDCHECKBUILD BIN
metabolomicsWorkbenchR 1.12.0  (landing page)
Gavin Rhys Lloyd
git_last_commit: 262a317
git_last_commit_date: 2023-10-24 11:25:05 -0400
kjohnson1macOS 13.6.1 Ventura / arm64  OK    OK    OK    OK  UNNEEDED, same version is already published
Package 267/532HostnameOS / ArchINSTALLBUILDCHECKBUILD BIN
MetaNeighbor 1.22.0  (landing page)
Stephan Fischer
git_last_commit: a036c58
git_last_commit_date: 2023-10-24 11:01:52 -0400
kjohnson1macOS 13.6.1 Ventura / arm64  OK    OK    OK    OK  UNNEEDED, same version is already published
Package 268/532HostnameOS / ArchINSTALLBUILDCHECKBUILD BIN
metaseqR2 1.14.0  (landing page)
Panagiotis Moulos
git_last_commit: c5496b0
git_last_commit_date: 2023-10-24 11:22:10 -0400
kjohnson1macOS 13.6.1 Ventura / arm64  OK    OK    OK    OK  UNNEEDED, same version is already published
Package 269/532HostnameOS / ArchINSTALLBUILDCHECKBUILD BIN
MethReg 1.12.0  (landing page)
Tiago Silva
git_last_commit: 30684d3
git_last_commit_date: 2023-10-24 11:25:49 -0400
kjohnson1macOS 13.6.1 Ventura / arm64  OK    ERROR  skippedskipped
Package 270/532HostnameOS / ArchINSTALLBUILDCHECKBUILD BIN
methrix 1.16.0  (landing page)
Anand Mayakonda
git_last_commit: 6ed5233
git_last_commit_date: 2023-10-24 11:17:51 -0400
kjohnson1macOS 13.6.1 Ventura / arm64  OK    OK    OK    OK  UNNEEDED, same version is already published
Package 271/532HostnameOS / ArchINSTALLBUILDCHECKBUILD BIN
MethylAid 1.36.0  (landing page)
L.J.Sinke
git_last_commit: 2ab1e43
git_last_commit_date: 2023-10-24 09:59:14 -0400
kjohnson1macOS 13.6.1 Ventura / arm64  OK    OK    OK    OK  UNNEEDED, same version is already published
Package 272/532HostnameOS / ArchINSTALLBUILDCHECKBUILD BIN
methylPipe 1.36.0  (landing page)
Mattia Furlan
git_last_commit: eac2790
git_last_commit_date: 2023-10-24 10:00:55 -0400
kjohnson1macOS 13.6.1 Ventura / arm64  OK    OK    WARNINGS    OK  UNNEEDED, same version is already published
Package 273/532HostnameOS / ArchINSTALLBUILDCHECKBUILD BIN
methylscaper 1.10.0  (landing page)
Rhonda Bacher
git_last_commit: e2d8ace
git_last_commit_date: 2023-10-24 11:31:01 -0400
kjohnson1macOS 13.6.1 Ventura / arm64  OK    OK    OK    OK  UNNEEDED, same version is already published
Package 274/532HostnameOS / ArchINSTALLBUILDCHECKBUILD BIN
methylumi 2.48.0  (landing page)
Sean Davis
git_last_commit: ce4c6e4
git_last_commit_date: 2023-10-24 09:41:58 -0400
kjohnson1macOS 13.6.1 Ventura / arm64  OK    OK    OK    OK  UNNEEDED, same version is already published
Package 275/532HostnameOS / ArchINSTALLBUILDCHECKBUILD BIN
MetNet 1.20.0  (landing page)
Thomas Naake
git_last_commit: b628a7d
git_last_commit_date: 2023-10-24 11:07:15 -0400
kjohnson1macOS 13.6.1 Ventura / arm64  OK    OK    OK    OK  UNNEEDED, same version is already published
Package 276/532HostnameOS / ArchINSTALLBUILDCHECKBUILD BIN
mia 1.10.0  (landing page)
Tuomas Borman
git_last_commit: 9214397
git_last_commit_date: 2023-10-24 11:31:09 -0400
kjohnson1macOS 13.6.1 Ventura / arm64  OK    OK    OK    OK  UNNEEDED, same version is already published
Package 277/532HostnameOS / ArchINSTALLBUILDCHECKBUILD BIN
miaSim 1.8.0  (landing page)
Yagmur Simsek
git_last_commit: 0e92339
git_last_commit_date: 2023-10-24 11:37:33 -0400
kjohnson1macOS 13.6.1 Ventura / arm64  OK    OK    OK    OK  UNNEEDED, same version is already published
Package 278/532HostnameOS / ArchINSTALLBUILDCHECKBUILD BIN
miaViz 1.10.0  (landing page)
Tuomas Borman
git_last_commit: 09da1eb
git_last_commit_date: 2023-10-24 11:31:24 -0400
kjohnson1macOS 13.6.1 Ventura / arm64  OK    OK    OK    OK  UNNEEDED, same version is already published
Package 279/532HostnameOS / ArchINSTALLBUILDCHECKBUILD BIN
MicrobiotaProcess 1.14.1  (landing page)
Shuangbin Xu
git_last_commit: 9fc267f
git_last_commit_date: 2024-03-26 02:38:38 -0400
kjohnson1macOS 13.6.1 Ventura / arm64  OK    OK    OK    OK  YES
Package 280/532HostnameOS / ArchINSTALLBUILDCHECKBUILD BIN
MICSQTL 1.0.0  (landing page)
Yue Pan
git_last_commit: 1494154
git_last_commit_date: 2023-10-24 11:50:06 -0400
kjohnson1macOS 13.6.1 Ventura / arm64  OK    OK    OK    OK  UNNEEDED, same version is already published
Package 281/532HostnameOS / ArchINSTALLBUILDCHECKBUILD BIN
midasHLA 1.10.0  (landing page)
Maciej Migdał
git_last_commit: a67beb5
git_last_commit_date: 2023-10-24 11:30:21 -0400
kjohnson1macOS 13.6.1 Ventura / arm64  OK    ERROR  skippedskipped
Package 282/532HostnameOS / ArchINSTALLBUILDCHECKBUILD BIN
miloR 1.10.0  (landing page)
Mike Morgan
git_last_commit: 7a29982
git_last_commit_date: 2023-10-24 11:32:53 -0400
kjohnson1macOS 13.6.1 Ventura / arm64  OK    ERROR  skippedskipped
Package 283/532HostnameOS / ArchINSTALLBUILDCHECKBUILD BIN
minfi 1.48.0  (landing page)
Kasper Daniel Hansen
git_last_commit: aef0cde
git_last_commit_date: 2023-10-24 09:48:21 -0400
kjohnson1macOS 13.6.1 Ventura / arm64  OK    OK    OK    OK  UNNEEDED, same version is already published
Package 284/532HostnameOS / ArchINSTALLBUILDCHECKBUILD BIN
MinimumDistance 1.46.0  (landing page)
Robert Scharpf
git_last_commit: b1328d8
git_last_commit_date: 2023-10-24 09:50:03 -0400
kjohnson1macOS 13.6.1 Ventura / arm64  OK    OK    WARNINGS    OK  UNNEEDED, same version is already published
Package 285/532HostnameOS / ArchINSTALLBUILDCHECKBUILD BIN
miRLAB 1.32.0  (landing page)
Thuc Duy Le
git_last_commit: 10514c4
git_last_commit_date: 2023-10-24 10:44:22 -0400
kjohnson1macOS 13.6.1 Ventura / arm64  OK    OK    WARNINGS    OK  UNNEEDED, same version is already published
Package 286/532HostnameOS / ArchINSTALLBUILDCHECKBUILD BIN
miRmine 1.24.0  (landing page)
Dusan Randjelovic
git_last_commit: 868b57a
git_last_commit_date: 2023-10-24 10:59:37 -0400
kjohnson1macOS 13.6.1 Ventura / arm64  OK    OK    OK    OK  UNNEEDED, same version is already published
Package 287/532HostnameOS / ArchINSTALLBUILDCHECKBUILD BIN
miRSM 1.20.0  (landing page)
Junpeng Zhang
git_last_commit: cfc3faa
git_last_commit_date: 2023-10-24 11:07:26 -0400
kjohnson1macOS 13.6.1 Ventura / arm64  OK    OK    OK    OK  UNNEEDED, same version is already published
Package 288/532HostnameOS / ArchINSTALLBUILDCHECKBUILD BIN
missMethyl 1.36.0  (landing page)
Belinda Phipson
git_last_commit: 7853a3c
git_last_commit_date: 2023-10-24 10:00:11 -0400
kjohnson1macOS 13.6.1 Ventura / arm64  OK    OK    OK    OK  UNNEEDED, same version is already published
Package 289/532HostnameOS / ArchINSTALLBUILDCHECKBUILD BIN
MLInterfaces 1.82.0  (landing page)
Vincent Carey
git_last_commit: 597f246
git_last_commit_date: 2023-10-24 09:33:54 -0400
kjohnson1macOS 13.6.1 Ventura / arm64  OK    OK    WARNINGS    OK  UNNEEDED, same version is already published
Package 290/532HostnameOS / ArchINSTALLBUILDCHECKBUILD BIN
MLSeq 2.20.0  (landing page)
Gokmen Zararsiz
git_last_commit: d41d6a4
git_last_commit_date: 2023-10-24 09:57:54 -0400
kjohnson1macOS 13.6.1 Ventura / arm64  OK    OK    OK    OK  UNNEEDED, same version is already published
Package 291/532HostnameOS / ArchINSTALLBUILDCHECKBUILD BIN
moanin 1.10.0  (landing page)
Nelle Varoquaux
git_last_commit: 92c0bad
git_last_commit_date: 2023-10-24 11:28:06 -0400
kjohnson1macOS 13.6.1 Ventura / arm64  OK    OK    OK    OK  UNNEEDED, same version is already published
Package 292/532HostnameOS / ArchINSTALLBUILDCHECKBUILD BIN
monaLisa 1.8.0  (landing page)
Michael Stadler
git_last_commit: 81a9ca4
git_last_commit_date: 2023-10-24 11:36:43 -0400
kjohnson1macOS 13.6.1 Ventura / arm64  OK    OK    ERROR    OK  
Package 293/532HostnameOS / ArchINSTALLBUILDCHECKBUILD BIN
MoonlightR 1.28.0  (landing page)
Matteo Tiberti
git_last_commit: 7dada82
git_last_commit_date: 2023-10-24 10:53:29 -0400
kjohnson1macOS 13.6.1 Ventura / arm64  OK    OK    OK    OK  UNNEEDED, same version is already published
Package 294/532HostnameOS / ArchINSTALLBUILDCHECKBUILD BIN
motifbreakR 2.16.0  (landing page)
Simon Gert Coetzee
git_last_commit: 741df7f
git_last_commit_date: 2023-10-24 10:45:13 -0400
kjohnson1macOS 13.6.1 Ventura / arm64  OK    OK    WARNINGS    OK  UNNEEDED, same version is already published
Package 295/532HostnameOS / ArchINSTALLBUILDCHECKBUILD BIN
motifmatchr 1.24.0  (landing page)
Alicia Schep
git_last_commit: 4051143
git_last_commit_date: 2023-10-24 10:57:39 -0400
kjohnson1macOS 13.6.1 Ventura / arm64  OK    OK    OK    OK  NO, package depends on 'TFBSTools' which is only available as a source package that needs compilation
Package 296/532HostnameOS / ArchINSTALLBUILDCHECKBUILD BIN
mpra 1.24.0  (landing page)
Leslie Myint
git_last_commit: 3d39300
git_last_commit_date: 2023-10-24 11:01:16 -0400
kjohnson1macOS 13.6.1 Ventura / arm64  OK    OK    OK    OK  UNNEEDED, same version is already published
Package 297/532HostnameOS / ArchINSTALLBUILDCHECKBUILD BIN
MPRAnalyze 1.20.0  (landing page)
Tal Ashuach
git_last_commit: dcb9ac4
git_last_commit_date: 2023-10-24 11:08:22 -0400
kjohnson1macOS 13.6.1 Ventura / arm64  OK    OK    OK    OK  UNNEEDED, same version is already published
Package 298/532HostnameOS / ArchINSTALLBUILDCHECKBUILD BIN
MsExperiment 1.4.0  (landing page)
Laurent Gatto
git_last_commit: e92dde5
git_last_commit_date: 2023-10-24 11:44:13 -0400
kjohnson1macOS 13.6.1 Ventura / arm64  OK    OK    OK    OK  UNNEEDED, same version is already published
Package 299/532HostnameOS / ArchINSTALLBUILDCHECKBUILD BIN
MsFeatures 1.10.0  (landing page)
Johannes Rainer
git_last_commit: 206e190
git_last_commit_date: 2023-10-24 11:29:35 -0400
kjohnson1macOS 13.6.1 Ventura / arm64  OK    OK    OK    OK  UNNEEDED, same version is already published
Package 300/532HostnameOS / ArchINSTALLBUILDCHECKBUILD BIN
msgbsR 1.26.0  (landing page)
Benjamin Mayne
git_last_commit: 0b34e7d
git_last_commit_date: 2023-10-24 10:57:23 -0400
kjohnson1macOS 13.6.1 Ventura / arm64  OK    OK    OK    OK  UNNEEDED, same version is already published
Package 301/532HostnameOS / ArchINSTALLBUILDCHECKBUILD BIN
MSPrep 1.12.0  (landing page)
Max McGrath
git_last_commit: 511dcda
git_last_commit_date: 2023-10-24 11:26:13 -0400
kjohnson1macOS 13.6.1 Ventura / arm64  OK    OK    ERROR    OK  
Package 302/532HostnameOS / ArchINSTALLBUILDCHECKBUILD BIN
msqrob2 1.10.0  (landing page)
Lieven Clement
git_last_commit: 6bf2b78
git_last_commit_date: 2023-10-24 11:33:44 -0400
kjohnson1macOS 13.6.1 Ventura / arm64  OK    OK    OK    OK  UNNEEDED, same version is already published
Package 303/532HostnameOS / ArchINSTALLBUILDCHECKBUILD BIN
MuData 1.6.0  (landing page)
Danila Bredikhin
git_last_commit: 42a68dd
git_last_commit_date: 2023-10-24 11:39:48 -0400
kjohnson1macOS 13.6.1 Ventura / arm64  OK    ERROR  skippedskipped
Package 304/532HostnameOS / ArchINSTALLBUILDCHECKBUILD BIN
MultiAssayExperiment 1.28.0  (landing page)
Marcel Ramos
git_last_commit: 819acdf
git_last_commit_date: 2023-10-24 10:49:00 -0400
kjohnson1macOS 13.6.1 Ventura / arm64  OK    OK    OK    OK  UNNEEDED, same version is already published
Package 305/532HostnameOS / ArchINSTALLBUILDCHECKBUILD BIN
MultiDataSet 1.30.0  (landing page)
Xavier Escribà Montagut
git_last_commit: 862a4bc
git_last_commit_date: 2023-10-24 10:49:56 -0400
kjohnson1macOS 13.6.1 Ventura / arm64  OK    OK    WARNINGS    OK  UNNEEDED, same version is already published
Package 306/532HostnameOS / ArchINSTALLBUILDCHECKBUILD BIN
multiOmicsViz 1.26.0  (landing page)
Jing Wang
git_last_commit: 6add440
git_last_commit_date: 2023-10-24 10:56:00 -0400
kjohnson1macOS 13.6.1 Ventura / arm64  OK    OK    OK    OK  UNNEEDED, same version is already published
Package 307/532HostnameOS / ArchINSTALLBUILDCHECKBUILD BIN
MultiRNAflow 1.0.0  (landing page)
Rodolphe Loubaton
git_last_commit: c8ce17d
git_last_commit_date: 2023-10-24 11:50:52 -0400
kjohnson1macOS 13.6.1 Ventura / arm64  OK    OK    OK    OK  UNNEEDED, same version is already published
Package 308/532HostnameOS / ArchINSTALLBUILDCHECKBUILD BIN
multiWGCNA 1.0.0  (landing page)
Dario Tommasini
git_last_commit: cf07247
git_last_commit_date: 2023-10-24 11:50:15 -0400
kjohnson1macOS 13.6.1 Ventura / arm64  OK    OK    OK    OK  UNNEEDED, same version is already published
Package 309/532HostnameOS / ArchINSTALLBUILDCHECKBUILD BIN
mumosa 1.10.0  (landing page)
Aaron Lun
git_last_commit: f52c95a
git_last_commit_date: 2023-10-24 11:28:43 -0400
kjohnson1macOS 13.6.1 Ventura / arm64  OK    ERROR  skippedskipped
Package 310/532HostnameOS / ArchINSTALLBUILDCHECKBUILD BIN
muscat 1.16.0  (landing page)
Helena L. Crowell
git_last_commit: 448b1e8
git_last_commit_date: 2023-10-24 11:16:01 -0400
kjohnson1macOS 13.6.1 Ventura / arm64  OK    ERROR  skippedskipped
Package 311/532HostnameOS / ArchINSTALLBUILDCHECKBUILD BIN
musicatk 1.12.0  (landing page)
Aaron Chevalier
git_last_commit: 69a345e
git_last_commit_date: 2023-10-24 11:27:12 -0400
kjohnson1macOS 13.6.1 Ventura / arm64  OK    ERROR  skippedskipped
Package 312/532HostnameOS / ArchINSTALLBUILDCHECKBUILD BIN
MWASTools 1.26.0  (landing page)
Andrea Rodriguez-Martinez , Rafael Ayala
git_last_commit: 14a0245
git_last_commit_date: 2023-10-24 10:54:16 -0400
kjohnson1macOS 13.6.1 Ventura / arm64  OK    OK    OK    OK  UNNEEDED, same version is already published
Package 313/532HostnameOS / ArchINSTALLBUILDCHECKBUILD BIN
NADfinder 1.26.0  (landing page)
Jianhong Ou
git_last_commit: d34108b
git_last_commit_date: 2023-10-24 10:56:31 -0400
kjohnson1macOS 13.6.1 Ventura / arm64  OK    OK    OK    OK  UNNEEDED, same version is already published
Package 314/532HostnameOS / ArchINSTALLBUILDCHECKBUILD BIN
NanoMethViz 2.8.1  (landing page)
Shian Su
git_last_commit: 1d8a149
git_last_commit_date: 2023-11-07 20:56:11 -0400
kjohnson1macOS 13.6.1 Ventura / arm64  OK    OK    OK    OK  UNNEEDED, same version is already published
Package 315/532HostnameOS / ArchINSTALLBUILDCHECKBUILD BIN
NBAMSeq 1.18.0  (landing page)
Xu Ren
git_last_commit: 56721c1
git_last_commit_date: 2023-10-24 11:12:47 -0400
kjohnson1macOS 13.6.1 Ventura / arm64  OK    OK    OK    OK  UNNEEDED, same version is already published
Package 316/532HostnameOS / ArchINSTALLBUILDCHECKBUILD BIN
Nebulosa 1.12.1  (landing page)
Jose Alquicira-Hernandez
git_last_commit: a0f8110
git_last_commit_date: 2024-03-01 15:30:16 -0400
kjohnson1macOS 13.6.1 Ventura / arm64  OK    ERROR  skippedskipped
Package 317/532HostnameOS / ArchINSTALLBUILDCHECKBUILD BIN
NetActivity 1.4.0  (landing page)
Carlos Ruiz-Arenas
git_last_commit: 9439204
git_last_commit_date: 2023-10-24 11:45:17 -0400
kjohnson1macOS 13.6.1 Ventura / arm64  OK    OK    OK    OK  UNNEEDED, same version is already published
Package 318/532HostnameOS / ArchINSTALLBUILDCHECKBUILD BIN
netSmooth 1.22.0  (landing page)
Jonathan Ronen
git_last_commit: d9163f4
git_last_commit_date: 2023-10-24 11:05:26 -0400
kjohnson1macOS 13.6.1 Ventura / arm64  OK    ERROR  skippedskipped
Package 319/532HostnameOS / ArchINSTALLBUILDCHECKBUILD BIN
NewWave 1.12.0  (landing page)
Federico Agostinis
git_last_commit: 7b5d867
git_last_commit_date: 2023-10-24 11:27:58 -0400
kjohnson1macOS 13.6.1 Ventura / arm64  OK    OK    OK    OK  UNNEEDED, same version is already published
Package 320/532HostnameOS / ArchINSTALLBUILDCHECKBUILD BIN
nipalsMCIA 1.0.0  (landing page)
Maximilian Mattessich
git_last_commit: 70dd4bf
git_last_commit_date: 2023-10-24 11:51:20 -0400
kjohnson1macOS 13.6.1 Ventura / arm64  OK    OK    OK    OK  UNNEEDED, same version is already published
Package 321/532HostnameOS / ArchINSTALLBUILDCHECKBUILD BIN
nnSVG 1.6.4  (landing page)
Lukas M. Weber
git_last_commit: f68dffb
git_last_commit_date: 2024-03-17 14:10:56 -0400
kjohnson1macOS 13.6.1 Ventura / arm64  OK    OK    OK    OK  UNNEEDED, same version is already published
Package 322/532HostnameOS / ArchINSTALLBUILDCHECKBUILD BIN
NoRCE 1.14.0  (landing page)
Gulden Olgun
git_last_commit: 3c4a829
git_last_commit_date: 2023-10-24 11:20:20 -0400
kjohnson1macOS 13.6.1 Ventura / arm64  OK    OK    OK    OK  UNNEEDED, same version is already published
Package 323/532HostnameOS / ArchINSTALLBUILDCHECKBUILD BIN
NormalyzerDE 1.20.0  (landing page)
Jakob Willforss
git_last_commit: 663e7cd
git_last_commit_date: 2023-10-24 11:07:40 -0400
kjohnson1macOS 13.6.1 Ventura / arm64  OK    OK    OK    OK  UNNEEDED, same version is already published
Package 324/532HostnameOS / ArchINSTALLBUILDCHECKBUILD BIN
oligoClasses 1.64.0  (landing page)
Benilton Carvalho and Robert Scharpf
git_last_commit: 0b4dcaa
git_last_commit_date: 2023-10-24 09:38:56 -0400
kjohnson1macOS 13.6.1 Ventura / arm64  OK    OK    WARNINGS    OK  UNNEEDED, same version is already published
Package 325/532HostnameOS / ArchINSTALLBUILDCHECKBUILD BIN
omicRexposome 1.24.3  (landing page)
Xavier Escribà Montagut
git_last_commit: 7937bee
git_last_commit_date: 2024-02-12 19:05:37 -0400
kjohnson1macOS 13.6.1 Ventura / arm64  OK    OK    OK    OK  UNNEEDED, same version is already published
Package 326/532HostnameOS / ArchINSTALLBUILDCHECKBUILD BIN
OmicsLonDA 1.18.0  (landing page)
Ahmed A. Metwally
git_last_commit: 978c27a
git_last_commit_date: 2023-10-24 11:13:12 -0400
kjohnson1macOS 13.6.1 Ventura / arm64  ERROR    ERROR  skippedskipped
Package 327/532HostnameOS / ArchINSTALLBUILDCHECKBUILD BIN
omicsPrint 1.22.0  (landing page)
Davy Cats
git_last_commit: 25859e6
git_last_commit_date: 2023-10-24 11:01:41 -0400
kjohnson1macOS 13.6.1 Ventura / arm64  OK    OK    WARNINGS    OK  UNNEEDED, same version is already published
Package 328/532HostnameOS / ArchINSTALLBUILDCHECKBUILD BIN
omicsViewer 1.6.0  (landing page)
Chen Meng
git_last_commit: 7940f98
git_last_commit_date: 2023-10-24 11:41:52 -0400
kjohnson1macOS 13.6.1 Ventura / arm64  OK    OK    OK    OK  UNNEEDED, same version is already published
Package 329/532HostnameOS / ArchINSTALLBUILDCHECKBUILD BIN
oncomix 1.24.0  (landing page)
Daniel Pique
git_last_commit: 3ceecbe
git_last_commit_date: 2023-10-24 11:01:07 -0400
kjohnson1macOS 13.6.1 Ventura / arm64  OK    OK    OK    OK  UNNEEDED, same version is already published
Package 330/532HostnameOS / ArchINSTALLBUILDCHECKBUILD BIN
ontoProc 1.24.0  (landing page)
Vincent Carey
git_last_commit: 5718db1
git_last_commit_date: 2023-10-24 11:00:55 -0400
kjohnson1macOS 13.6.1 Ventura / arm64  OK    OK    OK    OK  UNNEEDED, same version is already published
Package 331/532HostnameOS / ArchINSTALLBUILDCHECKBUILD BIN
ORFik 1.22.2  (landing page)
Haakon Tjeldnes
git_last_commit: 38d4748
git_last_commit_date: 2024-02-20 09:22:49 -0400
kjohnson1macOS 13.6.1 Ventura / arm64  OK    ERROR  skippedskipped
Package 332/532HostnameOS / ArchINSTALLBUILDCHECKBUILD BIN
orthos 1.0.1  (landing page)
Panagiotis Papasaikas
git_last_commit: 84d1a58
git_last_commit_date: 2023-11-02 08:46:54 -0400
kjohnson1macOS 13.6.1 Ventura / arm64  OK    OK    OK    OK  UNNEEDED, same version is already published
Package 333/532HostnameOS / ArchINSTALLBUILDCHECKBUILD BIN
OUTRIDER 1.20.0  (landing page)
Christian Mertes
git_last_commit: 0528b44
git_last_commit_date: 2023-10-24 11:06:34 -0400
kjohnson1macOS 13.6.1 Ventura / arm64  OK    OK    OK    OK  UNNEEDED, same version is already published
Package 334/532HostnameOS / ArchINSTALLBUILDCHECKBUILD BIN
OVESEG 1.18.0  (landing page)
Lulu Chen
git_last_commit: f01b152
git_last_commit_date: 2023-10-24 11:10:21 -0400
kjohnson1macOS 13.6.1 Ventura / arm64  OK    OK    OK    OK  UNNEEDED, same version is already published
Package 335/532HostnameOS / ArchINSTALLBUILDCHECKBUILD BIN
padma 1.12.0  (landing page)
Andrea Rau
git_last_commit: d925ab1
git_last_commit_date: 2023-10-24 11:23:36 -0400
kjohnson1macOS 13.6.1 Ventura / arm64  OK    OK    OK    OK  UNNEEDED, same version is already published
Package 336/532HostnameOS / ArchINSTALLBUILDCHECKBUILD BIN
PAIRADISE 1.18.0  (landing page)
Qiang Hu , Levon Demirdjian
git_last_commit: 42cef7a
git_last_commit_date: 2023-10-24 11:10:18 -0400
kjohnson1macOS 13.6.1 Ventura / arm64  OK    OK    OK    OK  UNNEEDED, same version is already published
Package 337/532HostnameOS / ArchINSTALLBUILDCHECKBUILD BIN
pairedGSEA 1.2.0  (landing page)
Søren Helweg Dam
git_last_commit: f15ecbd
git_last_commit_date: 2023-10-24 11:48:40 -0400
kjohnson1macOS 13.6.1 Ventura / arm64  OK    OK    OK    OK  UNNEEDED, same version is already published
Package 338/532HostnameOS / ArchINSTALLBUILDCHECKBUILD BIN
pairkat 1.8.0  (landing page)
Max McGrath
git_last_commit: e5e7317
git_last_commit_date: 2023-10-24 11:36:58 -0400
kjohnson1macOS 13.6.1 Ventura / arm64  OK    OK    OK    OK  UNNEEDED, same version is already published
Package 339/532HostnameOS / ArchINSTALLBUILDCHECKBUILD BIN
pcaExplorer 2.28.0  (landing page)
Federico Marini
git_last_commit: bc5fa86
git_last_commit_date: 2023-10-24 10:49:32 -0400
kjohnson1macOS 13.6.1 Ventura / arm64  OK    OK    OK    OK  UNNEEDED, same version is already published
Package 340/532HostnameOS / ArchINSTALLBUILDCHECKBUILD BIN
PDATK 1.10.0  (landing page)
Benjamin Haibe-Kains
git_last_commit: 8b865a8
git_last_commit_date: 2023-10-24 11:30:18 -0400
kjohnson1macOS 13.6.1 Ventura / arm64  OK    OK    WARNINGS    OK  UNNEEDED, same version is already published
Package 341/532HostnameOS / ArchINSTALLBUILDCHECKBUILD BIN
peco 1.14.0  (landing page)
Chiaowen Joyce Hsiao
git_last_commit: 52a5c2d
git_last_commit_date: 2023-10-24 11:20:48 -0400
kjohnson1macOS 13.6.1 Ventura / arm64  OK    OK    OK    OK  UNNEEDED, same version is already published
Package 342/532HostnameOS / ArchINSTALLBUILDCHECKBUILD BIN
PharmacoGx 3.6.0  (landing page)
Benjamin Haibe-Kains
git_last_commit: 449b0a6
git_last_commit_date: 2023-10-24 10:52:14 -0400
kjohnson1macOS 13.6.1 Ventura / arm64  OK    OK    OK    OK  UNNEEDED, same version is already published
Package 343/532HostnameOS / ArchINSTALLBUILDCHECKBUILD BIN
phemd 1.18.0  (landing page)
William S Chen
git_last_commit: c895e7c
git_last_commit_date: 2023-10-24 11:44:02 -0400
kjohnson1macOS 13.6.1 Ventura / arm64  ERROR    ERROR  skippedskipped
Package 344/532HostnameOS / ArchINSTALLBUILDCHECKBUILD BIN
phenomis 1.4.0  (landing page)
Etienne A. Thevenot
git_last_commit: 94d5929
git_last_commit_date: 2023-10-24 11:43:52 -0400
kjohnson1macOS 13.6.1 Ventura / arm64  OK    OK    OK    OK  UNNEEDED, same version is already published
Package 345/532HostnameOS / ArchINSTALLBUILDCHECKBUILD BIN
phenopath 1.26.0  (landing page)
Kieran Campbell
git_last_commit: 2f83790
git_last_commit_date: 2023-10-24 10:58:06 -0400
kjohnson1macOS 13.6.1 Ventura / arm64  OK    OK    OK    OK  UNNEEDED, same version is already published
Package 346/532HostnameOS / ArchINSTALLBUILDCHECKBUILD BIN
PhIPData 1.10.0  (landing page)
Athena Chen
git_last_commit: 463fdc6
git_last_commit_date: 2023-10-24 11:30:33 -0400
kjohnson1macOS 13.6.1 Ventura / arm64  OK    OK    OK    OK  UNNEEDED, same version is already published
Package 347/532HostnameOS / ArchINSTALLBUILDCHECKBUILD BIN
PhosR 1.12.0  (landing page)
Taiyun Kim
git_last_commit: dfab942
git_last_commit_date: 2023-10-24 11:25:54 -0400
kjohnson1macOS 13.6.1 Ventura / arm64  OK    OK    OK    OK  UNNEEDED, same version is already published
Package 348/532HostnameOS / ArchINSTALLBUILDCHECKBUILD BIN
pipeComp 1.12.0  (landing page)
Pierre-Luc Germain
git_last_commit: b567066
git_last_commit_date: 2023-10-24 11:23:19 -0400
kjohnson1macOS 13.6.1 Ventura / arm64  OK    OK    OK    OK  UNNEEDED, same version is already published
Package 349/532HostnameOS / ArchINSTALLBUILDCHECKBUILD BIN
planttfhunter 1.2.0  (landing page)
Fabrício Almeida-Silva
git_last_commit: 1c8427c
git_last_commit_date: 2023-10-24 11:45:40 -0400
kjohnson1macOS 13.6.1 Ventura / arm64  OK    OK    OK    OK  UNNEEDED, same version is already published
Package 350/532HostnameOS / ArchINSTALLBUILDCHECKBUILD BIN
pmp 1.14.1  (landing page)
Gavin Rhys Lloyd
git_last_commit: 5a67cc6
git_last_commit_date: 2024-02-28 05:07:08 -0400
kjohnson1macOS 13.6.1 Ventura / arm64  OK    OK    ERROR    OK  
Package 351/532HostnameOS / ArchINSTALLBUILDCHECKBUILD BIN
POMA 1.12.0  (landing page)
Pol Castellano-Escuder
git_last_commit: 6e2f5bc
git_last_commit_date: 2024-02-10 21:44:51 -0400
kjohnson1macOS 13.6.1 Ventura / arm64  OK    OK    ERROR    OK  
Package 352/532HostnameOS / ArchINSTALLBUILDCHECKBUILD BIN
POWSC 1.10.0  (landing page)
Kenong Su
git_last_commit: 128061c
git_last_commit_date: 2023-10-24 11:33:15 -0400
kjohnson1macOS 13.6.1 Ventura / arm64  OK    OK    OK    OK  UNNEEDED, same version is already published
Package 353/532HostnameOS / ArchINSTALLBUILDCHECKBUILD BIN
proActiv 1.12.0  (landing page)
Joseph Lee
git_last_commit: a55e732
git_last_commit_date: 2023-10-24 11:25:31 -0400
kjohnson1macOS 13.6.1 Ventura / arm64  OK    OK    OK    OK  UNNEEDED, same version is already published
Package 354/532HostnameOS / ArchINSTALLBUILDCHECKBUILD BIN
proDA 1.16.0  (landing page)
Constantin Ahlmann-Eltze
git_last_commit: 1b39f4f
git_last_commit_date: 2023-10-24 11:15:28 -0400
kjohnson1macOS 13.6.1 Ventura / arm64  OK    OK    OK    OK  UNNEEDED, same version is already published
Package 355/532HostnameOS / ArchINSTALLBUILDCHECKBUILD BIN
profileplyr 1.18.0  (landing page)
Tom Carroll , Doug Barrows
git_last_commit: 5470b48
git_last_commit_date: 2023-10-24 11:12:50 -0400
kjohnson1macOS 13.6.1 Ventura / arm64  OK    OK    OK    OK  UNNEEDED, same version is already published
Package 356/532HostnameOS / ArchINSTALLBUILDCHECKBUILD BIN
psichomics 1.28.1  (landing page)
Nuno Saraiva-Agostinho
git_last_commit: 444a86a
git_last_commit_date: 2024-02-04 17:55:30 -0400
kjohnson1macOS 13.6.1 Ventura / arm64  OK    OK    OK    OK  UNNEEDED, same version is already published
Package 357/532HostnameOS / ArchINSTALLBUILDCHECKBUILD BIN
PureCN 2.8.1  (landing page)
Markus Riester
git_last_commit: 43f6a49
git_last_commit_date: 2023-11-20 16:23:17 -0400
kjohnson1macOS 13.6.1 Ventura / arm64  OK    OK    OK    OK  UNNEEDED, same version is already published
Package 358/532HostnameOS / ArchINSTALLBUILDCHECKBUILD BIN
QFeatures 1.12.0  (landing page)
Laurent Gatto
git_last_commit: fc44d63
git_last_commit_date: 2023-10-24 11:24:43 -0400
kjohnson1macOS 13.6.1 Ventura / arm64  OK    OK    OK    OK  UNNEEDED, same version is already published
Package 359/532HostnameOS / ArchINSTALLBUILDCHECKBUILD BIN
qmtools 1.6.0  (landing page)
Jaehyun Joo
git_last_commit: 48d7be4
git_last_commit_date: 2023-10-24 11:41:06 -0400
kjohnson1macOS 13.6.1 Ventura / arm64  OK    OK    OK    OK  UNNEEDED, same version is already published
Package 360/532HostnameOS / ArchINSTALLBUILDCHECKBUILD BIN
qsmooth 1.18.0  (landing page)
Stephanie C. Hicks
git_last_commit: c82730e
git_last_commit_date: 2023-10-24 11:12:11 -0400
kjohnson1macOS 13.6.1 Ventura / arm64  OK    OK    WARNINGS    OK  UNNEEDED, same version is already published
Package 361/532HostnameOS / ArchINSTALLBUILDCHECKBUILD BIN
qsvaR 1.6.0  (landing page)
Hedia Tnani
git_last_commit: c2cf2d7
git_last_commit_date: 2023-10-24 11:40:44 -0400
kjohnson1macOS 13.6.1 Ventura / arm64  OK    OK    OK    OK  UNNEEDED, same version is already published
Package 362/532HostnameOS / ArchINSTALLBUILDCHECKBUILD BIN
QTLExperiment 1.0.0  (landing page)
Amelia Dunstone
git_last_commit: eb387bf
git_last_commit_date: 2023-10-24 11:52:36 -0400
kjohnson1macOS 13.6.1 Ventura / arm64  OK    OK    OK    OK  UNNEEDED, same version is already published
Package 363/532HostnameOS / ArchINSTALLBUILDCHECKBUILD BIN
quantiseqr 1.10.0  (landing page)
Federico Marini
git_last_commit: 3ea45f1
git_last_commit_date: 2023-10-24 11:32:39 -0400
kjohnson1macOS 13.6.1 Ventura / arm64  OK    OK    OK    OK  UNNEEDED, same version is already published
Package 364/532HostnameOS / ArchINSTALLBUILDCHECKBUILD BIN
R453Plus1Toolbox 1.52.0  (landing page)
Hans-Ulrich Klein
git_last_commit: f72252b
git_last_commit_date: 2023-10-24 09:45:08 -0400
kjohnson1macOS 13.6.1 Ventura / arm64  OK    OK    OK    OK  UNNEEDED, same version is already published
Package 365/532HostnameOS / ArchINSTALLBUILDCHECKBUILD BIN
RadioGx 2.6.0  (landing page)
Benjamin Haibe-Kains
git_last_commit: ea703e3
git_last_commit_date: 2023-10-24 11:23:09 -0400
kjohnson1macOS 13.6.1 Ventura / arm64  OK    OK    OK    OK  UNNEEDED, same version is already published
Package 366/532HostnameOS / ArchINSTALLBUILDCHECKBUILD BIN
raer 1.0.2  (landing page)
Kent Riemondy
git_last_commit: 852cee5
git_last_commit_date: 2024-03-08 12:35:28 -0400
kjohnson1macOS 13.6.1 Ventura / arm64  OK    OK    WARNINGS    OK  UNNEEDED, same version is already published
Package 367/532HostnameOS / ArchINSTALLBUILDCHECKBUILD BIN
RaggedExperiment 1.26.0  (landing page)
Marcel Ramos
git_last_commit: 1da7790
git_last_commit_date: 2023-10-24 10:56:41 -0400
kjohnson1macOS 13.6.1 Ventura / arm64  OK    OK    OK    OK  UNNEEDED, same version is already published
Package 368/532HostnameOS / ArchINSTALLBUILDCHECKBUILD BIN
RareVariantVis 2.30.0  (landing page)
Tomasz Stokowy
git_last_commit: 3234d00
git_last_commit_date: 2023-10-24 10:43:51 -0400
kjohnson1macOS 13.6.1 Ventura / arm64  OK    OK    OK    OK  UNNEEDED, same version is already published
Package 369/532HostnameOS / ArchINSTALLBUILDCHECKBUILD BIN
RcisTarget 1.22.0  (landing page)
Sara Aibar
git_last_commit: 49974d1
git_last_commit_date: 2023-10-24 11:02:24 -0400
kjohnson1macOS 13.6.1 Ventura / arm64  OK    OK    OK    OK  UNNEEDED, same version is already published
Package 370/532HostnameOS / ArchINSTALLBUILDCHECKBUILD BIN
receptLoss 1.14.0  (landing page)
Daniel Pique
git_last_commit: 1f5588d
git_last_commit_date: 2023-10-24 11:19:47 -0400
kjohnson1macOS 13.6.1 Ventura / arm64  OK    OK    OK    OK  UNNEEDED, same version is already published
Package 371/532HostnameOS / ArchINSTALLBUILDCHECKBUILD BIN
recount 1.28.0  (landing page)
Leonardo Collado-Torres
git_last_commit: 5916872
git_last_commit_date: 2023-10-24 10:51:54 -0400
kjohnson1macOS 13.6.1 Ventura / arm64  OK    ERROR  skippedskipped
Package 372/532HostnameOS / ArchINSTALLBUILDCHECKBUILD BIN
recount3 1.12.0  (landing page)
Leonardo Collado-Torres
git_last_commit: 8a11b8e
git_last_commit_date: 2023-10-24 11:26:40 -0400
kjohnson1macOS 13.6.1 Ventura / arm64  OK    OK    OK    OK  UNNEEDED, same version is already published
Package 373/532HostnameOS / ArchINSTALLBUILDCHECKBUILD BIN
RegEnrich 1.12.0  (landing page)
Weiyang Tao
git_last_commit: 0524ae6
git_last_commit_date: 2023-10-24 11:23:04 -0400
kjohnson1macOS 13.6.1 Ventura / arm64  OK    OK    OK    OK  UNNEEDED, same version is already published
Package 374/532HostnameOS / ArchINSTALLBUILDCHECKBUILD BIN
RegionalST 1.0.1  (landing page)
Ziyi Li
git_last_commit: 2544b3c
git_last_commit_date: 2023-12-01 13:10:48 -0400
kjohnson1macOS 13.6.1 Ventura / arm64  OK    OK    OK    OK  UNNEEDED, same version is already published
Package 375/532HostnameOS / ArchINSTALLBUILDCHECKBUILD BIN
regionReport 1.36.0  (landing page)
Leonardo Collado-Torres
git_last_commit: 33d1df7
git_last_commit_date: 2023-10-24 10:39:04 -0400
kjohnson1macOS 13.6.1 Ventura / arm64  OK    OK    OK    OK  UNNEEDED, same version is already published
Package 376/532HostnameOS / ArchINSTALLBUILDCHECKBUILD BIN
regsplice 1.28.1  (landing page)
Lukas M. Weber
git_last_commit: f1c2b5c
git_last_commit_date: 2024-03-17 14:39:00 -0400
kjohnson1macOS 13.6.1 Ventura / arm64  OK    OK    OK    OK  UNNEEDED, same version is already published
Package 377/532HostnameOS / ArchINSTALLBUILDCHECKBUILD BIN
REMP 1.26.0  (landing page)
Yinan Zheng
git_last_commit: ee4ee19
git_last_commit_date: 2023-10-24 10:55:28 -0400
kjohnson1macOS 13.6.1 Ventura / arm64  OK    OK    OK    OK  UNNEEDED, same version is already published
Package 378/532HostnameOS / ArchINSTALLBUILDCHECKBUILD BIN
restfulSE 1.24.0  (landing page)
Shweta Gopaulakrishnan
git_last_commit: 8154538
git_last_commit_date: 2023-10-24 10:59:57 -0400
kjohnson1macOS 13.6.1 Ventura / arm64  OK    OK    OK    OK  UNNEEDED, same version is already published
Package 379/532HostnameOS / ArchINSTALLBUILDCHECKBUILD BIN
rgsepd 1.34.0  (landing page)
Karl Stamm
git_last_commit: e227887
git_last_commit_date: 2023-10-24 10:40:48 -0400
kjohnson1macOS 13.6.1 Ventura / arm64  OK    OK    OK    OK  UNNEEDED, same version is already published
Package 380/532HostnameOS / ArchINSTALLBUILDCHECKBUILD BIN
rifi 1.6.0  (landing page)
Jens Georg
git_last_commit: 8a639a0
git_last_commit_date: 2023-10-24 11:42:06 -0400
kjohnson1macOS 13.6.1 Ventura / arm64  OK    OK    WARNINGS    OK  UNNEEDED, same version is already published
Package 381/532HostnameOS / ArchINSTALLBUILDCHECKBUILD BIN
rifiComparative 1.2.0  (landing page)
Loubna Youssar
git_last_commit: a1ac42b
git_last_commit_date: 2023-10-24 11:46:24 -0400
kjohnson1macOS 13.6.1 Ventura / arm64  OK    OK    OK    OK  UNNEEDED, same version is already published
Package 382/532HostnameOS / ArchINSTALLBUILDCHECKBUILD BIN
Rmmquant 1.20.0  (landing page)
Zytnicki Matthias
git_last_commit: 89552c3
git_last_commit_date: 2023-10-24 11:06:00 -0400
kjohnson1macOS 13.6.1 Ventura / arm64  OK    OK    OK    OK  UNNEEDED, same version is already published
Package 383/532HostnameOS / ArchINSTALLBUILDCHECKBUILD BIN
RNAAgeCalc 1.14.0  (landing page)
Xu Ren
git_last_commit: da4cd15
git_last_commit_date: 2023-10-24 11:20:12 -0400
kjohnson1macOS 13.6.1 Ventura / arm64  OK    OK    OK    OK  UNNEEDED, same version is already published
Package 384/532HostnameOS / ArchINSTALLBUILDCHECKBUILD BIN
RNAsense 1.16.0  (landing page)
Marcus Rosenblatt
git_last_commit: e0e3e2a
git_last_commit_date: 2023-10-24 11:18:03 -0400
kjohnson1macOS 13.6.1 Ventura / arm64  OK    OK    WARNINGS    OK  UNNEEDED, same version is already published
Package 385/532HostnameOS / ArchINSTALLBUILDCHECKBUILD BIN
RnaSeqSampleSize 2.12.0  (landing page)
Shilin Zhao Developer
git_last_commit: 71b5e6e
git_last_commit_date: 2023-10-24 11:26:38 -0400
kjohnson1macOS 13.6.1 Ventura / arm64  OK    OK    OK    OK  UNNEEDED, same version is already published
Package 386/532HostnameOS / ArchINSTALLBUILDCHECKBUILD BIN
roar 1.38.0  (landing page)
Elena Grassi
git_last_commit: f1f9d9c
git_last_commit_date: 2023-10-24 09:57:01 -0400
kjohnson1macOS 13.6.1 Ventura / arm64  OK    OK    OK    OK  UNNEEDED, same version is already published
Package 387/532HostnameOS / ArchINSTALLBUILDCHECKBUILD BIN
ROCpAI 1.14.0  (landing page)
Juan-Pedro Garcia
git_last_commit: 232b8e9
git_last_commit_date: 2023-10-24 11:20:33 -0400
kjohnson1macOS 13.6.1 Ventura / arm64  OK    OK    OK    OK  UNNEEDED, same version is already published
Package 388/532HostnameOS / ArchINSTALLBUILDCHECKBUILD BIN
RolDE 1.6.0  (landing page)
Tommi Valikangas
git_last_commit: 29ff099
git_last_commit_date: 2023-10-24 11:41:18 -0400
kjohnson1macOS 13.6.1 Ventura / arm64  OK    OK    OK    OK  UNNEEDED, same version is already published
Package 389/532HostnameOS / ArchINSTALLBUILDCHECKBUILD BIN
ropls 1.34.0  (landing page)
Etienne A. Thevenot
git_last_commit: 415d359
git_last_commit_date: 2023-10-24 10:44:19 -0400
kjohnson1macOS 13.6.1 Ventura / arm64  OK    OK    TIMEOUT    OK  
Package 390/532HostnameOS / ArchINSTALLBUILDCHECKBUILD BIN
rqt 1.28.0  (landing page)
Ilya Y. Zhbannikov
git_last_commit: de2062f
git_last_commit_date: 2023-10-24 10:55:49 -0400
kjohnson1macOS 13.6.1 Ventura / arm64  OK    OK    OK    OK  UNNEEDED, same version is already published
Package 391/532HostnameOS / ArchINSTALLBUILDCHECKBUILD BIN
rScudo 1.18.1  (landing page)
Matteo Ciciani
git_last_commit: e13e994
git_last_commit_date: 2024-01-25 02:24:09 -0400
kjohnson1macOS 13.6.1 Ventura / arm64  OK    OK    OK    OK  UNNEEDED, same version is already published
Package 392/532HostnameOS / ArchINSTALLBUILDCHECKBUILD BIN
RTCGAToolbox 2.32.1  (landing page)
Marcel Ramos
git_last_commit: d05e55f
git_last_commit_date: 2023-10-25 18:09:17 -0400
kjohnson1macOS 13.6.1 Ventura / arm64  OK    OK    OK    OK  UNNEEDED, same version is already published
Package 393/532HostnameOS / ArchINSTALLBUILDCHECKBUILD BIN
RTN 2.26.0  (landing page)
Mauro Castro
git_last_commit: f63f748
git_last_commit_date: 2023-10-24 09:55:16 -0400
kjohnson1macOS 13.6.1 Ventura / arm64  OK    OK    OK    OK  UNNEEDED, same version is already published
Package 394/532HostnameOS / ArchINSTALLBUILDCHECKBUILD BIN
runibic   (landing page)

git_last_commit: 3d745bf
git_last_commit_date: 2023-10-24 11:01:22 -0400
kjohnson1macOS 13.6.1 Ventura / arm64... NOT SUPPORTED ...
Package 395/532HostnameOS / ArchINSTALLBUILDCHECKBUILD BIN
satuRn 1.10.0  (landing page)
Jeroen Gilis
git_last_commit: 97878c3
git_last_commit_date: 2023-10-24 11:30:01 -0400
kjohnson1macOS 13.6.1 Ventura / arm64  OK    OK    OK    OK  UNNEEDED, same version is already published
Package 396/532HostnameOS / ArchINSTALLBUILDCHECKBUILD BIN
SBGNview 1.16.0  (landing page)
Weijun Luo
git_last_commit: 035330e
git_last_commit_date: 2023-10-24 11:14:55 -0400
kjohnson1macOS 13.6.1 Ventura / arm64  OK    OK    OK    OK  UNNEEDED, same version is already published
Package 397/532HostnameOS / ArchINSTALLBUILDCHECKBUILD BIN
SC3 1.30.0  (landing page)
Vladimir Kiselev
git_last_commit: 9bcd7ee
git_last_commit_date: 2023-10-24 10:47:03 -0400
kjohnson1macOS 13.6.1 Ventura / arm64  OK    OK    OK    OK  UNNEEDED, same version is already published
Package 398/532HostnameOS / ArchINSTALLBUILDCHECKBUILD BIN
Scale4C 1.24.0  (landing page)
Carolin Walter
git_last_commit: 3e54c07
git_last_commit_date: 2023-10-24 10:57:44 -0400
kjohnson1macOS 13.6.1 Ventura / arm64  OK    OK    OK    OK  UNNEEDED, same version is already published
Package 399/532HostnameOS / ArchINSTALLBUILDCHECKBUILD BIN
scAnnotatR 1.8.0  (landing page)
Johannes Griss
git_last_commit: 5367b84
git_last_commit_date: 2023-10-24 11:36:04 -0400
kjohnson1macOS 13.6.1 Ventura / arm64  OK    OK    WARNINGS    OK  UNNEEDED, same version is already published
Package 400/532HostnameOS / ArchINSTALLBUILDCHECKBUILD BIN
SCArray 1.10.0  (landing page)
Xiuwen Zheng
git_last_commit: 0761825
git_last_commit_date: 2023-10-24 11:29:01 -0400
kjohnson1macOS 13.6.1 Ventura / arm64  OK    ERROR  skippedskipped
Package 401/532HostnameOS / ArchINSTALLBUILDCHECKBUILD BIN
SCArray.sat 1.2.1  (landing page)
Xiuwen Zheng
git_last_commit: 9bfe743
git_last_commit_date: 2024-01-16 01:57:43 -0400
kjohnson1macOS 13.6.1 Ventura / arm64  OK    OK    WARNINGS    OK  UNNEEDED, same version is already published
Package 402/532HostnameOS / ArchINSTALLBUILDCHECKBUILD BIN
scater 1.30.1  (landing page)
Alan O'Callaghan
git_last_commit: 27d0d22
git_last_commit_date: 2023-11-16 08:32:36 -0400
kjohnson1macOS 13.6.1 Ventura / arm64  OK    ERROR  skippedskipped
Package 403/532HostnameOS / ArchINSTALLBUILDCHECKBUILD BIN
scBFA 1.16.0  (landing page)
Ruoxin Li
git_last_commit: fe10960
git_last_commit_date: 2023-10-24 11:15:31 -0400
kjohnson1macOS 13.6.1 Ventura / arm64  OK    OK    OK    OK  UNNEEDED, same version is already published
Package 404/532HostnameOS / ArchINSTALLBUILDCHECKBUILD BIN
scCB2 1.12.0  (landing page)
Zijian Ni
git_last_commit: bf81d77
git_last_commit_date: 2023-10-24 11:23:38 -0400
kjohnson1macOS 13.6.1 Ventura / arm64  OK    OK    OK    OK  UNNEEDED, same version is already published
Package 405/532HostnameOS / ArchINSTALLBUILDCHECKBUILD BIN
scDblFinder 1.16.0  (landing page)
Pierre-Luc Germain
git_last_commit: eb6af9b
git_last_commit_date: 2023-10-24 11:17:39 -0400
kjohnson1macOS 13.6.1 Ventura / arm64  OK    ERROR  skippedskipped
Package 406/532HostnameOS / ArchINSTALLBUILDCHECKBUILD BIN
scDD 1.26.0  (landing page)
Keegan Korthauer
git_last_commit: 6a08730
git_last_commit_date: 2023-10-24 10:54:42 -0400
kjohnson1macOS 13.6.1 Ventura / arm64  OK    OK    OK    OK  UNNEEDED, same version is already published
Package 407/532HostnameOS / ArchINSTALLBUILDCHECKBUILD BIN
scDDboost 1.4.0  (landing page)
Xiuyu Ma
git_last_commit: e1f3247
git_last_commit_date: 2023-10-24 11:42:24 -0400
kjohnson1macOS 13.6.1 Ventura / arm64  OK    OK    WARNINGS    OK  UNNEEDED, same version is already published
Package 408/532HostnameOS / ArchINSTALLBUILDCHECKBUILD BIN
scDesign3 1.0.1  (landing page)
Dongyuan Song
git_last_commit: 462115d
git_last_commit_date: 2024-01-12 18:44:32 -0400
kjohnson1macOS 13.6.1 Ventura / arm64  OK    OK    OK    OK  UNNEEDED, same version is already published
Package 409/532HostnameOS / ArchINSTALLBUILDCHECKBUILD BIN
scds 1.18.0  (landing page)
Dennis Kostka
git_last_commit: dff0c08
git_last_commit_date: 2023-10-24 11:11:24 -0400
kjohnson1macOS 13.6.1 Ventura / arm64  OK    OK    OK    OK  UNNEEDED, same version is already published
Package 410/532HostnameOS / ArchINSTALLBUILDCHECKBUILD BIN
scGPS 1.16.0  (landing page)
Quan Nguyen
git_last_commit: a8db94b
git_last_commit_date: 2023-10-24 11:15:17 -0400
kjohnson1macOS 13.6.1 Ventura / arm64  OK    OK    OK    OK  UNNEEDED, same version is already published
Package 411/532HostnameOS / ArchINSTALLBUILDCHECKBUILD BIN
scHOT 1.14.0  (landing page)
Shila Ghazanfar
git_last_commit: 7445339
git_last_commit_date: 2023-10-24 11:21:09 -0400
kjohnson1macOS 13.6.1 Ventura / arm64  OK    OK    OK    OK  UNNEEDED, same version is already published
Package 412/532HostnameOS / ArchINSTALLBUILDCHECKBUILD BIN
scider 1.0.0  (landing page)
Yunshun Chen
git_last_commit: aa4483a
git_last_commit_date: 2023-10-24 11:52:18 -0400
kjohnson1macOS 13.6.1 Ventura / arm64  OK    OK    OK    OK  UNNEEDED, same version is already published
Package 413/532HostnameOS / ArchINSTALLBUILDCHECKBUILD BIN
scmap 1.24.0  (landing page)
Vladimir Kiselev
git_last_commit: 467327a
git_last_commit_date: 2023-10-24 10:58:03 -0400
kjohnson1macOS 13.6.1 Ventura / arm64  OK    OK    OK    OK  UNNEEDED, same version is already published
Package 414/532HostnameOS / ArchINSTALLBUILDCHECKBUILD BIN
scMerge 1.18.0  (landing page)
Yingxin Lin
git_last_commit: 8b9a2dc
git_last_commit_date: 2023-10-24 11:13:27 -0400
kjohnson1macOS 13.6.1 Ventura / arm64  OK    ERROR  skippedskipped
Package 415/532HostnameOS / ArchINSTALLBUILDCHECKBUILD BIN
scMET 1.4.0  (landing page)
Andreas C. Kapourani
git_last_commit: d18b5a2
git_last_commit_date: 2023-10-24 11:43:15 -0400
kjohnson1macOS 13.6.1 Ventura / arm64  OK    OK    OK    OK  UNNEEDED, same version is already published
Package 416/532HostnameOS / ArchINSTALLBUILDCHECKBUILD BIN
scmeth 1.22.0  (landing page)
Divy Kangeyan
git_last_commit: 39a201a
git_last_commit_date: 2023-10-24 11:02:56 -0400
kjohnson1macOS 13.6.1 Ventura / arm64  OK    OK    OK    OK  UNNEEDED, same version is already published
Package 417/532HostnameOS / ArchINSTALLBUILDCHECKBUILD BIN
SCnorm 1.24.0  (landing page)
Rhonda Bacher
git_last_commit: a500413
git_last_commit_date: 2023-10-24 10:58:34 -0400
kjohnson1macOS 13.6.1 Ventura / arm64  OK    OK    OK    OK  UNNEEDED, same version is already published
Package 418/532HostnameOS / ArchINSTALLBUILDCHECK