Back to Mac ARM64 build report for BioC 3.18
AB[C]DEFGHIJKLMNOPQRSTUVWXYZ

This page was generated on 2024-02-22 11:32:05 -0500 (Thu, 22 Feb 2024).

HostnameOSArch (*)R versionInstalled pkgs
kjohnson1macOS 13.6.1 Venturaarm644.3.2 (2023-10-31) -- "Eye Holes" 4300
Click on any hostname to see more info about the system (e.g. compilers)      (*) as reported by 'uname -p', except on Windows and Mac OS X

All results for package CRISPRseek


To the developers/maintainers of the CRISPRseek package:
- Use the following Renviron settings to reproduce errors and warnings.
- If 'R CMD check' started to fail recently on the Linux builder(s) over a missing dependency, add the missing dependency to 'Suggests:' in your DESCRIPTION file. See Renviron.bioc for more information.

raw results

Package 458/2266HostnameOS / ArchINSTALLBUILDCHECKBUILD BIN
CRISPRseek 1.42.0  (landing page)
Lihua Julie Zhu
Snapshot Date: 2024-02-20 09:00:03 -0500 (Tue, 20 Feb 2024)
git_url: https://git.bioconductor.org/packages/CRISPRseek
git_branch: RELEASE_3_18
git_last_commit: bd578a5
git_last_commit_date: 2023-10-24 09:56:49 -0500 (Tue, 24 Oct 2023)
kjohnson1macOS 13.6.1 Ventura / arm64  OK    OK    TIMEOUT    OK  

Results for Bioconductor software packages that depend directly on package CRISPRseek

QUICK STATSOS / ArchINSTALLBUILDCHECKBUILD BIN
kjohnson1macOS 13.6.1 Ventura / arm64
003
003
0003
003
Package 1/3HostnameOS / ArchINSTALLBUILDCHECKBUILD BIN
crisprseekplus 1.28.0  (landing page)
Alper Kucukural
git_last_commit: 8338d72
git_last_commit_date: 2023-10-24 10:53:40 -0500
kjohnson1macOS 13.6.1 Ventura / arm64  OK    OK    OK    OK  UNNEEDED, same version is already published
Package 2/3HostnameOS / ArchINSTALLBUILDCHECKBUILD BIN
GUIDEseq 1.32.0  (landing page)
Lihua Julie Zhu
git_last_commit: d675d44
git_last_commit_date: 2023-10-24 10:45:51 -0500
kjohnson1macOS 13.6.1 Ventura / arm64  OK    OK    OK    OK  UNNEEDED, same version is already published
Package 3/3HostnameOS / ArchINSTALLBUILDCHECKBUILD BIN
multicrispr 1.12.3  (landing page)
Aditya Bhagwat
git_last_commit: fdead8c
git_last_commit_date: 2023-11-13 04:55:16 -0500
kjohnson1macOS 13.6.1 Ventura / arm64  OK    OK    OK    OK  UNNEEDED, same version is already published