Back to Mac ARM64 build report for BioC 3.18
A[B]CDEFGHIJKLMNOPQRSTUVWXYZ

This page was generated on 2024-02-19 11:31:54 -0500 (Mon, 19 Feb 2024).

HostnameOSArch (*)R versionInstalled pkgs
kjohnson1macOS 13.6.1 Venturaarm644.3.2 (2023-10-31) -- "Eye Holes" 4299
Click on any hostname to see more info about the system (e.g. compilers)      (*) as reported by 'uname -p', except on Windows and Mac OS X

All results for package BSgenomeForge


To the developers/maintainers of the BSgenomeForge package:
- Use the following Renviron settings to reproduce errors and warnings.
- If 'R CMD check' started to fail recently on the Linux builder(s) over a missing dependency, add the missing dependency to 'Suggests:' in your DESCRIPTION file. See Renviron.bioc for more information.

raw results

Package 243/2266HostnameOS / ArchINSTALLBUILDCHECKBUILD BIN
BSgenomeForge 1.2.2  (landing page)
Hervé Pagès
Snapshot Date: 2024-02-17 09:00:03 -0500 (Sat, 17 Feb 2024)
git_url: https://git.bioconductor.org/packages/BSgenomeForge
git_branch: RELEASE_3_18
git_last_commit: 6fe1ff5
git_last_commit_date: 2024-02-12 12:55:36 -0500 (Mon, 12 Feb 2024)
kjohnson1macOS 13.6.1 Ventura / arm64  OK    ERROR  skippedskipped