Back to Mac ARM64 build report for BioC 3.18
[A]BCDEFGHIJKLMNOPQRSTUVWXYZ

This page was generated on 2024-03-28 11:32:05 -0400 (Thu, 28 Mar 2024).

HostnameOSArch (*)R versionInstalled pkgs
kjohnson1macOS 13.6.1 Venturaarm644.3.3 (2024-02-29) -- "Angel Food Cake" 4376
Click on any hostname to see more info about the system (e.g. compilers)      (*) as reported by 'uname -p', except on Windows and Mac OS X

All results for package alabaster.matrix


To the developers/maintainers of the alabaster.matrix package:
- Use the following Renviron settings to reproduce errors and warnings.
- If 'R CMD check' started to fail recently on the Linux builder(s) over a missing dependency, add the missing dependency to 'Suggests:' in your DESCRIPTION file. See Renviron.bioc for more information.

raw results

Package 44/2266HostnameOS / ArchINSTALLBUILDCHECKBUILD BIN
alabaster.matrix 1.2.0  (landing page)
Aaron Lun
Snapshot Date: 2024-03-26 09:00:03 -0400 (Tue, 26 Mar 2024)
git_url: https://git.bioconductor.org/packages/alabaster.matrix
git_branch: RELEASE_3_18
git_last_commit: 7c9f381
git_last_commit_date: 2023-10-24 11:46:57 -0400 (Tue, 24 Oct 2023)
kjohnson1macOS 13.6.1 Ventura / arm64  OK    OK    OK    OK  UNNEEDED, same version is already published

Results for Bioconductor software packages that depend directly on package alabaster.matrix

QUICK STATSOS / ArchINSTALLBUILDCHECKBUILD BIN
kjohnson1macOS 13.6.1 Ventura / arm64
002
002
0002
002
Package 1/2HostnameOS / ArchINSTALLBUILDCHECKBUILD BIN
alabaster 1.2.0  (landing page)
Aaron Lun
git_last_commit: aa5a401
git_last_commit_date: 2023-10-24 11:47:19 -0400
kjohnson1macOS 13.6.1 Ventura / arm64  OK    OK    OK    OK  UNNEEDED, same version is already published
Package 2/2HostnameOS / ArchINSTALLBUILDCHECKBUILD BIN
alabaster.se 1.2.0  (landing page)
Aaron Lun
git_last_commit: d1222d4
git_last_commit_date: 2023-10-24 11:47:00 -0400
kjohnson1macOS 13.6.1 Ventura / arm64  OK    OK    OK    OK  UNNEEDED, same version is already published