Back to Mac ARM64 build report for BioC 3.18
ABCDEFGHIJKLMN[O]PQRSTUVWXYZ

This page was generated on 2024-02-22 11:32:10 -0500 (Thu, 22 Feb 2024).

HostnameOSArch (*)R versionInstalled pkgs
kjohnson1macOS 13.6.1 Venturaarm644.3.2 (2023-10-31) -- "Eye Holes" 4300
Click on any hostname to see more info about the system (e.g. compilers)      (*) as reported by 'uname -p', except on Windows and Mac OS X

All results for package ORFik


To the developers/maintainers of the ORFik package:
- Use the following Renviron settings to reproduce errors and warnings.
- If 'R CMD check' started to fail recently on the Linux builder(s) over a missing dependency, add the missing dependency to 'Suggests:' in your DESCRIPTION file. See Renviron.bioc for more information.

raw results

Package 1472/2266HostnameOS / ArchINSTALLBUILDCHECKBUILD BIN
ORFik 1.22.1  (landing page)
Haakon Tjeldnes
Snapshot Date: 2024-02-20 09:00:03 -0500 (Tue, 20 Feb 2024)
git_url: https://git.bioconductor.org/packages/ORFik
git_branch: RELEASE_3_18
git_last_commit: 68311e4
git_last_commit_date: 2023-12-08 03:55:13 -0500 (Fri, 08 Dec 2023)
kjohnson1macOS 13.6.1 Ventura / arm64  ERROR    ERROR  skippedskipped

Results for Bioconductor software packages that depend directly on package ORFik

QUICK STATSOS / ArchINSTALLBUILDCHECKBUILD BIN
kjohnson1macOS 13.6.1 Ventura / arm64
002
002
0002
002
Package 1/2HostnameOS / ArchINSTALLBUILDCHECKBUILD BIN
RiboCrypt 1.8.0  (landing page)
Michal Swirski
git_last_commit: f2d4217
git_last_commit_date: 2023-10-24 11:38:07 -0500
kjohnson1macOS 13.6.1 Ventura / arm64  OK    OK    OK    OK  UNNEEDED, same version is already published
Package 2/2HostnameOS / ArchINSTALLBUILDCHECKBUILD BIN
TFHAZ 1.24.0  (landing page)
Gaia Ceddia
git_last_commit: aa80698
git_last_commit_date: 2023-10-24 10:59:27 -0500
kjohnson1macOS 13.6.1 Ventura / arm64  OK    OK    OK    OK  UNNEEDED, same version is already published