Back to Mac ARM64 build report for BioC 3.19 |
|
This page was generated on 2024-05-01 11:32:57 -0400 (Wed, 01 May 2024).
Hostname | OS | Arch (*) | R version | Installed pkgs |
---|---|---|---|---|
kjohnson3 | macOS 13.6.5 Ventura | arm64 | 4.4.0 alpha (2024-03-27 r86216) | 4475 |
Click on any hostname to see more info about the system (e.g. compilers) (*) as reported by 'uname -p', except on Windows and Mac OS X |
To the developers/maintainers of the ProtGenerics package: - Use the following Renviron settings to reproduce errors and warnings. - If 'R CMD check' started to fail recently on the Linux builder(s) over a missing dependency, add the missing dependency to 'Suggests:' in your DESCRIPTION file. See Renviron.bioc for more information. |
Package 1625/2300 | Hostname | OS / Arch | INSTALL | BUILD | CHECK | BUILD BIN | ||||||||
ProtGenerics 1.36.0 (landing page) Laurent Gatto
| kjohnson3 | macOS 13.6.5 Ventura / arm64 | OK | OK | OK | OK | ||||||||
QUICK STATS | OS / Arch | INSTALL | BUILD | CHECK | BUILD BIN | |||||||||||||||||
kjohnson3 | macOS 13.6.5 Ventura / arm64 |
|
|
|
| |||||||||||||||||
Package 1/22 | Hostname | OS / Arch | INSTALL | BUILD | CHECK | BUILD BIN | ||||||||||||||||
Cardinal 3.6.0 (landing page) Kylie Ariel Bemis
| kjohnson3 | macOS 13.6.5 Ventura / arm64 | OK | OK | OK | OK | ||||||||||||||||
Package 2/22 | Hostname | OS / Arch | INSTALL | BUILD | CHECK | BUILD BIN | ||||||||||||||||
CompoundDb 1.8.0 (landing page) Johannes Rainer
| kjohnson3 | macOS 13.6.5 Ventura / arm64 | OK | OK | OK | OK | ||||||||||||||||
Package 3/22 | Hostname | OS / Arch | INSTALL | BUILD | CHECK | BUILD BIN | ||||||||||||||||
ensembldb 2.28.0 (landing page) Johannes Rainer
| kjohnson3 | macOS 13.6.5 Ventura / arm64 | OK | OK | OK | OK | ||||||||||||||||
Package 4/22 | Hostname | OS / Arch | INSTALL | BUILD | CHECK | BUILD BIN | ||||||||||||||||
matter 2.6.0 (landing page) Kylie A. Bemis
| kjohnson3 | macOS 13.6.5 Ventura / arm64 | OK | OK | OK | OK | ||||||||||||||||
Package 5/22 | Hostname | OS / Arch | INSTALL | BUILD | CHECK | BUILD BIN | ||||||||||||||||
MetaboAnnotation 1.8.0 (landing page) Johannes Rainer
| kjohnson3 | macOS 13.6.5 Ventura / arm64 | OK | OK | OK | OK | ||||||||||||||||
Package 6/22 | Hostname | OS / Arch | INSTALL | BUILD | CHECK | BUILD BIN | ||||||||||||||||
MsBackendMassbank 1.12.0 (landing page) RforMassSpectrometry Package Maintainer
| kjohnson3 | macOS 13.6.5 Ventura / arm64 | OK | OK | OK | OK | ||||||||||||||||
Package 7/22 | Hostname | OS / Arch | INSTALL | BUILD | CHECK | BUILD BIN | ||||||||||||||||
MsBackendMgf 1.12.0 (landing page) RforMassSpectrometry Package Maintainer
| kjohnson3 | macOS 13.6.5 Ventura / arm64 | OK | OK | OK | OK | ||||||||||||||||
Package 8/22 | Hostname | OS / Arch | INSTALL | BUILD | CHECK | BUILD BIN | ||||||||||||||||
MsBackendMsp 1.8.0 (landing page) Johannes Rainer
| kjohnson3 | macOS 13.6.5 Ventura / arm64 | OK | OK | OK | OK | ||||||||||||||||
Package 9/22 | Hostname | OS / Arch | INSTALL | BUILD | CHECK | BUILD BIN | ||||||||||||||||
MsBackendRawFileReader 1.10.0 (landing page) Christian Panse
| kjohnson3 | macOS 13.6.5 Ventura / arm64 | ERROR | ERROR | skipped | skipped | ||||||||||||||||
Package 10/22 | Hostname | OS / Arch | INSTALL | BUILD | CHECK | BUILD BIN | ||||||||||||||||
MsBackendSql 1.4.0 (landing page) Johannes Rainer
| kjohnson3 | macOS 13.6.5 Ventura / arm64 | OK | OK | OK | OK | ||||||||||||||||
Package 11/22 | Hostname | OS / Arch | INSTALL | BUILD | CHECK | BUILD BIN | ||||||||||||||||
MsExperiment 1.6.0 (landing page) Laurent Gatto
| kjohnson3 | macOS 13.6.5 Ventura / arm64 | OK | OK | WARNINGS | OK | ||||||||||||||||
Package 12/22 | Hostname | OS / Arch | INSTALL | BUILD | CHECK | BUILD BIN | ||||||||||||||||
MsFeatures 1.12.0 (landing page) Johannes Rainer
| kjohnson3 | macOS 13.6.5 Ventura / arm64 | OK | OK | OK | OK | ||||||||||||||||
Package 13/22 | Hostname | OS / Arch | INSTALL | BUILD | CHECK | BUILD BIN | ||||||||||||||||
MSnbase 2.30.1 (landing page) Laurent Gatto
| kjohnson3 | macOS 13.6.5 Ventura / arm64 | OK | OK | OK | OK | ||||||||||||||||
Package 14/22 | Hostname | OS / Arch | INSTALL | BUILD | CHECK | BUILD BIN | ||||||||||||||||
MSnID 1.38.0 (landing page) Vlad Petyuk
| kjohnson3 | macOS 13.6.5 Ventura / arm64 | OK | OK | ERROR | OK | ||||||||||||||||
Package 15/22 | Hostname | OS / Arch | INSTALL | BUILD | CHECK | BUILD BIN | ||||||||||||||||
MsQuality 1.4.0 (landing page) Thomas Naake
| kjohnson3 | macOS 13.6.5 Ventura / arm64 | OK | OK | OK | OK | ||||||||||||||||
Package 16/22 | Hostname | OS / Arch | INSTALL | BUILD | CHECK | BUILD BIN | ||||||||||||||||
mzID 1.42.0 (landing page) Laurent Gatto
| kjohnson3 | macOS 13.6.5 Ventura / arm64 | OK | OK | OK | OK | ||||||||||||||||
Package 17/22 | Hostname | OS / Arch | INSTALL | BUILD | CHECK | BUILD BIN | ||||||||||||||||
mzR 2.38.0 (landing page) Steffen Neumann
| kjohnson3 | macOS 13.6.5 Ventura / arm64 | OK | OK | WARNINGS | OK | ||||||||||||||||
Package 18/22 | Hostname | OS / Arch | INSTALL | BUILD | CHECK | BUILD BIN | ||||||||||||||||
PSMatch 1.8.0 (landing page) Laurent Gatto
| kjohnson3 | macOS 13.6.5 Ventura / arm64 | OK | OK | OK | OK | ||||||||||||||||
Package 19/22 | Hostname | OS / Arch | INSTALL | BUILD | CHECK | BUILD BIN | ||||||||||||||||
QFeatures 1.14.0 (landing page) Laurent Gatto
| kjohnson3 | macOS 13.6.5 Ventura / arm64 | OK | OK | OK | OK | ||||||||||||||||
Package 20/22 | Hostname | OS / Arch | INSTALL | BUILD | CHECK | BUILD BIN | ||||||||||||||||
Spectra 1.14.0 (landing page) RforMassSpectrometry Package Maintainer
| kjohnson3 | macOS 13.6.5 Ventura / arm64 | OK | OK | OK | OK | ||||||||||||||||
Package 21/22 | Hostname | OS / Arch | INSTALL | BUILD | CHECK | BUILD BIN | ||||||||||||||||
topdownr 1.26.0 (landing page) Sebastian Gibb
| kjohnson3 | macOS 13.6.5 Ventura / arm64 | OK | OK | OK | OK | ||||||||||||||||
Package 22/22 | Hostname | OS / Arch | INSTALL | BUILD | CHECK | BUILD BIN | ||||||||||||||||
xcms 4.2.0 (landing page) Steffen Neumann
| kjohnson3 | macOS 13.6.5 Ventura / arm64 | OK | ERROR | skipped | skipped | ||||||||||||||||