Index of /checkResults/devel/bioc-LATEST/AnnotationDbi/raw-results

[ICO]NameLast modifiedSizeDescription

[DIR]Parent Directory  -  
[   ]info.dcf08-Dec-2022 01:08 303  
[DIR]merida1/08-Dec-2022 01:08 -  
[DIR]nebbiolo1/08-Dec-2022 01:05 -  
[DIR]palomino3/08-Dec-2022 01:06 -