Back to Multiple platform build/check report for BioC 3.15
ABCDEFGHIJKLMNOPQ[R]STUVWXYZ

This page was generated on 2022-06-22 12:08:48 -0400 (Wed, 22 Jun 2022).

HostnameOSArch (*)R versionInstalled pkgs
nebbiolo1Linux (Ubuntu 20.04.4 LTS)x86_644.2.0 (2022-04-22) -- "Vigorous Calisthenics" 4380
palomino3Windows Server 2022 Datacenterx644.2.0 (2022-04-22 ucrt) -- "Vigorous Calisthenics" 4156
merida1macOS 10.14.6 Mojavex86_644.2.0 (2022-04-22) -- "Vigorous Calisthenics" 4221
Click on any hostname to see more info about the system (e.g. compilers)      (*) as reported by 'uname -p', except on Windows and Mac OS X

BUILD BIN results for RITAN on merida1


To the developers/maintainers of the RITAN package:
- Please allow up to 24 hours (and sometimes 48 hours) for your latest push to git@git.bioconductor.org:packages/RITAN.git to
reflect on this report. See How and When does the builder pull? When will my changes propagate? for more information.
- Make sure to use the following settings in order to reproduce any error or warning you see on this page.

raw results

Package 1659/2140HostnameOS / ArchINSTALLBUILDCHECKBUILD BIN
RITAN 1.20.0  (landing page)
Michael Zimmermann
Snapshot Date: 2022-06-21 13:55:06 -0400 (Tue, 21 Jun 2022)
git_url: https://git.bioconductor.org/packages/RITAN
git_branch: RELEASE_3_15
git_last_commit: 3d2e50b
git_last_commit_date: 2022-04-26 11:40:54 -0400 (Tue, 26 Apr 2022)
nebbiolo1Linux (Ubuntu 20.04.4 LTS) / x86_64  OK    OK    WARNINGS  UNNEEDED, same version is already published
palomino3Windows Server 2022 Datacenter / x64  OK    OK    WARNINGS    OK  UNNEEDED, same version is already published
merida1macOS 10.14.6 Mojave / x86_64  OK    OK    WARNINGS    OK  UNNEEDED, same version is already published

Summary

Package: RITAN
Version: 1.20.0
Command: rm -rf RITAN.buildbin-libdir && mkdir RITAN.buildbin-libdir && /Users/biocbuild/BBS/utils/build-universal.sh RITAN_1.20.0.tar.gz /Library/Frameworks/R.framework/Resources/bin/R RITAN.buildbin-libdir
StartedAt: 2022-06-22 11:11:41 -0400 (Wed, 22 Jun 2022)
EndedAt: 2022-06-22 11:13:06 -0400 (Wed, 22 Jun 2022)
EllapsedTime: 84.9 seconds
RetCode: 0
Status:   OK  
PackageFile: RITAN_1.20.0.tgz
PackageFileSize: 618.5 KiB

Command output

##############################################################################
##############################################################################
###
### Running command:
###
###   rm -rf RITAN.buildbin-libdir && mkdir RITAN.buildbin-libdir && /Users/biocbuild/BBS/utils/build-universal.sh RITAN_1.20.0.tar.gz /Library/Frameworks/R.framework/Resources/bin/R RITAN.buildbin-libdir
###
##############################################################################
##############################################################################


>>>>>>> 
>>>>>>> INSTALLATION WITH 'R CMD INSTALL --preclean --no-multiarch --library=RITAN.buildbin-libdir RITAN_1.20.0.tar.gz'
>>>>>>> 

* installing *source* package ‘RITAN’ ...
** using staged installation
** R
** data
*** moving datasets to lazyload DB
** inst
** byte-compile and prepare package for lazy loading
Warning: replacing previous import 'GenomicFeatures::proteinToGenome' by 'ensembldb::proteinToGenome' when loading 'RITAN'
Warning: replacing previous import 'ensembldb::keys' by 'hash::keys' when loading 'RITAN'
Warning: replacing previous import 'ensembldb::filter' by 'stats::filter' when loading 'RITAN'
** help
*** installing help indices
** building package indices
** installing vignettes
** testing if installed package can be loaded from temporary location
Warning: replacing previous import 'GenomicFeatures::proteinToGenome' by 'ensembldb::proteinToGenome' when loading 'RITAN'
Warning: replacing previous import 'ensembldb::keys' by 'hash::keys' when loading 'RITAN'
Warning: replacing previous import 'ensembldb::filter' by 'stats::filter' when loading 'RITAN'
** testing if installed package can be loaded from final location
Warning: replacing previous import 'GenomicFeatures::proteinToGenome' by 'ensembldb::proteinToGenome' when loading 'RITAN'
Warning: replacing previous import 'ensembldb::keys' by 'hash::keys' when loading 'RITAN'
Warning: replacing previous import 'ensembldb::filter' by 'stats::filter' when loading 'RITAN'
** testing if installed package keeps a record of temporary installation path
* DONE (RITAN)