Index of /checkResults/devel/bioc-LATEST/GenomicFeatures/raw-results
Name
Last modified
Size
Description
Parent Directory
-
info.dcf
25-Mar-2023 00:06
283
merida1/
25-Mar-2023 00:06
-
nebbiolo1/
25-Mar-2023 00:05
-
palomino3/
25-Mar-2023 00:05
-