Back to Multiple platform build/check report for BioC 3.15
A[B]CDEFGHIJKLMNOPQRSTUVWXYZ

This page was generated on 2022-08-10 15:39:00 -0400 (Wed, 10 Aug 2022).

HostnameOSArch (*)R versionInstalled pkgs
nebbiolo1Linux (Ubuntu 20.04.4 LTS)x86_644.2.1 (2022-06-23) -- "Funny-Looking Kid" 4363
merida1macOS 10.14.6 Mojavex86_644.2.1 (2022-06-23) -- "Funny-Looking Kid" 4181
Click on any hostname to see more info about the system (e.g. compilers)      (*) as reported by 'uname -p', except on Windows and Mac OS X

All results for package basilisk


To the developers/maintainers of the basilisk package:
- Please allow up to 24 hours (and sometimes 48 hours) for your latest push to git@git.bioconductor.org:packages/basilisk.git to
reflect on this report. See How and When does the builder pull? When will my changes propagate? for more information.
- Make sure to use the following settings in order to reproduce any error or warning you see on this page.

raw results

Package 120/2140HostnameOS / ArchINSTALLBUILDCHECKBUILD BIN
basilisk 1.8.0  (landing page)
Aaron Lun
Snapshot Date: 2022-08-09 13:55:12 -0400 (Tue, 09 Aug 2022)
git_url: https://git.bioconductor.org/packages/basilisk
git_branch: RELEASE_3_15
git_last_commit: 379aa34
git_last_commit_date: 2022-04-26 12:02:32 -0400 (Tue, 26 Apr 2022)
nebbiolo1Linux (Ubuntu 20.04.4 LTS) / x86_64  OK    OK    OK  UNNEEDED, same version is already published
merida1macOS 10.14.6 Mojave / x86_64  OK    OK    OK    OK  UNNEEDED, same version is already published

Results for Bioconductor software packages that depend directly on package basilisk

QUICK STATSOS / ArchINSTALLBUILDCHECKBUILD BIN
nebbiolo1Linux (Ubuntu 20.04.4 LTS) / x86_64
0014
0014
00212
merida1macOS 10.14.6 Mojave / x86_64
0014
0014
00212
0014
Package 1/14HostnameOS / ArchINSTALLBUILDCHECKBUILD BIN
BiocSklearn 1.18.2  (landing page)
Vince Carey
git_last_commit: e8e1487
git_last_commit_date: 2022-06-01 22:59:35 -0400
nebbiolo1Linux (Ubuntu 20.04.4 LTS) / x86_64  OK    OK    OK  UNNEEDED, same version is already published
merida1macOS 10.14.6 Mojave / x86_64  OK    OK    OK    OK  UNNEEDED, same version is already published
Package 2/14HostnameOS / ArchINSTALLBUILDCHECKBUILD BIN
cbpManager 1.4.0  (landing page)
Arsenij Ustjanzew
git_last_commit: d6c0260
git_last_commit_date: 2022-04-26 12:15:43 -0400
nebbiolo1Linux (Ubuntu 20.04.4 LTS) / x86_64  OK    OK    WARNINGS  UNNEEDED, same version is already published
merida1macOS 10.14.6 Mojave / x86_64  OK    OK    WARNINGS    OK  UNNEEDED, same version is already published
Package 3/14HostnameOS / ArchINSTALLBUILDCHECKBUILD BIN
COTAN 1.0.0  (landing page)
Galfrè Silvia Giulia
git_last_commit: b6a43f1
git_last_commit_date: 2022-04-26 12:20:54 -0400
nebbiolo1Linux (Ubuntu 20.04.4 LTS) / x86_64  OK    OK    OK  UNNEEDED, same version is already published
merida1macOS 10.14.6 Mojave / x86_64  OK    OK    OK    OK  UNNEEDED, same version is already published
Package 4/14HostnameOS / ArchINSTALLBUILDCHECKBUILD BIN
crisprScore 1.0.0  (landing page)
Jean-Philippe Fortin
git_last_commit: ab81d7d
git_last_commit_date: 2022-04-26 12:20:37 -0400
nebbiolo1Linux (Ubuntu 20.04.4 LTS) / x86_64  OK    OK    WARNINGS  UNNEEDED, same version is already published
merida1macOS 10.14.6 Mojave / x86_64  OK    OK    WARNINGS    OK  UNNEEDED, same version is already published
Package 5/14HostnameOS / ArchINSTALLBUILDCHECKBUILD BIN
dasper 1.6.0  (landing page)
David Zhang
git_last_commit: 06e29e2
git_last_commit_date: 2022-04-26 12:10:37 -0400
nebbiolo1Linux (Ubuntu 20.04.4 LTS) / x86_64  OK    OK    OK  UNNEEDED, same version is already published
merida1macOS 10.14.6 Mojave / x86_64  OK    OK    OK    OK  UNNEEDED, same version is already published
Package 6/14HostnameOS / ArchINSTALLBUILDCHECKBUILD BIN
densvis 1.6.1  (landing page)
Alan O'Callaghan
git_last_commit: 5c05df3
git_last_commit_date: 2022-06-27 13:56:58 -0400
nebbiolo1Linux (Ubuntu 20.04.4 LTS) / x86_64  OK    OK    OK  UNNEEDED, same version is already published
merida1macOS 10.14.6 Mojave / x86_64  OK    OK    OK    OK  UNNEEDED, same version is already published
Package 7/14HostnameOS / ArchINSTALLBUILDCHECKBUILD BIN
FLAMES 1.2.2  (landing page)
Voogd Oliver
git_last_commit: 2d5808d
git_last_commit_date: 2022-08-06 23:11:02 -0400
nebbiolo1Linux (Ubuntu 20.04.4 LTS) / x86_64  OK    OK    OK  UNNEEDED, same version is already published
merida1macOS 10.14.6 Mojave / x86_64  OK    OK    OK    OK  UNNEEDED, same version is already published
Package 8/14HostnameOS / ArchINSTALLBUILDCHECKBUILD BIN
MACSr 1.4.0  (landing page)
Qiang Hu
git_last_commit: e4327db
git_last_commit_date: 2022-04-26 12:12:47 -0400
nebbiolo1Linux (Ubuntu 20.04.4 LTS) / x86_64  OK    OK    OK  UNNEEDED, same version is already published
merida1macOS 10.14.6 Mojave / x86_64  OK    OK    OK    OK  UNNEEDED, same version is already published
Package 9/14HostnameOS / ArchINSTALLBUILDCHECKBUILD BIN
MOFA2 1.6.0  (landing page)
Britta Velten
git_last_commit: 4f068dd
git_last_commit_date: 2022-04-26 12:09:42 -0400
nebbiolo1Linux (Ubuntu 20.04.4 LTS) / x86_64  OK    OK    OK  UNNEEDED, same version is already published
merida1macOS 10.14.6 Mojave / x86_64  OK    OK    OK    OK  UNNEEDED, same version is already published
Package 10/14HostnameOS / ArchINSTALLBUILDCHECKBUILD BIN
Rcwl 1.12.0  (landing page)
Qiang Hu
git_last_commit: de7dc5e
git_last_commit_date: 2022-04-26 11:53:12 -0400
nebbiolo1Linux (Ubuntu 20.04.4 LTS) / x86_64  OK    OK    OK  UNNEEDED, same version is already published
merida1macOS 10.14.6 Mojave / x86_64  OK    OK    OK    OK  UNNEEDED, same version is already published
Package 11/14HostnameOS / ArchINSTALLBUILDCHECKBUILD BIN
snifter 1.6.0  (landing page)
Alan O'Callaghan
git_last_commit: 6beffae
git_last_commit_date: 2022-04-26 12:07:20 -0400
nebbiolo1Linux (Ubuntu 20.04.4 LTS) / x86_64  OK    OK    OK  UNNEEDED, same version is already published
merida1macOS 10.14.6 Mojave / x86_64  OK    OK    OK    OK  UNNEEDED, same version is already published
Package 12/14HostnameOS / ArchINSTALLBUILDCHECKBUILD BIN
spatialDE 1.2.0  (landing page)
Davide Corso
git_last_commit: af03d9e
git_last_commit_date: 2022-04-26 12:17:46 -0400
nebbiolo1Linux (Ubuntu 20.04.4 LTS) / x86_64  OK    OK    OK  UNNEEDED, same version is already published
merida1macOS 10.14.6 Mojave / x86_64  OK    OK    OK    OK  UNNEEDED, same version is already published
Package 13/14HostnameOS / ArchINSTALLBUILDCHECKBUILD BIN
velociraptor 1.6.0  (landing page)
Kevin Rue-Albrecht
git_last_commit: 3a7545b
git_last_commit_date: 2022-04-26 12:08:47 -0400
nebbiolo1Linux (Ubuntu 20.04.4 LTS) / x86_64  OK    OK    OK  UNNEEDED, same version is already published
merida1macOS 10.14.6 Mojave / x86_64  OK    OK    OK    OK  UNNEEDED, same version is already published
Package 14/14HostnameOS / ArchINSTALLBUILDCHECKBUILD BIN
zellkonverter 1.6.3  (landing page)
Luke Zappia
git_last_commit: 437ff02
git_last_commit_date: 2022-06-23 04:13:26 -0400
nebbiolo1Linux (Ubuntu 20.04.4 LTS) / x86_64  OK    OK    OK  UNNEEDED, same version is already published
merida1macOS 10.14.6 Mojave / x86_64  OK    OK    OK    OK  UNNEEDED, same version is already published