Back to Multiple platform build/check report for BioC 3.15
ABCDEF[G]HIJKLMNOPQRSTUVWXYZ

This page was generated on 2022-05-23 12:04:27 -0400 (Mon, 23 May 2022).

HostnameOSArch (*)R versionInstalled pkgs
nebbiolo1Linux (Ubuntu 20.04.4 LTS)x86_644.2.0 (2022-04-22) -- "Vigorous Calisthenics" 4380
palomino3Windows Server 2022 Datacenterx644.2.0 (2022-04-22 ucrt) -- "Vigorous Calisthenics" 4155
merida1macOS 10.14.6 Mojavex86_644.2.0 (2022-04-22) -- "Vigorous Calisthenics" 4221
Click on any hostname to see more info about the system (e.g. compilers)      (*) as reported by 'uname -p', except on Windows and Mac OS X

All results for package GOSemSim


To the developers/maintainers of the GOSemSim package:
- Please allow up to 24 hours (and sometimes 48 hours) for your latest push to git@git.bioconductor.org:packages/GOSemSim.git to
reflect on this report. See How and When does the builder pull? When will my changes propagate? for more information.
- Make sure to use the following settings in order to reproduce any error or warning you see on this page.

raw results

Package 826/2140HostnameOS / ArchINSTALLBUILDCHECKBUILD BIN
GOSemSim 2.22.0  (landing page)
Guangchuang Yu
Snapshot Date: 2022-05-22 13:55:15 -0400 (Sun, 22 May 2022)
git_url: https://git.bioconductor.org/packages/GOSemSim
git_branch: RELEASE_3_15
git_last_commit: fd74aeb
git_last_commit_date: 2022-04-26 11:02:23 -0400 (Tue, 26 Apr 2022)
nebbiolo1Linux (Ubuntu 20.04.4 LTS) / x86_64  OK    OK    OK  UNNEEDED, same version is already published
palomino3Windows Server 2022 Datacenter / x64  OK    OK    OK    OK  UNNEEDED, same version is already published
merida1macOS 10.14.6 Mojave / x86_64  OK    OK    OK    OK  UNNEEDED, same version is already published

Results for Bioconductor software packages that depend directly on package GOSemSim

QUICK STATSOS / ArchINSTALLBUILDCHECKBUILD BIN
nebbiolo1Linux (Ubuntu 20.04.4 LTS) / x86_64
0010
019
0027
palomino3Windows Server 2022 Datacenter / x64
0010
019
0027
009
merida1macOS 10.14.6 Mojave / x86_64
0010
019
0027
009
Package 1/10HostnameOS / ArchINSTALLBUILDCHECKBUILD BIN
clusterProfiler 4.4.1  (landing page)
Guangchuang Yu
git_last_commit: daad11f
git_last_commit_date: 2022-04-28 03:07:16 -0400
nebbiolo1Linux (Ubuntu 20.04.4 LTS) / x86_64  OK    OK    OK  UNNEEDED, same version is already published
palomino3Windows Server 2022 Datacenter / x64  OK    OK    OK    OK  UNNEEDED, same version is already published
merida1macOS 10.14.6 Mojave / x86_64  OK    OK    OK    OK  UNNEEDED, same version is already published
Package 2/10HostnameOS / ArchINSTALLBUILDCHECKBUILD BIN
DOSE 3.22.0  (landing page)
Guangchuang Yu
git_last_commit: 242ac1b
git_last_commit_date: 2022-04-26 11:08:04 -0400
nebbiolo1Linux (Ubuntu 20.04.4 LTS) / x86_64  OK    OK    OK  UNNEEDED, same version is already published
palomino3Windows Server 2022 Datacenter / x64  OK    OK    OK    OK  UNNEEDED, same version is already published
merida1macOS 10.14.6 Mojave / x86_64  OK    OK    OK    OK  UNNEEDED, same version is already published
Package 3/10HostnameOS / ArchINSTALLBUILDCHECKBUILD BIN
enrichplot 1.16.1  (landing page)
Guangchuang Yu
git_last_commit: cff77b6
git_last_commit_date: 2022-05-04 23:23:58 -0400
nebbiolo1Linux (Ubuntu 20.04.4 LTS) / x86_64  OK    OK    OK  UNNEEDED, same version is already published
palomino3Windows Server 2022 Datacenter / x64  OK    OK    OK    OK  UNNEEDED, same version is already published
merida1macOS 10.14.6 Mojave / x86_64  OK    OK    OK    OK  UNNEEDED, same version is already published
Package 4/10HostnameOS / ArchINSTALLBUILDCHECKBUILD BIN
GAPGOM 1.12.0  (landing page)
Rezvan Ehsani
git_last_commit: 5cbf252
git_last_commit_date: 2022-04-26 11:52:58 -0400
nebbiolo1Linux (Ubuntu 20.04.4 LTS) / x86_64  OK    ERROR  skipped
palomino3Windows Server 2022 Datacenter / x64  OK    ERROR  skippedskipped
merida1macOS 10.14.6 Mojave / x86_64  OK    ERROR  skippedskipped
Package 5/10HostnameOS / ArchINSTALLBUILDCHECKBUILD BIN
meshes 1.22.0  (landing page)
Guangchuang Yu
git_last_commit: 43b51c5
git_last_commit_date: 2022-04-26 11:36:58 -0400
nebbiolo1Linux (Ubuntu 20.04.4 LTS) / x86_64  OK    OK    OK  UNNEEDED, same version is already published
palomino3Windows Server 2022 Datacenter / x64  OK    OK    OK    OK  UNNEEDED, same version is already published
merida1macOS 10.14.6 Mojave / x86_64  OK    OK    OK    OK  UNNEEDED, same version is already published
Package 6/10HostnameOS / ArchINSTALLBUILDCHECKBUILD BIN
Rcpi 1.32.1  (landing page)
Nan Xiao
git_last_commit: e8428d2
git_last_commit_date: 2022-05-07 20:47:44 -0400
nebbiolo1Linux (Ubuntu 20.04.4 LTS) / x86_64  OK    OK    OK  UNNEEDED, same version is already published
palomino3Windows Server 2022 Datacenter / x64  OK    OK    OK    OK  UNNEEDED, same version is already published
merida1macOS 10.14.6 Mojave / x86_64  OK    OK    OK    OK  UNNEEDED, same version is already published
Package 7/10HostnameOS / ArchINSTALLBUILDCHECKBUILD BIN
rrvgo 1.8.0  (landing page)
Sergi Sayols
git_last_commit: de1ac17
git_last_commit_date: 2022-04-26 12:02:52 -0400
nebbiolo1Linux (Ubuntu 20.04.4 LTS) / x86_64  OK    OK    OK  UNNEEDED, same version is already published
palomino3Windows Server 2022 Datacenter / x64  OK    OK    OK    OK  UNNEEDED, same version is already published
merida1macOS 10.14.6 Mojave / x86_64  OK    OK    OK    OK  UNNEEDED, same version is already published
Package 8/10HostnameOS / ArchINSTALLBUILDCHECKBUILD BIN
simplifyEnrichment 1.6.0  (landing page)
Zuguang Gu
git_last_commit: cebc80f
git_last_commit_date: 2022-04-26 12:05:50 -0400
nebbiolo1Linux (Ubuntu 20.04.4 LTS) / x86_64  OK    OK    OK  UNNEEDED, same version is already published
palomino3Windows Server 2022 Datacenter / x64  OK    OK    OK    OK  UNNEEDED, same version is already published
merida1macOS 10.14.6 Mojave / x86_64  OK    OK    OK    OK  UNNEEDED, same version is already published
Package 9/10HostnameOS / ArchINSTALLBUILDCHECKBUILD BIN
tRanslatome 1.34.0  (landing page)
Toma Tebaldi , Erik Dassi
git_last_commit: 50053cc
git_last_commit_date: 2022-04-26 11:15:02 -0400
nebbiolo1Linux (Ubuntu 20.04.4 LTS) / x86_64  OK    OK    WARNINGS  UNNEEDED, same version is already published
palomino3Windows Server 2022 Datacenter / x64  OK    OK    WARNINGS    OK  UNNEEDED, same version is already published
merida1macOS 10.14.6 Mojave / x86_64  OK    OK    WARNINGS    OK  UNNEEDED, same version is already published
Package 10/10HostnameOS / ArchINSTALLBUILDCHECKBUILD BIN
ViSEAGO 1.10.0  (landing page)
Aurelien Brionne
git_last_commit: a722952
git_last_commit_date: 2022-04-26 11:57:22 -0400
nebbiolo1Linux (Ubuntu 20.04.4 LTS) / x86_64  OK    OK    WARNINGS  UNNEEDED, same version is already published
palomino3Windows Server 2022 Datacenter / x64  OK    OK    WARNINGS    OK  UNNEEDED, same version is already published
merida1macOS 10.14.6 Mojave / x86_64  OK    OK    WARNINGS    OK  UNNEEDED, same version is already published