Back to Multiple platform build/check report for BioC 3.15
ABCDEFGHIJKLMNOPQ[R]STUVWXYZ

This page was generated on 2022-05-16 11:04:23 -0400 (Mon, 16 May 2022).

HostnameOSArch (*)R versionInstalled pkgs
nebbiolo1Linux (Ubuntu 20.04.4 LTS)x86_644.2.0 (2022-04-22) -- "Vigorous Calisthenics" 4379
palomino3Windows Server 2022 Datacenterx644.2.0 (2022-04-22 ucrt) -- "Vigorous Calisthenics" 4153
merida1macOS 10.14.6 Mojavex86_644.2.0 (2022-04-22) -- "Vigorous Calisthenics" 4220
Click on any hostname to see more info about the system (e.g. compilers)      (*) as reported by 'uname -p', except on Windows and Mac OS X

All results for package RBGL


To the developers/maintainers of the RBGL package:
- Please allow up to 24 hours (and sometimes 48 hours) for your latest push to git@git.bioconductor.org:packages/RBGL.git to
reflect on this report. See How and When does the builder pull? When will my changes propagate? for more information.
- Make sure to use the following settings in order to reproduce any error or warning you see on this page.

raw results

Package 1575/2140HostnameOS / ArchINSTALLBUILDCHECKBUILD BIN
RBGL 1.72.0  (landing page)
Bioconductor Package Maintainer
Snapshot Date: 2022-05-15 13:55:12 -0400 (Sun, 15 May 2022)
git_url: https://git.bioconductor.org/packages/RBGL
git_branch: RELEASE_3_15
git_last_commit: a86f310
git_last_commit_date: 2022-04-26 10:55:17 -0400 (Tue, 26 Apr 2022)
nebbiolo1Linux (Ubuntu 20.04.4 LTS) / x86_64  OK    OK    WARNINGS  UNNEEDED, same version is already published
palomino3Windows Server 2022 Datacenter / x64  OK    OK    WARNINGS    OK  UNNEEDED, same version is already published
merida1macOS 10.14.6 Mojave / x86_64  OK    OK    OK    OK  UNNEEDED, same version is already published

Results for Bioconductor software packages that depend directly on package RBGL

QUICK STATSOS / ArchINSTALLBUILDCHECKBUILD BIN
nebbiolo1Linux (Ubuntu 20.04.4 LTS) / x86_64
0029
0128
00424
palomino3Windows Server 2022 Datacenter / x64
0027
0126
00422
0026
merida1macOS 10.14.6 Mojave / x86_64
0027
0126
00422
0024
Package 1/29HostnameOS / ArchINSTALLBUILDCHECKBUILD BIN
alpine 1.22.0  (landing page)
Michael Love
git_last_commit: 6107a82
git_last_commit_date: 2022-04-26 11:34:53 -0400
nebbiolo1Linux (Ubuntu 20.04.4 LTS) / x86_64  OK    OK    OK  UNNEEDED, same version is already published
palomino3Windows Server 2022 Datacenter / x64  OK    OK    OK    OK  UNNEEDED, same version is already published
merida1macOS 10.14.6 Mojave / x86_64  OK    OK    OK    OK  UNNEEDED, same version is already published
Package 2/29HostnameOS / ArchINSTALLBUILDCHECKBUILD BIN
apComplex 2.62.0  (landing page)
Denise Scholtens
git_last_commit: 0661f03
git_last_commit_date: 2022-04-26 10:56:39 -0400
nebbiolo1Linux (Ubuntu 20.04.4 LTS) / x86_64  OK    OK    OK  UNNEEDED, same version is already published
palomino3Windows Server 2022 Datacenter / x64  OK    OK    OK    OK  UNNEEDED, same version is already published
merida1macOS 10.14.6 Mojave / x86_64  OK    OK    OK    OK  UNNEEDED, same version is already published
Package 3/29HostnameOS / ArchINSTALLBUILDCHECKBUILD BIN
BiocPkgTools 1.14.0  (landing page)
Sean Davis
git_last_commit: 75712f2
git_last_commit_date: 2022-04-26 11:50:55 -0400
nebbiolo1Linux (Ubuntu 20.04.4 LTS) / x86_64  OK    OK    OK  UNNEEDED, same version is already published
palomino3Windows Server 2022 Datacenter / x64  OK    OK    OK    OK  UNNEEDED, same version is already published
merida1macOS 10.14.6 Mojave / x86_64  OK    OK    OK    OK  UNNEEDED, same version is already published
Package 4/29HostnameOS / ArchINSTALLBUILDCHECKBUILD BIN
biocViews 1.64.0  (landing page)
Bioconductor Package Maintainer
git_last_commit: b3d46d5
git_last_commit_date: 2022-04-26 10:57:30 -0400
nebbiolo1Linux (Ubuntu 20.04.4 LTS) / x86_64  OK    OK    OK  UNNEEDED, same version is already published
palomino3Windows Server 2022 Datacenter / x64  OK    OK    OK    OK  UNNEEDED, same version is already published
merida1macOS 10.14.6 Mojave / x86_64  OK    OK    OK    OK  UNNEEDED, same version is already published
Package 5/29HostnameOS / ArchINSTALLBUILDCHECKBUILD BIN
BioNet 1.56.0  (landing page)
Marcus Dittrich
git_last_commit: a9a9190
git_last_commit_date: 2022-04-26 11:05:29 -0400
nebbiolo1Linux (Ubuntu 20.04.4 LTS) / x86_64  OK    OK    OK  UNNEEDED, same version is already published
palomino3Windows Server 2022 Datacenter / x64  OK    OK    OK    OK  UNNEEDED, same version is already published
merida1macOS 10.14.6 Mojave / x86_64  OK    OK    OK    OK  UNNEEDED, same version is already published
Package 6/29HostnameOS / ArchINSTALLBUILDCHECKBUILD BIN
CAMERA 1.52.0  (landing page)
Steffen Neumann
git_last_commit: 63642b8
git_last_commit_date: 2022-04-26 11:02:39 -0400
nebbiolo1Linux (Ubuntu 20.04.4 LTS) / x86_64  OK    OK    OK  UNNEEDED, same version is already published
palomino3Windows Server 2022 Datacenter / x64  OK    OK    OK    OK  UNNEEDED, same version is already published
merida1macOS 10.14.6 Mojave / x86_64  OK    OK    OK    OK  UNNEEDED, same version is already published
Package 7/29HostnameOS / ArchINSTALLBUILDCHECKBUILD BIN
Category 2.62.0  (landing page)
Bioconductor Package Maintainer
git_last_commit: 0fe801c
git_last_commit_date: 2022-04-26 10:57:10 -0400
nebbiolo1Linux (Ubuntu 20.04.4 LTS) / x86_64  OK    OK    OK  UNNEEDED, same version is already published
palomino3Windows Server 2022 Datacenter / x64  OK    OK    OK    OK  UNNEEDED, same version is already published
merida1macOS 10.14.6 Mojave / x86_64  OK    OK    OK    OK  UNNEEDED, same version is already published
Package 8/29HostnameOS / ArchINSTALLBUILDCHECKBUILD BIN
CellNOptR 1.42.0  (landing page)
Attila Gabor
git_last_commit: b181bec
git_last_commit_date: 2022-04-26 11:09:38 -0400
nebbiolo1Linux (Ubuntu 20.04.4 LTS) / x86_64  OK    OK    OK  UNNEEDED, same version is already published
palomino3Windows Server 2022 Datacenter / x64  OK    OK    OK    OK  UNNEEDED, same version is already published
merida1macOS 10.14.6 Mojave / x86_64  OK    OK    OK    OK  UNNEEDED, same version is already published
Package 9/29HostnameOS / ArchINSTALLBUILDCHECKBUILD BIN
ChIPpeakAnno 3.30.0  (landing page)
Jianhong Ou
git_last_commit: f5b7c4e
git_last_commit_date: 2022-04-26 11:03:21 -0400
nebbiolo1Linux (Ubuntu 20.04.4 LTS) / x86_64  OK    OK    OK  UNNEEDED, same version is already published
palomino3Windows Server 2022 Datacenter / x64  OK    OK    OK    OK  UNNEEDED, same version is already published
merida1macOS 10.14.6 Mojave / x86_64  OK    OK    OK    OK  UNNEEDED, same version is already published
Package 10/29HostnameOS / ArchINSTALLBUILDCHECKBUILD BIN
CHRONOS 1.24.0  (landing page)
Panos Balomenos
git_last_commit: 587eb5d
git_last_commit_date: 2022-04-26 11:32:11 -0400
nebbiolo1Linux (Ubuntu 20.04.4 LTS) / x86_64  OK    OK    OK  UNNEEDED, same version is already published
palomino3Windows Server 2022 Datacenter / x64  OK    OK    OK    OK  UNNEEDED, same version is already published
merida1macOS 10.14.6 Mojave / x86_64  OK    OK    OK    OK  UNNEEDED, same version is already published
Package 11/29HostnameOS / ArchINSTALLBUILDCHECKBUILD BIN
clipper 1.36.0  (landing page)
Paolo Martini
git_last_commit: c739cc1
git_last_commit_date: 2022-04-26 11:13:22 -0400
nebbiolo1Linux (Ubuntu 20.04.4 LTS) / x86_64  OK    OK    OK  UNNEEDED, same version is already published
palomino3Windows Server 2022 Datacenter / x64  OK    OK    OK    OK  UNNEEDED, same version is already published
merida1macOS 10.14.6 Mojave / x86_64  OK    OK    OK    OK  UNNEEDED, same version is already published
Package 12/29HostnameOS / ArchINSTALLBUILDCHECKBUILD BIN
CytoML 2.8.0  (landing page)
Mike Jiang
git_last_commit: f03b46a
git_last_commit_date: 2022-04-26 11:33:22 -0400
nebbiolo1Linux (Ubuntu 20.04.4 LTS) / x86_64  OK    OK    WARNINGS  UNNEEDED, same version is already published
palomino3Windows Server 2022 Datacenter / x64  OK    OK    WARNINGS    OK  UNNEEDED, same version is already published
merida1macOS 10.14.6 Mojave / x86_64  OK    OK    WARNINGS    OK  UNNEEDED, same version is already published
Package 13/29HostnameOS / ArchINSTALLBUILDCHECKBUILD BIN
DEGraph 1.48.0  (landing page)
Laurent Jacob
git_last_commit: 9d2c152
git_last_commit_date: 2022-04-26 11:06:25 -0400
nebbiolo1Linux (Ubuntu 20.04.4 LTS) / x86_64  OK    OK    OK  UNNEEDED, same version is already published
palomino3Windows Server 2022 Datacenter / x64... NOT SUPPORTED ...
merida1macOS 10.14.6 Mojave / x86_64... NOT SUPPORTED ...
Package 14/29HostnameOS / ArchINSTALLBUILDCHECKBUILD BIN
DEsubs 1.22.0  (landing page)
Aristidis G. Vrahatis , Panos Balomenos
git_last_commit: 7f97eda
git_last_commit_date: 2022-04-26 11:36:04 -0400
nebbiolo1Linux (Ubuntu 20.04.4 LTS) / x86_64  OK    OK    OK  UNNEEDED, same version is already published
palomino3Windows Server 2022 Datacenter / x64  OK    OK    OK    OK  UNNEEDED, same version is already published
merida1macOS 10.14.6 Mojave / x86_64  OK    OK    OK    OK  UNNEEDED, same version is already published
Package 15/29HostnameOS / ArchINSTALLBUILDCHECKBUILD BIN
EventPointer 3.4.0  (landing page)
Juan A. Ferrer-Bonsoms
git_last_commit: 15cee42
git_last_commit_date: 2022-05-11 04:53:17 -0400
nebbiolo1Linux (Ubuntu 20.04.4 LTS) / x86_64  OK    OK    OK  YES
palomino3Windows Server 2022 Datacenter / x64  OK    OK    OK    OK  YES
merida1macOS 10.14.6 Mojave / x86_64  OK    OK    OK    OK  YES
Package 16/29HostnameOS / ArchINSTALLBUILDCHECKBUILD BIN
fgga 1.4.0  (landing page)
Spetale Flavio
git_last_commit: c867619
git_last_commit_date: 2022-04-26 12:15:36 -0400
nebbiolo1Linux (Ubuntu 20.04.4 LTS) / x86_64  OK    OK    OK  UNNEEDED, same version is already published
palomino3Windows Server 2022 Datacenter / x64  OK    OK    OK    OK  UNNEEDED, same version is already published
merida1macOS 10.14.6 Mojave / x86_64  OK    OK    OK    OK  UNNEEDED, same version is already published
Package 17/29HostnameOS / ArchINSTALLBUILDCHECKBUILD BIN
flowWorkspace 4.8.0  (landing page)
Greg Finak , Mike Jiang
git_last_commit: 8cb4b97
git_last_commit_date: 2022-04-26 11:07:52 -0400
nebbiolo1Linux (Ubuntu 20.04.4 LTS) / x86_64  OK    OK    WARNINGS  UNNEEDED, same version is already published
palomino3Windows Server 2022 Datacenter / x64  OK    OK    WARNINGS    OK  UNNEEDED, same version is already published
merida1macOS 10.14.6 Mojave / x86_64  OK    OK    WARNINGS    OK  UNNEEDED, same version is already published
Package 18/29HostnameOS / ArchINSTALLBUILDCHECKBUILD BIN
GAPGOM 1.12.0  (landing page)
Rezvan Ehsani
git_last_commit: 5cbf252
git_last_commit_date: 2022-04-26 11:52:58 -0400
nebbiolo1Linux (Ubuntu 20.04.4 LTS) / x86_64  OK    ERROR  skipped
palomino3Windows Server 2022 Datacenter / x64  OK    ERROR  skippedskipped
merida1macOS 10.14.6 Mojave / x86_64  OK    ERROR  skippedskipped
Package 19/29HostnameOS / ArchINSTALLBUILDCHECKBUILD BIN
GenomicInteractionNodes 1.0.0  (landing page)
Jianhong Ou
git_last_commit: 1f9082e
git_last_commit_date: 2022-04-26 12:22:49 -0400
nebbiolo1Linux (Ubuntu 20.04.4 LTS) / x86_64  OK    OK    OK  UNNEEDED, same version is already published
palomino3Windows Server 2022 Datacenter / x64  OK    OK    OK    OK  UNNEEDED, same version is already published
merida1macOS 10.14.6 Mojave / x86_64  OK    OK    OK    OK  UNNEEDED, same version is already published
Package 20/29HostnameOS / ArchINSTALLBUILDCHECKBUILD BIN
GOSim 1.34.0  (landing page)
Holger Froehlich
git_last_commit: 96763f5
git_last_commit_date: 2022-04-26 11:16:18 -0400
nebbiolo1Linux (Ubuntu 20.04.4 LTS) / x86_64  OK    OK    OK  UNNEEDED, same version is already published
palomino3Windows Server 2022 Datacenter / x64  OK    OK    OK    OK  UNNEEDED, same version is already published
merida1macOS 10.14.6 Mojave / x86_64  OK    OK    OK    OK  UNNEEDED, same version is already published
Package 21/29HostnameOS / ArchINSTALLBUILDCHECKBUILD BIN
GOstats 2.62.0  (landing page)
Bioconductor Package Maintainer
git_last_commit: 217db03
git_last_commit_date: 2022-04-26 10:55:59 -0400
nebbiolo1Linux (Ubuntu 20.04.4 LTS) / x86_64  OK    OK    OK  UNNEEDED, same version is already published
palomino3Windows Server 2022 Datacenter / x64  OK    OK    OK    OK  UNNEEDED, same version is already published
merida1macOS 10.14.6 Mojave / x86_64  OK    OK    OK    OK  UNNEEDED, same version is already published
Package 22/29HostnameOS / ArchINSTALLBUILDCHECKBUILD BIN
MIGSA 1.20.0  (landing page)
Juan C. Rodriguez
git_last_commit: e0e8af0
git_last_commit_date: 2022-04-26 11:39:18 -0400
nebbiolo1Linux (Ubuntu 20.04.4 LTS) / x86_64  OK    OK    OK  UNNEEDED, same version is already published
palomino3Windows Server 2022 Datacenter / x64  OK    OK    OK    OK  UNNEEDED, same version is already published
merida1macOS 10.14.6 Mojave / x86_64  OK    OK    OK    OK  UNNEEDED, same version is already published
Package 23/29HostnameOS / ArchINSTALLBUILDCHECKBUILD BIN
NCIgraph 1.44.0  (landing page)
Laurent Jacob
git_last_commit: 745b6db
git_last_commit_date: 2022-04-26 11:07:30 -0400
nebbiolo1Linux (Ubuntu 20.04.4 LTS) / x86_64  OK    OK    OK  UNNEEDED, same version is already published
palomino3Windows Server 2022 Datacenter / x64... NOT SUPPORTED ...
merida1macOS 10.14.6 Mojave / x86_64... NOT SUPPORTED ...
Package 24/29HostnameOS / ArchINSTALLBUILDCHECKBUILD BIN
openCyto 2.8.0  (landing page)
Mike Jiang ,Jake Wagner
git_last_commit: 120a7c5
git_last_commit_date: 2022-04-26 11:16:45 -0400
nebbiolo1Linux (Ubuntu 20.04.4 LTS) / x86_64  OK    OK    OK  UNNEEDED, same version is already published
palomino3Windows Server 2022 Datacenter / x64  OK    OK    OK    OK  UNNEEDED, same version is already published
merida1macOS 10.14.6 Mojave / x86_64  OK    OK    OK    OK  UNNEEDED, same version is already published
Package 25/29HostnameOS / ArchINSTALLBUILDCHECKBUILD BIN
OrganismDbi 1.38.0  (landing page)
Bioconductor Package Maintainer
git_last_commit: 2ca0183
git_last_commit_date: 2022-04-26 11:11:57 -0400
nebbiolo1Linux (Ubuntu 20.04.4 LTS) / x86_64  OK    OK    WARNINGS  UNNEEDED, same version is already published
palomino3Windows Server 2022 Datacenter / x64  OK    OK    WARNINGS    OK  UNNEEDED, same version is already published
merida1macOS 10.14.6 Mojave / x86_64  OK    OK    WARNINGS    OK  UNNEEDED, same version is already published
Package 26/29HostnameOS / ArchINSTALLBUILDCHECKBUILD BIN
pkgDepTools 1.62.0  (landing page)
Bioconductor Package Maintainer
git_last_commit: c448b71
git_last_commit_date: 2022-04-26 10:58:48 -0400
nebbiolo1Linux (Ubuntu 20.04.4 LTS) / x86_64  OK    OK    OK  UNNEEDED, same version is already published
palomino3Windows Server 2022 Datacenter / x64  OK    OK    OK    OK  UNNEEDED, same version is already published
merida1macOS 10.14.6 Mojave / x86_64  OK    OK    OK    OK  YES
Package 27/29HostnameOS / ArchINSTALLBUILDCHECKBUILD BIN
RpsiXML 2.38.0  (landing page)
Jitao David Zhang
git_last_commit: c2e1b0f
git_last_commit_date: 2022-04-26 11:01:44 -0400
nebbiolo1Linux (Ubuntu 20.04.4 LTS) / x86_64  OK    OK    WARNINGS  UNNEEDED, same version is already published
palomino3Windows Server 2022 Datacenter / x64  OK    OK    WARNINGS    OK  UNNEEDED, same version is already published
merida1macOS 10.14.6 Mojave / x86_64  OK    OK    WARNINGS    OK  UNNEEDED, same version is already published
Package 28/29HostnameOS / ArchINSTALLBUILDCHECKBUILD BIN
Streamer 1.42.0  (landing page)
Martin Morgan
git_last_commit: 007dfe7
git_last_commit_date: 2022-04-26 11:08:31 -0400
nebbiolo1Linux (Ubuntu 20.04.4 LTS) / x86_64  OK    OK    OK  UNNEEDED, same version is already published
palomino3Windows Server 2022 Datacenter / x64  OK    OK    OK    OK  UNNEEDED, same version is already published
merida1macOS 10.14.6 Mojave / x86_64  OK    OK    OK    NA  
Package 29/29HostnameOS / ArchINSTALLBUILDCHECKBUILD BIN
VariantFiltering 1.32.0  (landing page)
Robert Castelo
git_last_commit: e5baf3d
git_last_commit_date: 2022-04-26 11:19:20 -0400
nebbiolo1Linux (Ubuntu 20.04.4 LTS) / x86_64  OK    OK    OK  UNNEEDED, same version is already published
palomino3Windows Server 2022 Datacenter / x64  OK    OK    OK    OK  UNNEEDED, same version is already published
merida1macOS 10.14.6 Mojave / x86_64  OK    OK    OK    NA