Back to Multiple platform build/check report for BioC 3.15
ABCDEFGHIJKLMNOPQRSTUVW[X]YZ

This page was generated on 2022-08-08 13:19:16 -0400 (Mon, 08 Aug 2022).

HostnameOSArch (*)R versionInstalled pkgs
nebbiolo1Linux (Ubuntu 20.04.4 LTS)x86_644.2.1 (2022-06-23) -- "Funny-Looking Kid" 4362
merida1macOS 10.14.6 Mojavex86_644.2.1 (2022-06-23) -- "Funny-Looking Kid" 4180
Click on any hostname to see more info about the system (e.g. compilers)      (*) as reported by 'uname -p', except on Windows and Mac OS X

All results for package XVector


To the developers/maintainers of the XVector package:
- Please allow up to 24 hours (and sometimes 48 hours) for your latest push to git@git.bioconductor.org:packages/XVector.git to
reflect on this report. See How and When does the builder pull? When will my changes propagate? for more information.
- Make sure to use the following settings in order to reproduce any error or warning you see on this page.

raw results

Package 2133/2140HostnameOS / ArchINSTALLBUILDCHECKBUILD BIN
XVector 0.36.0  (landing page)
Hervé Pagès
Snapshot Date: 2022-08-07 13:55:12 -0400 (Sun, 07 Aug 2022)
git_url: https://git.bioconductor.org/packages/XVector
git_branch: RELEASE_3_15
git_last_commit: ff6f818
git_last_commit_date: 2022-04-26 11:14:54 -0400 (Tue, 26 Apr 2022)
nebbiolo1Linux (Ubuntu 20.04.4 LTS) / x86_64  OK    OK    WARNINGS  UNNEEDED, same version is already published
merida1macOS 10.14.6 Mojave / x86_64  OK    OK    WARNINGS    OK  UNNEEDED, same version is already published

Results for Bioconductor software packages that depend directly on package XVector

QUICK STATSOS / ArchINSTALLBUILDCHECKBUILD BIN
nebbiolo1Linux (Ubuntu 20.04.4 LTS) / x86_64
0034
0034
011023
merida1macOS 10.14.6 Mojave / x86_64
0034
0034
111022
0034
Package 1/34HostnameOS / ArchINSTALLBUILDCHECKBUILD BIN
Biostrings 2.64.0  (landing page)
H. Pagès
git_last_commit: c7ad3c7
git_last_commit_date: 2022-04-26 10:55:29 -0400
nebbiolo1Linux (Ubuntu 20.04.4 LTS) / x86_64  OK    OK    WARNINGS  UNNEEDED, same version is already published
merida1macOS 10.14.6 Mojave / x86_64  OK    OK    WARNINGS    OK  UNNEEDED, same version is already published
Package 2/34HostnameOS / ArchINSTALLBUILDCHECKBUILD BIN
BSgenome 1.64.0  (landing page)
H. Pagès
git_last_commit: 59cdebd
git_last_commit_date: 2022-04-26 10:58:27 -0400
nebbiolo1Linux (Ubuntu 20.04.4 LTS) / x86_64  OK    OK    WARNINGS  UNNEEDED, same version is already published
merida1macOS 10.14.6 Mojave / x86_64  OK    OK    WARNINGS    OK  UNNEEDED, same version is already published
Package 3/34HostnameOS / ArchINSTALLBUILDCHECKBUILD BIN
ChIPsim 1.50.0  (landing page)
Peter Humburg
git_last_commit: 3f104cd
git_last_commit_date: 2022-04-26 11:03:26 -0400
nebbiolo1Linux (Ubuntu 20.04.4 LTS) / x86_64  OK    OK    OK  UNNEEDED, same version is already published
merida1macOS 10.14.6 Mojave / x86_64  OK    OK    OK    OK  UNNEEDED, same version is already published
Package 4/34HostnameOS / ArchINSTALLBUILDCHECKBUILD BIN
CNEr 1.32.0  (landing page)
Ge Tan
git_last_commit: 1c92f3d
git_last_commit_date: 2022-04-26 11:17:50 -0400
nebbiolo1Linux (Ubuntu 20.04.4 LTS) / x86_64  OK    OK    OK  UNNEEDED, same version is already published
merida1macOS 10.14.6 Mojave / x86_64  OK    OK    WARNINGS    OK  UNNEEDED, same version is already published
Package 5/34HostnameOS / ArchINSTALLBUILDCHECKBUILD BIN
compEpiTools 1.30.0  (landing page)
Kamal Kishore
git_last_commit: 4a6dc81
git_last_commit_date: 2022-04-26 11:21:05 -0400
nebbiolo1Linux (Ubuntu 20.04.4 LTS) / x86_64  OK    OK    WARNINGS  UNNEEDED, same version is already published
merida1macOS 10.14.6 Mojave / x86_64  OK    OK    WARNINGS    OK  UNNEEDED, same version is already published
Package 6/34HostnameOS / ArchINSTALLBUILDCHECKBUILD BIN
crisprScore 1.0.0  (landing page)
Jean-Philippe Fortin
git_last_commit: ab81d7d
git_last_commit_date: 2022-04-26 12:20:37 -0400
nebbiolo1Linux (Ubuntu 20.04.4 LTS) / x86_64  OK    OK    WARNINGS  UNNEEDED, same version is already published
merida1macOS 10.14.6 Mojave / x86_64  OK    OK    WARNINGS    OK  UNNEEDED, same version is already published
Package 7/34HostnameOS / ArchINSTALLBUILDCHECKBUILD BIN
CRISPRseek 1.36.0  (landing page)
Lihua Julie Zhu
git_last_commit: ecb3359
git_last_commit_date: 2022-04-26 11:17:07 -0400
nebbiolo1Linux (Ubuntu 20.04.4 LTS) / x86_64  OK    OK    OK  UNNEEDED, same version is already published
merida1macOS 10.14.6 Mojave / x86_64  OK    OK    TIMEOUT    OK  
Package 8/34HostnameOS / ArchINSTALLBUILDCHECKBUILD BIN
dada2 1.24.0  (landing page)
Benjamin Callahan
git_last_commit: 889dd0c
git_last_commit_date: 2022-04-26 11:29:38 -0400
nebbiolo1Linux (Ubuntu 20.04.4 LTS) / x86_64  OK    OK    OK  UNNEEDED, same version is already published
merida1macOS 10.14.6 Mojave / x86_64  OK    OK    OK    OK  UNNEEDED, same version is already published
Package 9/34HostnameOS / ArchINSTALLBUILDCHECKBUILD BIN
DECIPHER 2.24.0  (landing page)
Erik Wright
git_last_commit: 437e600
git_last_commit_date: 2022-04-26 11:09:12 -0400
nebbiolo1Linux (Ubuntu 20.04.4 LTS) / x86_64  OK    OK    OK  UNNEEDED, same version is already published
merida1macOS 10.14.6 Mojave / x86_64  OK    OK    OK    OK  UNNEEDED, same version is already published
Package 10/34HostnameOS / ArchINSTALLBUILDCHECKBUILD BIN
gcrma 2.68.0  (landing page)
Z. Wu
git_last_commit: c14063f
git_last_commit_date: 2022-04-26 10:55:00 -0400
nebbiolo1Linux (Ubuntu 20.04.4 LTS) / x86_64  OK    OK    OK  UNNEEDED, same version is already published
merida1macOS 10.14.6 Mojave / x86_64  OK    OK    OK    OK  UNNEEDED, same version is already published
Package 11/34HostnameOS / ArchINSTALLBUILDCHECKBUILD BIN
GenomicFeatures 1.48.3  (landing page)
Bioconductor Package Maintainer
git_last_commit: b0ddea0
git_last_commit_date: 2022-05-31 12:25:31 -0400
nebbiolo1Linux (Ubuntu 20.04.4 LTS) / x86_64  OK    OK    ERROR  
merida1macOS 10.14.6 Mojave / x86_64  OK    OK    ERROR    OK  
Package 12/34HostnameOS / ArchINSTALLBUILDCHECKBUILD BIN
GenomicRanges 1.48.0  (landing page)
Bioconductor Package Maintainer
git_last_commit: 2bce608
git_last_commit_date: 2022-04-26 11:04:24 -0400
nebbiolo1Linux (Ubuntu 20.04.4 LTS) / x86_64  OK    OK    OK  UNNEEDED, same version is already published
merida1macOS 10.14.6 Mojave / x86_64  OK    OK    OK    OK  UNNEEDED, same version is already published
Package 13/34HostnameOS / ArchINSTALLBUILDCHECKBUILD BIN
Gviz 1.40.1  (landing page)
Robert Ivanek
git_last_commit: d218437
git_last_commit_date: 2022-05-03 13:45:39 -0400
nebbiolo1Linux (Ubuntu 20.04.4 LTS) / x86_64  OK    OK    OK  UNNEEDED, same version is already published
merida1macOS 10.14.6 Mojave / x86_64  OK    OK    OK    OK  UNNEEDED, same version is already published
Package 14/34HostnameOS / ArchINSTALLBUILDCHECKBUILD BIN
HiLDA 1.10.0  (landing page)
Zhi Yang
git_last_commit: 3956244
git_last_commit_date: 2022-04-26 11:57:36 -0400
nebbiolo1Linux (Ubuntu 20.04.4 LTS) / x86_64  OK    OK    OK  UNNEEDED, same version is already published
merida1macOS 10.14.6 Mojave / x86_64  OK    OK    OK    OK  UNNEEDED, same version is already published
Package 15/34HostnameOS / ArchINSTALLBUILDCHECKBUILD BIN
IONiseR 2.20.0  (landing page)
Mike Smith
git_last_commit: 6519986
git_last_commit_date: 2022-04-26 11:25:57 -0400
nebbiolo1Linux (Ubuntu 20.04.4 LTS) / x86_64  OK    OK    OK  UNNEEDED, same version is already published
merida1macOS 10.14.6 Mojave / x86_64  OK    OK    OK    OK  UNNEEDED, same version is already published
Package 16/34HostnameOS / ArchINSTALLBUILDCHECKBUILD BIN
IsoformSwitchAnalyzeR 1.18.0  (landing page)
Kristoffer Vitting-Seerup
git_last_commit: b0f581c
git_last_commit_date: 2022-04-26 11:41:17 -0400
nebbiolo1Linux (Ubuntu 20.04.4 LTS) / x86_64  OK    OK    OK  UNNEEDED, same version is already published
merida1macOS 10.14.6 Mojave / x86_64  OK    OK    OK    OK  UNNEEDED, same version is already published
Package 17/34HostnameOS / ArchINSTALLBUILDCHECKBUILD BIN
kebabs 1.30.0  (landing page)
Ulrich Bodenhofer
git_last_commit: 90d8024
git_last_commit_date: 2022-04-26 11:22:32 -0400
nebbiolo1Linux (Ubuntu 20.04.4 LTS) / x86_64  OK    OK    OK  UNNEEDED, same version is already published
merida1macOS 10.14.6 Mojave / x86_64  OK    OK    OK    OK  UNNEEDED, same version is already published
Package 18/34HostnameOS / ArchINSTALLBUILDCHECKBUILD BIN
MatrixRider 1.28.0  (landing page)
Elena Grassi
git_last_commit: 94bb9bd
git_last_commit_date: 2022-04-26 11:24:12 -0400
nebbiolo1Linux (Ubuntu 20.04.4 LTS) / x86_64  OK    OK    OK  UNNEEDED, same version is already published
merida1macOS 10.14.6 Mojave / x86_64  OK    OK    OK    OK  UNNEEDED, same version is already published
Package 19/34HostnameOS / ArchINSTALLBUILDCHECKBUILD BIN
Modstrings 1.12.0  (landing page)
Felix G.M. Ernst
git_last_commit: 2b2a4ca
git_last_commit_date: 2022-04-26 11:53:36 -0400
nebbiolo1Linux (Ubuntu 20.04.4 LTS) / x86_64  OK    OK    OK  UNNEEDED, same version is already published
merida1macOS 10.14.6 Mojave / x86_64  OK    OK    OK    OK  UNNEEDED, same version is already published
Package 20/34HostnameOS / ArchINSTALLBUILDCHECKBUILD BIN
monaLisa 1.2.0  (landing page)
Michael Stadler
git_last_commit: 2b27273
git_last_commit_date: 2022-04-26 12:18:37 -0400
nebbiolo1Linux (Ubuntu 20.04.4 LTS) / x86_64  OK    OK    OK  UNNEEDED, same version is already published
merida1macOS 10.14.6 Mojave / x86_64  OK    OK    OK    OK  UNNEEDED, same version is already published
Package 21/34HostnameOS / ArchINSTALLBUILDCHECKBUILD BIN
ProteoDisco 1.2.0  (landing page)
Job van Riet
git_last_commit: 80e3957
git_last_commit_date: 2022-04-26 12:18:02 -0400
nebbiolo1Linux (Ubuntu 20.04.4 LTS) / x86_64  OK    OK    WARNINGS  UNNEEDED, same version is already published
merida1macOS 10.14.6 Mojave / x86_64  OK    OK    WARNINGS    OK  UNNEEDED, same version is already published
Package 22/34HostnameOS / ArchINSTALLBUILDCHECKBUILD BIN
R453Plus1Toolbox 1.46.0  (landing page)
Hans-Ulrich Klein
git_last_commit: 6f7b330
git_last_commit_date: 2022-04-26 11:06:14 -0400
nebbiolo1Linux (Ubuntu 20.04.4 LTS) / x86_64  OK    OK    OK  UNNEEDED, same version is already published
merida1macOS 10.14.6 Mojave / x86_64  OK    OK    OK    OK  UNNEEDED, same version is already published
Package 23/34HostnameOS / ArchINSTALLBUILDCHECKBUILD BIN
ribosomeProfilingQC 1.8.0  (landing page)
Jianhong Ou
git_last_commit: 887822a
git_last_commit_date: 2022-04-26 12:02:49 -0400
nebbiolo1Linux (Ubuntu 20.04.4 LTS) / x86_64  OK    OK    OK  UNNEEDED, same version is already published
merida1macOS 10.14.6 Mojave / x86_64  OK    OK    OK    OK  UNNEEDED, same version is already published
Package 24/34HostnameOS / ArchINSTALLBUILDCHECKBUILD BIN
Rsamtools 2.12.0  (landing page)
Bioconductor Package Maintainer
git_last_commit: d6a65dd
git_last_commit_date: 2022-04-26 11:04:33 -0400
nebbiolo1Linux (Ubuntu 20.04.4 LTS) / x86_64  OK    OK    WARNINGS  UNNEEDED, same version is already published
merida1macOS 10.14.6 Mojave / x86_64  OK    OK    WARNINGS    OK  UNNEEDED, same version is already published
Package 25/34HostnameOS / ArchINSTALLBUILDCHECKBUILD BIN
rtracklayer 1.56.1  (landing page)
Michael Lawrence
git_last_commit: 4c6d220
git_last_commit_date: 2022-06-22 15:10:46 -0400
nebbiolo1Linux (Ubuntu 20.04.4 LTS) / x86_64  OK    OK    WARNINGS  UNNEEDED, same version is already published
merida1macOS 10.14.6 Mojave / x86_64  OK    OK    WARNINGS    OK  UNNEEDED, same version is already published
Package 26/34HostnameOS / ArchINSTALLBUILDCHECKBUILD BIN
ShortRead 1.54.0  (landing page)
Bioconductor Package Maintainer
git_last_commit: a1082a3
git_last_commit_date: 2022-04-26 11:01:12 -0400
nebbiolo1Linux (Ubuntu 20.04.4 LTS) / x86_64  OK    OK    WARNINGS  UNNEEDED, same version is already published
merida1macOS 10.14.6 Mojave / x86_64  OK    OK    OK    OK  UNNEEDED, same version is already published
Package 27/34HostnameOS / ArchINSTALLBUILDCHECKBUILD BIN
Structstrings 1.12.0  (landing page)
Felix G.M. Ernst
git_last_commit: fb4cdb1
git_last_commit_date: 2022-04-26 11:53:54 -0400
nebbiolo1Linux (Ubuntu 20.04.4 LTS) / x86_64  OK    OK    OK  UNNEEDED, same version is already published
merida1macOS 10.14.6 Mojave / x86_64  OK    OK    OK    OK  UNNEEDED, same version is already published
Package 28/34HostnameOS / ArchINSTALLBUILDCHECKBUILD BIN
TFBSTools 1.34.0  (landing page)
Ge Tan
git_last_commit: 7f8d0cb
git_last_commit_date: 2022-04-26 11:16:50 -0400
nebbiolo1Linux (Ubuntu 20.04.4 LTS) / x86_64  OK    OK    OK  UNNEEDED, same version is already published
merida1macOS 10.14.6 Mojave / x86_64  OK    OK    OK    OK  UNNEEDED, same version is already published
Package 29/34HostnameOS / ArchINSTALLBUILDCHECKBUILD BIN
tracktables 1.30.0  (landing page)
Tom Carroll
git_last_commit: 8176958
git_last_commit_date: 2022-04-26 11:22:34 -0400
nebbiolo1Linux (Ubuntu 20.04.4 LTS) / x86_64  OK    OK    WARNINGS  UNNEEDED, same version is already published
merida1macOS 10.14.6 Mojave / x86_64  OK    OK    WARNINGS    OK  UNNEEDED, same version is already published
Package 30/34HostnameOS / ArchINSTALLBUILDCHECKBUILD BIN
triplex 1.36.0  (landing page)
Jiri Hon
git_last_commit: f204d24
git_last_commit_date: 2022-04-26 11:14:41 -0400
nebbiolo1Linux (Ubuntu 20.04.4 LTS) / x86_64  OK    OK    WARNINGS  UNNEEDED, same version is already published
merida1macOS 10.14.6 Mojave / x86_64  OK    OK    WARNINGS    OK  UNNEEDED, same version is already published
Package 31/34HostnameOS / ArchINSTALLBUILDCHECKBUILD BIN
tRNA 1.14.0  (landing page)
Felix GM Ernst
git_last_commit: 1949025
git_last_commit_date: 2022-04-26 11:51:43 -0400
nebbiolo1Linux (Ubuntu 20.04.4 LTS) / x86_64  OK    OK    OK  UNNEEDED, same version is already published
merida1macOS 10.14.6 Mojave / x86_64  OK    OK    OK    OK  UNNEEDED, same version is already published
Package 32/34HostnameOS / ArchINSTALLBUILDCHECKBUILD BIN
tRNAscanImport 1.16.0  (landing page)
Felix G.M. Ernst
git_last_commit: c9f0257
git_last_commit_date: 2022-04-26 11:47:43 -0400
nebbiolo1Linux (Ubuntu 20.04.4 LTS) / x86_64  OK    OK    OK  UNNEEDED, same version is already published
merida1macOS 10.14.6 Mojave / x86_64  OK    OK    OK    OK  UNNEEDED, same version is already published
Package 33/34HostnameOS / ArchINSTALLBUILDCHECKBUILD BIN
VariantAnnotation 1.42.1  (landing page)
Bioconductor Package Maintainer
git_last_commit: d112169
git_last_commit_date: 2022-05-12 10:10:58 -0400
nebbiolo1Linux (Ubuntu 20.04.4 LTS) / x86_64  OK    OK    OK  UNNEEDED, same version is already published
merida1macOS 10.14.6 Mojave / x86_64  OK    OK    OK    OK  UNNEEDED, same version is already published
Package 34/34HostnameOS / ArchINSTALLBUILDCHECKBUILD BIN
VariantFiltering 1.32.0  (landing page)
Robert Castelo
git_last_commit: e5baf3d
git_last_commit_date: 2022-04-26 11:19:20 -0400
nebbiolo1Linux (Ubuntu 20.04.4 LTS) / x86_64  OK    OK    OK  UNNEEDED, same version is already published
merida1macOS 10.14.6 Mojave / x86_64  OK    OK    OK    OK  UNNEEDED, same version is already published