Back to Multiple platform build/check report for BioC 3.15
ABCDEFGHIJKLMNOPQ[R]STUVWXYZ

This page was generated on 2022-05-20 12:04:45 -0400 (Fri, 20 May 2022).

HostnameOSArch (*)R versionInstalled pkgs
nebbiolo1Linux (Ubuntu 20.04.4 LTS)x86_644.2.0 (2022-04-22) -- "Vigorous Calisthenics" 4380
palomino3Windows Server 2022 Datacenterx644.2.0 (2022-04-22 ucrt) -- "Vigorous Calisthenics" 4155
merida1macOS 10.14.6 Mojavex86_644.2.0 (2022-04-22) -- "Vigorous Calisthenics" 4221
Click on any hostname to see more info about the system (e.g. compilers)      (*) as reported by 'uname -p', except on Windows and Mac OS X

All results for package Rgraphviz


To the developers/maintainers of the Rgraphviz package:
- Please allow up to 24 hours (and sometimes 48 hours) for your latest push to git@git.bioconductor.org:packages/Rgraphviz.git to
reflect on this report. See How and When does the builder pull? When will my changes propagate? for more information.
- Make sure to use the following settings in order to reproduce any error or warning you see on this page.

raw results

Package 1638/2140HostnameOS / ArchINSTALLBUILDCHECKBUILD BIN
Rgraphviz 2.40.0  (landing page)
Kasper Daniel Hansen
Snapshot Date: 2022-05-19 13:55:15 -0400 (Thu, 19 May 2022)
git_url: https://git.bioconductor.org/packages/Rgraphviz
git_branch: RELEASE_3_15
git_last_commit: d864c97
git_last_commit_date: 2022-04-26 10:54:52 -0400 (Tue, 26 Apr 2022)
nebbiolo1Linux (Ubuntu 20.04.4 LTS) / x86_64  OK    OK    WARNINGS  UNNEEDED, same version is already published
palomino3Windows Server 2022 Datacenter / x64  OK    OK    WARNINGS    OK  UNNEEDED, same version is already published
merida1macOS 10.14.6 Mojave / x86_64  OK    OK    WARNINGS    OK  UNNEEDED, same version is already published

Results for Bioconductor software packages that depend directly on package Rgraphviz

QUICK STATSOS / ArchINSTALLBUILDCHECKBUILD BIN
nebbiolo1Linux (Ubuntu 20.04.4 LTS) / x86_64
0035
0035
00728
palomino3Windows Server 2022 Datacenter / x64
0034
0034
00727
0034
merida1macOS 10.14.6 Mojave / x86_64
0034
0034
00727
0034
Package 1/35HostnameOS / ArchINSTALLBUILDCHECKBUILD BIN
apComplex 2.62.0  (landing page)
Denise Scholtens
git_last_commit: 0661f03
git_last_commit_date: 2022-04-26 10:56:39 -0400
nebbiolo1Linux (Ubuntu 20.04.4 LTS) / x86_64  OK    OK    OK  UNNEEDED, same version is already published
palomino3Windows Server 2022 Datacenter / x64  OK    OK    OK    OK  UNNEEDED, same version is already published
merida1macOS 10.14.6 Mojave / x86_64  OK    OK    OK    OK  UNNEEDED, same version is already published
Package 2/35HostnameOS / ArchINSTALLBUILDCHECKBUILD BIN
biocGraph 1.58.0  (landing page)
Florian Hahne
git_last_commit: 2916b2a
git_last_commit_date: 2022-04-26 11:00:01 -0400
nebbiolo1Linux (Ubuntu 20.04.4 LTS) / x86_64  OK    OK    OK  UNNEEDED, same version is already published
palomino3Windows Server 2022 Datacenter / x64  OK    OK    OK    OK  UNNEEDED, same version is already published
merida1macOS 10.14.6 Mojave / x86_64  OK    OK    OK    OK  UNNEEDED, same version is already published
Package 3/35HostnameOS / ArchINSTALLBUILDCHECKBUILD BIN
BiocOncoTK 1.16.0  (landing page)
VJ Carey
git_last_commit: fef8b96
git_last_commit_date: 2022-04-26 11:49:04 -0400
nebbiolo1Linux (Ubuntu 20.04.4 LTS) / x86_64  OK    OK    WARNINGS  UNNEEDED, same version is already published
palomino3Windows Server 2022 Datacenter / x64  OK    OK    WARNINGS    OK  UNNEEDED, same version is already published
merida1macOS 10.14.6 Mojave / x86_64  OK    OK    WARNINGS    OK  UNNEEDED, same version is already published
Package 4/35HostnameOS / ArchINSTALLBUILDCHECKBUILD BIN
BioMVCClass 1.64.0  (landing page)
Elizabeth Whalen
git_last_commit: d1ec821
git_last_commit_date: 2022-04-26 10:58:42 -0400
nebbiolo1Linux (Ubuntu 20.04.4 LTS) / x86_64  OK    OK    OK  UNNEEDED, same version is already published
palomino3Windows Server 2022 Datacenter / x64  OK    OK    OK    OK  UNNEEDED, same version is already published
merida1macOS 10.14.6 Mojave / x86_64  OK    OK    OK    OK  UNNEEDED, same version is already published
Package 5/35HostnameOS / ArchINSTALLBUILDCHECKBUILD BIN
bnem 1.4.0  (landing page)
Martin Pirkl
git_last_commit: 140e9fb
git_last_commit_date: 2022-04-26 12:11:22 -0400
nebbiolo1Linux (Ubuntu 20.04.4 LTS) / x86_64  OK    OK    OK  UNNEEDED, same version is already published
palomino3Windows Server 2022 Datacenter / x64  OK    OK    OK    OK  UNNEEDED, same version is already published
merida1macOS 10.14.6 Mojave / x86_64  OK    OK    OK    OK  UNNEEDED, same version is already published
Package 6/35HostnameOS / ArchINSTALLBUILDCHECKBUILD BIN
CellNOptR 1.42.0  (landing page)
Attila Gabor
git_last_commit: b181bec
git_last_commit_date: 2022-04-26 11:09:38 -0400
nebbiolo1Linux (Ubuntu 20.04.4 LTS) / x86_64  OK    OK    OK  UNNEEDED, same version is already published
palomino3Windows Server 2022 Datacenter / x64  OK    OK    OK    OK  UNNEEDED, same version is already published
merida1macOS 10.14.6 Mojave / x86_64  OK    OK    OK    OK  UNNEEDED, same version is already published
Package 7/35HostnameOS / ArchINSTALLBUILDCHECKBUILD BIN
chimeraviz 1.22.0  (landing page)
Stian Lågstad
git_last_commit: 6426ef0
git_last_commit_date: 2022-04-26 11:37:53 -0400
nebbiolo1Linux (Ubuntu 20.04.4 LTS) / x86_64  OK    OK    OK  UNNEEDED, same version is already published
palomino3Windows Server 2022 Datacenter / x64  OK    OK    OK    OK  UNNEEDED, same version is already published
merida1macOS 10.14.6 Mojave / x86_64  OK    OK    OK    OK  UNNEEDED, same version is already published
Package 8/35HostnameOS / ArchINSTALLBUILDCHECKBUILD BIN
CytoML 2.8.0  (landing page)
Mike Jiang
git_last_commit: f03b46a
git_last_commit_date: 2022-04-26 11:33:22 -0400
nebbiolo1Linux (Ubuntu 20.04.4 LTS) / x86_64  OK    OK    WARNINGS  UNNEEDED, same version is already published
palomino3Windows Server 2022 Datacenter / x64  OK    OK    WARNINGS    OK  UNNEEDED, same version is already published
merida1macOS 10.14.6 Mojave / x86_64  OK    OK    WARNINGS    OK  UNNEEDED, same version is already published
Package 9/35HostnameOS / ArchINSTALLBUILDCHECKBUILD BIN
dce 1.4.0  (landing page)
Kim Philipp Jablonski
git_last_commit: 2ea5367
git_last_commit_date: 2022-04-26 12:13:23 -0400
nebbiolo1Linux (Ubuntu 20.04.4 LTS) / x86_64  OK    OK    OK  UNNEEDED, same version is already published
palomino3Windows Server 2022 Datacenter / x64  OK    OK    OK    OK  UNNEEDED, same version is already published
merida1macOS 10.14.6 Mojave / x86_64  OK    OK    OK    OK  UNNEEDED, same version is already published
Package 10/35HostnameOS / ArchINSTALLBUILDCHECKBUILD BIN
DEGraph 1.48.0  (landing page)
Laurent Jacob
git_last_commit: 9d2c152
git_last_commit_date: 2022-04-26 11:06:25 -0400
nebbiolo1Linux (Ubuntu 20.04.4 LTS) / x86_64  OK    OK    OK  UNNEEDED, same version is already published
palomino3Windows Server 2022 Datacenter / x64... NOT SUPPORTED ...
merida1macOS 10.14.6 Mojave / x86_64... NOT SUPPORTED ...
Package 11/35HostnameOS / ArchINSTALLBUILDCHECKBUILD BIN
EnrichmentBrowser 2.26.0  (landing page)
Ludwig Geistlinger
git_last_commit: d0f440d
git_last_commit_date: 2022-04-26 11:21:31 -0400
nebbiolo1Linux (Ubuntu 20.04.4 LTS) / x86_64  OK    OK    OK  UNNEEDED, same version is already published
palomino3Windows Server 2022 Datacenter / x64  OK    OK    OK    OK  UNNEEDED, same version is already published
merida1macOS 10.14.6 Mojave / x86_64  OK    OK    OK    OK  UNNEEDED, same version is already published
Package 12/35HostnameOS / ArchINSTALLBUILDCHECKBUILD BIN
flowCL 1.34.0  (landing page)
Justin Meskas
git_last_commit: e9626ec
git_last_commit_date: 2022-04-26 11:19:14 -0400
nebbiolo1Linux (Ubuntu 20.04.4 LTS) / x86_64  OK    OK    OK  UNNEEDED, same version is already published
palomino3Windows Server 2022 Datacenter / x64  OK    OK    OK    OK  UNNEEDED, same version is already published
merida1macOS 10.14.6 Mojave / x86_64  OK    OK    OK    OK  UNNEEDED, same version is already published
Package 13/35HostnameOS / ArchINSTALLBUILDCHECKBUILD BIN
flowMerge 2.44.0  (landing page)
Greg Finak
git_last_commit: c6f6bf9
git_last_commit_date: 2022-04-26 11:03:10 -0400
nebbiolo1Linux (Ubuntu 20.04.4 LTS) / x86_64  OK    OK    OK  UNNEEDED, same version is already published
palomino3Windows Server 2022 Datacenter / x64  OK    OK    OK    OK  UNNEEDED, same version is already published
merida1macOS 10.14.6 Mojave / x86_64  OK    OK    OK    OK  UNNEEDED, same version is already published
Package 14/35HostnameOS / ArchINSTALLBUILDCHECKBUILD BIN
flowWorkspace 4.8.0  (landing page)
Greg Finak , Mike Jiang
git_last_commit: 8cb4b97
git_last_commit_date: 2022-04-26 11:07:52 -0400
nebbiolo1Linux (Ubuntu 20.04.4 LTS) / x86_64  OK    OK    WARNINGS  UNNEEDED, same version is already published
palomino3Windows Server 2022 Datacenter / x64  OK    OK    WARNINGS    OK  UNNEEDED, same version is already published
merida1macOS 10.14.6 Mojave / x86_64  OK    OK    WARNINGS    OK  UNNEEDED, same version is already published
Package 15/35HostnameOS / ArchINSTALLBUILDCHECKBUILD BIN
GeneNetworkBuilder 1.38.0  (landing page)
Jianhong Ou
git_last_commit: 1b30490
git_last_commit_date: 2022-04-26 11:11:48 -0400
nebbiolo1Linux (Ubuntu 20.04.4 LTS) / x86_64  OK    OK    OK  UNNEEDED, same version is already published
palomino3Windows Server 2022 Datacenter / x64  OK    OK    OK    OK  UNNEEDED, same version is already published
merida1macOS 10.14.6 Mojave / x86_64  OK    OK    OK    OK  UNNEEDED, same version is already published
Package 16/35HostnameOS / ArchINSTALLBUILDCHECKBUILD BIN
GOstats 2.62.0  (landing page)
Bioconductor Package Maintainer
git_last_commit: 217db03
git_last_commit_date: 2022-04-26 10:55:59 -0400
nebbiolo1Linux (Ubuntu 20.04.4 LTS) / x86_64  OK    OK    OK  UNNEEDED, same version is already published
palomino3Windows Server 2022 Datacenter / x64  OK    OK    OK    OK  UNNEEDED, same version is already published
merida1macOS 10.14.6 Mojave / x86_64  OK    OK    OK    OK  UNNEEDED, same version is already published
Package 17/35HostnameOS / ArchINSTALLBUILDCHECKBUILD BIN
hyperdraw 1.48.0  (landing page)
Paul Murrell
git_last_commit: 4428163
git_last_commit_date: 2022-04-26 11:04:08 -0400
nebbiolo1Linux (Ubuntu 20.04.4 LTS) / x86_64  OK    OK    OK  UNNEEDED, same version is already published
palomino3Windows Server 2022 Datacenter / x64  OK    OK    OK    OK  UNNEEDED, same version is already published
merida1macOS 10.14.6 Mojave / x86_64  OK    OK    OK    OK  UNNEEDED, same version is already published
Package 18/35HostnameOS / ArchINSTALLBUILDCHECKBUILD BIN
KEGGgraph 1.56.0  (landing page)
Jitao David Zhang
git_last_commit: e95cbf9
git_last_commit_date: 2022-04-26 11:02:25 -0400
nebbiolo1Linux (Ubuntu 20.04.4 LTS) / x86_64  OK    OK    OK  UNNEEDED, same version is already published
palomino3Windows Server 2022 Datacenter / x64  OK    OK    OK    OK  UNNEEDED, same version is already published
merida1macOS 10.14.6 Mojave / x86_64  OK    OK    OK    OK  UNNEEDED, same version is already published
Package 19/35HostnameOS / ArchINSTALLBUILDCHECKBUILD BIN
MIGSA 1.20.0  (landing page)
Juan C. Rodriguez
git_last_commit: e0e8af0
git_last_commit_date: 2022-04-26 11:39:18 -0400
nebbiolo1Linux (Ubuntu 20.04.4 LTS) / x86_64  OK    OK    OK  UNNEEDED, same version is already published
palomino3Windows Server 2022 Datacenter / x64  OK    OK    OK    OK  UNNEEDED, same version is already published
merida1macOS 10.14.6 Mojave / x86_64  OK    OK    OK    OK  UNNEEDED, same version is already published
Package 20/35HostnameOS / ArchINSTALLBUILDCHECKBUILD BIN
MineICA 1.36.0  (landing page)
Anne Biton
git_last_commit: 7c6b12c
git_last_commit_date: 2022-04-26 11:13:35 -0400
nebbiolo1Linux (Ubuntu 20.04.4 LTS) / x86_64  OK    OK    WARNINGS  UNNEEDED, same version is already published
palomino3Windows Server 2022 Datacenter / x64  OK    OK    WARNINGS    OK  UNNEEDED, same version is already published
merida1macOS 10.14.6 Mojave / x86_64  OK    OK    WARNINGS    OK  UNNEEDED, same version is already published
Package 21/35HostnameOS / ArchINSTALLBUILDCHECKBUILD BIN
mirIntegrator 1.26.0  (landing page)
Diana Diaz
git_last_commit: 2392861
git_last_commit_date: 2022-04-26 11:25:53 -0400
nebbiolo1Linux (Ubuntu 20.04.4 LTS) / x86_64  OK    OK    OK  UNNEEDED, same version is already published
palomino3Windows Server 2022 Datacenter / x64  OK    OK    OK    OK  UNNEEDED, same version is already published
merida1macOS 10.14.6 Mojave / x86_64  OK    OK    OK    OK  UNNEEDED, same version is already published
Package 22/35HostnameOS / ArchINSTALLBUILDCHECKBUILD BIN
mnem 1.12.0  (landing page)
Martin Pirkl
git_last_commit: 4e290e3
git_last_commit_date: 2022-04-26 11:56:26 -0400
nebbiolo1Linux (Ubuntu 20.04.4 LTS) / x86_64  OK    OK    OK  UNNEEDED, same version is already published
palomino3Windows Server 2022 Datacenter / x64  OK    OK    OK    OK  UNNEEDED, same version is already published
merida1macOS 10.14.6 Mojave / x86_64  OK    OK    OK    OK  UNNEEDED, same version is already published
Package 23/35HostnameOS / ArchINSTALLBUILDCHECKBUILD BIN
netresponse 1.56.0  (landing page)
Leo Lahti
git_last_commit: 4d35485
git_last_commit_date: 2022-04-26 11:05:56 -0400
nebbiolo1Linux (Ubuntu 20.04.4 LTS) / x86_64  OK    OK    OK  UNNEEDED, same version is already published
palomino3Windows Server 2022 Datacenter / x64  OK    OK    OK    OK  UNNEEDED, same version is already published
merida1macOS 10.14.6 Mojave / x86_64  OK    OK    OK    OK  UNNEEDED, same version is already published
Package 24/35HostnameOS / ArchINSTALLBUILDCHECKBUILD BIN
OncoSimulR 3.4.0  (landing page)
Ramon Diaz-Uriarte
git_last_commit: 17fdf39
git_last_commit_date: 2022-04-26 11:20:38 -0400
nebbiolo1Linux (Ubuntu 20.04.4 LTS) / x86_64  OK    OK    OK  UNNEEDED, same version is already published
palomino3Windows Server 2022 Datacenter / x64  OK    OK    OK    OK  UNNEEDED, same version is already published
merida1macOS 10.14.6 Mojave / x86_64  OK    OK    OK    OK  UNNEEDED, same version is already published
Package 25/35HostnameOS / ArchINSTALLBUILDCHECKBUILD BIN
ontoProc 1.18.0  (landing page)
VJ Carey
git_last_commit: 6a28f6f
git_last_commit_date: 2022-04-26 11:44:47 -0400
nebbiolo1Linux (Ubuntu 20.04.4 LTS) / x86_64  OK    OK    OK  UNNEEDED, same version is already published
palomino3Windows Server 2022 Datacenter / x64  OK    OK    OK    OK  UNNEEDED, same version is already published
merida1macOS 10.14.6 Mojave / x86_64  OK    OK    OK    OK  UNNEEDED, same version is already published
Package 26/35HostnameOS / ArchINSTALLBUILDCHECKBUILD BIN
paircompviz 1.34.0  (landing page)
Michal Burda
git_last_commit: c35c44c
git_last_commit_date: 2022-04-26 11:15:15 -0400
nebbiolo1Linux (Ubuntu 20.04.4 LTS) / x86_64  OK    OK    OK  UNNEEDED, same version is already published
palomino3Windows Server 2022 Datacenter / x64  OK    OK    OK    OK  UNNEEDED, same version is already published
merida1macOS 10.14.6 Mojave / x86_64  OK    OK    OK    OK  UNNEEDED, same version is already published
Package 27/35HostnameOS / ArchINSTALLBUILDCHECKBUILD BIN
pathRender 1.64.0  (landing page)
Vince Carey
git_last_commit: 2405012
git_last_commit_date: 2022-04-26 10:57:49 -0400
nebbiolo1Linux (Ubuntu 20.04.4 LTS) / x86_64  OK    OK    OK  UNNEEDED, same version is already published
palomino3Windows Server 2022 Datacenter / x64  OK    OK    OK    OK  UNNEEDED, same version is already published
merida1macOS 10.14.6 Mojave / x86_64  OK    OK    OK    OK  UNNEEDED, same version is already published
Package 28/35HostnameOS / ArchINSTALLBUILDCHECKBUILD BIN
pathview 1.36.0  (landing page)
Weijun Luo
git_last_commit: 4f6be09
git_last_commit_date: 2022-04-26 11:13:56 -0400
nebbiolo1Linux (Ubuntu 20.04.4 LTS) / x86_64  OK    OK    WARNINGS  UNNEEDED, same version is already published
palomino3Windows Server 2022 Datacenter / x64  OK    OK    WARNINGS    OK  UNNEEDED, same version is already published
merida1macOS 10.14.6 Mojave / x86_64  OK    OK    WARNINGS    OK  UNNEEDED, same version is already published
Package 29/35HostnameOS / ArchINSTALLBUILDCHECKBUILD BIN
Pigengene 1.22.0  (landing page)
Habil Zare
git_last_commit: 9b1948a
git_last_commit_date: 2022-04-26 11:32:36 -0400
nebbiolo1Linux (Ubuntu 20.04.4 LTS) / x86_64  OK    OK    OK  UNNEEDED, same version is already published
palomino3Windows Server 2022 Datacenter / x64  OK    OK    OK    OK  UNNEEDED, same version is already published
merida1macOS 10.14.6 Mojave / x86_64  OK    OK    OK    OK  UNNEEDED, same version is already published
Package 30/35HostnameOS / ArchINSTALLBUILDCHECKBUILD BIN
qpgraph 2.30.0  (landing page)
Robert Castelo
git_last_commit: 58c292b
git_last_commit_date: 2022-04-26 11:02:28 -0400
nebbiolo1Linux (Ubuntu 20.04.4 LTS) / x86_64  OK    OK    WARNINGS  UNNEEDED, same version is already published
palomino3Windows Server 2022 Datacenter / x64  OK    OK    WARNINGS    OK  UNNEEDED, same version is already published
merida1macOS 10.14.6 Mojave / x86_64  OK    OK    WARNINGS    OK  UNNEEDED, same version is already published
Package 31/35HostnameOS / ArchINSTALLBUILDCHECKBUILD BIN
ROntoTools 2.24.0  (landing page)
Calin Voichita
git_last_commit: 2ab8ea9
git_last_commit_date: 2022-04-26 11:14:12 -0400
nebbiolo1Linux (Ubuntu 20.04.4 LTS) / x86_64  OK    OK    OK  UNNEEDED, same version is already published
palomino3Windows Server 2022 Datacenter / x64  OK    OK    OK    OK  UNNEEDED, same version is already published
merida1macOS 10.14.6 Mojave / x86_64  OK    OK    OK    OK  UNNEEDED, same version is already published
Package 32/35HostnameOS / ArchINSTALLBUILDCHECKBUILD BIN
SplicingGraphs 1.36.0  (landing page)
H. Pagès
git_last_commit: 7151ba0
git_last_commit_date: 2022-04-26 11:14:47 -0400
nebbiolo1Linux (Ubuntu 20.04.4 LTS) / x86_64  OK    OK    WARNINGS  UNNEEDED, same version is already published
palomino3Windows Server 2022 Datacenter / x64  OK    OK    WARNINGS    OK  UNNEEDED, same version is already published
merida1macOS 10.14.6 Mojave / x86_64  OK    OK    WARNINGS    OK  UNNEEDED, same version is already published
Package 33/35HostnameOS / ArchINSTALLBUILDCHECKBUILD BIN
TDARACNE 1.46.0  (landing page)
Zoppoli Pietro
git_last_commit: 8a6e2ea
git_last_commit_date: 2022-04-26 11:06:46 -0400
nebbiolo1Linux (Ubuntu 20.04.4 LTS) / x86_64  OK    OK    OK  UNNEEDED, same version is already published
palomino3Windows Server 2022 Datacenter / x64  OK    OK    OK    OK  UNNEEDED, same version is already published
merida1macOS 10.14.6 Mojave / x86_64  OK    OK    OK    OK  UNNEEDED, same version is already published
Package 34/35HostnameOS / ArchINSTALLBUILDCHECKBUILD BIN
trackViewer 1.32.1  (landing page)
Jianhong Ou
git_last_commit: 7878202
git_last_commit_date: 2022-05-04 16:37:29 -0400
nebbiolo1Linux (Ubuntu 20.04.4 LTS) / x86_64  OK    OK    OK  UNNEEDED, same version is already published
palomino3Windows Server 2022 Datacenter / x64  OK    OK    OK    OK  UNNEEDED, same version is already published
merida1macOS 10.14.6 Mojave / x86_64  OK    OK    OK    OK  UNNEEDED, same version is already published
Package 35/35HostnameOS / ArchINSTALLBUILDCHECKBUILD BIN
TRONCO 2.28.0  (landing page)
Luca De Sano
git_last_commit: 962edc7
git_last_commit_date: 2022-04-26 11:23:23 -0400
nebbiolo1Linux (Ubuntu 20.04.4 LTS) / x86_64  OK    OK    OK  UNNEEDED, same version is already published
palomino3Windows Server 2022 Datacenter / x64  OK    OK    OK    OK  UNNEEDED, same version is already published
merida1macOS 10.14.6 Mojave / x86_64  OK    OK    OK    OK  UNNEEDED, same version is already published