Back to Multiple platform build/check report for BioC 3.15
ABCD[E]FGHIJKLMNOPQRSTUVWXYZ

This page was generated on 2022-05-18 12:04:37 -0400 (Wed, 18 May 2022).

HostnameOSArch (*)R versionInstalled pkgs
nebbiolo1Linux (Ubuntu 20.04.4 LTS)x86_644.2.0 (2022-04-22) -- "Vigorous Calisthenics" 4379
palomino3Windows Server 2022 Datacenterx644.2.0 (2022-04-22 ucrt) -- "Vigorous Calisthenics" 4154
merida1macOS 10.14.6 Mojavex86_644.2.0 (2022-04-22) -- "Vigorous Calisthenics" 4220
Click on any hostname to see more info about the system (e.g. compilers)      (*) as reported by 'uname -p', except on Windows and Mac OS X

All results for package enrichplot


To the developers/maintainers of the enrichplot package:
- Please allow up to 24 hours (and sometimes 48 hours) for your latest push to git@git.bioconductor.org:packages/enrichplot.git to
reflect on this report. See How and When does the builder pull? When will my changes propagate? for more information.
- Make sure to use the following settings in order to reproduce any error or warning you see on this page.

raw results

Package 601/2140HostnameOS / ArchINSTALLBUILDCHECKBUILD BIN
enrichplot 1.16.1  (landing page)
Guangchuang Yu
Snapshot Date: 2022-05-17 13:55:01 -0400 (Tue, 17 May 2022)
git_url: https://git.bioconductor.org/packages/enrichplot
git_branch: RELEASE_3_15
git_last_commit: cff77b6
git_last_commit_date: 2022-05-04 23:23:58 -0400 (Wed, 04 May 2022)
nebbiolo1Linux (Ubuntu 20.04.4 LTS) / x86_64  OK    OK    OK  UNNEEDED, same version is already published
palomino3Windows Server 2022 Datacenter / x64  OK    OK    OK    OK  UNNEEDED, same version is already published
merida1macOS 10.14.6 Mojave / x86_64  OK    OK    OK    OK  UNNEEDED, same version is already published

Results for Bioconductor software packages that depend directly on package enrichplot

QUICK STATSOS / ArchINSTALLBUILDCHECKBUILD BIN
nebbiolo1Linux (Ubuntu 20.04.4 LTS) / x86_64
008
008
0008
palomino3Windows Server 2022 Datacenter / x64
008
008
0008
008
merida1macOS 10.14.6 Mojave / x86_64
008
008
0008
008
Package 1/8HostnameOS / ArchINSTALLBUILDCHECKBUILD BIN
ChIPseeker 1.32.0  (landing page)
Guangchuang Yu
git_last_commit: 78188dc
git_last_commit_date: 2022-04-26 11:19:42 -0400
nebbiolo1Linux (Ubuntu 20.04.4 LTS) / x86_64  OK    OK    OK  UNNEEDED, same version is already published
palomino3Windows Server 2022 Datacenter / x64  OK    OK    OK    OK  UNNEEDED, same version is already published
merida1macOS 10.14.6 Mojave / x86_64  OK    OK    OK    OK  UNNEEDED, same version is already published
Package 2/8HostnameOS / ArchINSTALLBUILDCHECKBUILD BIN
clusterProfiler 4.4.1  (landing page)
Guangchuang Yu
git_last_commit: daad11f
git_last_commit_date: 2022-04-28 03:07:16 -0400
nebbiolo1Linux (Ubuntu 20.04.4 LTS) / x86_64  OK    OK    OK  UNNEEDED, same version is already published
palomino3Windows Server 2022 Datacenter / x64  OK    OK    OK    OK  UNNEEDED, same version is already published
merida1macOS 10.14.6 Mojave / x86_64  OK    OK    OK    OK  UNNEEDED, same version is already published
Package 3/8HostnameOS / ArchINSTALLBUILDCHECKBUILD BIN
debrowser 1.24.0  (landing page)
Alper Kucukural
git_last_commit: 2b020c1
git_last_commit_date: 2022-04-26 11:30:26 -0400
nebbiolo1Linux (Ubuntu 20.04.4 LTS) / x86_64  OK    OK    OK  UNNEEDED, same version is already published
palomino3Windows Server 2022 Datacenter / x64  OK    OK    OK    OK  UNNEEDED, same version is already published
merida1macOS 10.14.6 Mojave / x86_64  OK    OK    OK    OK  UNNEEDED, same version is already published
Package 4/8HostnameOS / ArchINSTALLBUILDCHECKBUILD BIN
MAGeCKFlute 2.0.0  (landing page)
Wubing Zhang
git_last_commit: 2a3e1ee
git_last_commit_date: 2022-04-26 11:45:54 -0400
nebbiolo1Linux (Ubuntu 20.04.4 LTS) / x86_64  OK    OK    OK  UNNEEDED, same version is already published
palomino3Windows Server 2022 Datacenter / x64  OK    OK    OK    OK  UNNEEDED, same version is already published
merida1macOS 10.14.6 Mojave / x86_64  OK    OK    OK    OK  UNNEEDED, same version is already published
Package 5/8HostnameOS / ArchINSTALLBUILDCHECKBUILD BIN
meshes 1.22.0  (landing page)
Guangchuang Yu
git_last_commit: 43b51c5
git_last_commit_date: 2022-04-26 11:36:58 -0400
nebbiolo1Linux (Ubuntu 20.04.4 LTS) / x86_64  OK    OK    OK  UNNEEDED, same version is already published
palomino3Windows Server 2022 Datacenter / x64  OK    OK    OK    OK  UNNEEDED, same version is already published
merida1macOS 10.14.6 Mojave / x86_64  OK    OK    OK    OK  UNNEEDED, same version is already published
Package 6/8HostnameOS / ArchINSTALLBUILDCHECKBUILD BIN
MicrobiomeProfiler 1.2.0  (landing page)
Meijun Chen
git_last_commit: fa84365
git_last_commit_date: 2022-04-26 12:18:51 -0400
nebbiolo1Linux (Ubuntu 20.04.4 LTS) / x86_64  OK    OK    OK  UNNEEDED, same version is already published
palomino3Windows Server 2022 Datacenter / x64  OK    OK    OK    OK  UNNEEDED, same version is already published
merida1macOS 10.14.6 Mojave / x86_64  OK    OK    OK    OK  UNNEEDED, same version is already published
Package 7/8HostnameOS / ArchINSTALLBUILDCHECKBUILD BIN
multiSight 1.4.0  (landing page)
Florian Jeanneret
git_last_commit: 9771d24
git_last_commit_date: 2022-04-26 12:15:32 -0400
nebbiolo1Linux (Ubuntu 20.04.4 LTS) / x86_64  OK    OK    OK  UNNEEDED, same version is already published
palomino3Windows Server 2022 Datacenter / x64  OK    OK    OK    OK  UNNEEDED, same version is already published
merida1macOS 10.14.6 Mojave / x86_64  OK    OK    OK    OK  UNNEEDED, same version is already published
Package 8/8HostnameOS / ArchINSTALLBUILDCHECKBUILD BIN
ReactomePA 1.40.0  (landing page)
Guangchuang Yu
git_last_commit: dac7445
git_last_commit_date: 2022-04-26 11:10:35 -0400
nebbiolo1Linux (Ubuntu 20.04.4 LTS) / x86_64  OK    OK    OK  UNNEEDED, same version is already published
palomino3Windows Server 2022 Datacenter / x64  OK    OK    OK    OK  UNNEEDED, same version is already published
merida1macOS 10.14.6 Mojave / x86_64  OK    OK    OK    OK  UNNEEDED, same version is already published