Back to Multiple platform build/check report for BioC 3.15
ABCDEFGHIJKLMNOPQ[R]STUVWXYZ

This page was generated on 2022-05-20 12:04:45 -0400 (Fri, 20 May 2022).

HostnameOSArch (*)R versionInstalled pkgs
nebbiolo1Linux (Ubuntu 20.04.4 LTS)x86_644.2.0 (2022-04-22) -- "Vigorous Calisthenics" 4380
palomino3Windows Server 2022 Datacenterx644.2.0 (2022-04-22 ucrt) -- "Vigorous Calisthenics" 4155
merida1macOS 10.14.6 Mojavex86_644.2.0 (2022-04-22) -- "Vigorous Calisthenics" 4221
Click on any hostname to see more info about the system (e.g. compilers)      (*) as reported by 'uname -p', except on Windows and Mac OS X

All results for package Rhdf5lib


To the developers/maintainers of the Rhdf5lib package:
- Please allow up to 24 hours (and sometimes 48 hours) for your latest push to git@git.bioconductor.org:packages/Rhdf5lib.git to
reflect on this report. See How and When does the builder pull? When will my changes propagate? for more information.
- Make sure to use the following settings in order to reproduce any error or warning you see on this page.

raw results

Package 1645/2140HostnameOS / ArchINSTALLBUILDCHECKBUILD BIN
Rhdf5lib 1.18.2  (landing page)
Mike Smith
Snapshot Date: 2022-05-19 13:55:15 -0400 (Thu, 19 May 2022)
git_url: https://git.bioconductor.org/packages/Rhdf5lib
git_branch: RELEASE_3_15
git_last_commit: d104bbf
git_last_commit_date: 2022-05-12 14:19:27 -0400 (Thu, 12 May 2022)
nebbiolo1Linux (Ubuntu 20.04.4 LTS) / x86_64  OK    OK    OK  UNNEEDED, same version is already published
palomino3Windows Server 2022 Datacenter / x64  OK    OK    OK    OK  UNNEEDED, same version is already published
merida1macOS 10.14.6 Mojave / x86_64  OK    OK    OK    OK  UNNEEDED, same version is already published

Results for Bioconductor software packages that depend directly on package Rhdf5lib

QUICK STATSOS / ArchINSTALLBUILDCHECKBUILD BIN
nebbiolo1Linux (Ubuntu 20.04.4 LTS) / x86_64
0011
0011
0056
palomino3Windows Server 2022 Datacenter / x64
0011
0011
0056
0011
merida1macOS 10.14.6 Mojave / x86_64
0011
0011
0056
0011
Package 1/11HostnameOS / ArchINSTALLBUILDCHECKBUILD BIN
cytolib 2.8.0  (landing page)
Mike Jiang
git_last_commit: 733543e
git_last_commit_date: 2022-04-26 11:42:38 -0400
nebbiolo1Linux (Ubuntu 20.04.4 LTS) / x86_64  OK    OK    OK  UNNEEDED, same version is already published
palomino3Windows Server 2022 Datacenter / x64  OK    OK    OK    OK  UNNEEDED, same version is already published
merida1macOS 10.14.6 Mojave / x86_64  OK    OK    OK    OK  UNNEEDED, same version is already published
Package 2/11HostnameOS / ArchINSTALLBUILDCHECKBUILD BIN
CytoML 2.8.0  (landing page)
Mike Jiang
git_last_commit: f03b46a
git_last_commit_date: 2022-04-26 11:33:22 -0400
nebbiolo1Linux (Ubuntu 20.04.4 LTS) / x86_64  OK    OK    WARNINGS  UNNEEDED, same version is already published
palomino3Windows Server 2022 Datacenter / x64  OK    OK    WARNINGS    OK  UNNEEDED, same version is already published
merida1macOS 10.14.6 Mojave / x86_64  OK    OK    WARNINGS    OK  UNNEEDED, same version is already published
Package 3/11HostnameOS / ArchINSTALLBUILDCHECKBUILD BIN
DropletUtils 1.16.0  (landing page)
Jonathan Griffiths
git_last_commit: a08cd3b
git_last_commit_date: 2022-04-26 11:46:20 -0400
nebbiolo1Linux (Ubuntu 20.04.4 LTS) / x86_64  OK    OK    OK  UNNEEDED, same version is already published
palomino3Windows Server 2022 Datacenter / x64  OK    OK    OK    OK  UNNEEDED, same version is already published
merida1macOS 10.14.6 Mojave / x86_64  OK    OK    OK    OK  UNNEEDED, same version is already published
Package 4/11HostnameOS / ArchINSTALLBUILDCHECKBUILD BIN
epigraHMM 1.4.0  (landing page)
Pedro Baldoni
git_last_commit: 82b8a69
git_last_commit_date: 2022-04-26 12:16:15 -0400
nebbiolo1Linux (Ubuntu 20.04.4 LTS) / x86_64  OK    OK    OK  UNNEEDED, same version is already published
palomino3Windows Server 2022 Datacenter / x64  OK    OK    OK    OK  UNNEEDED, same version is already published
merida1macOS 10.14.6 Mojave / x86_64  OK    OK    OK    OK  UNNEEDED, same version is already published
Package 5/11HostnameOS / ArchINSTALLBUILDCHECKBUILD BIN
flowWorkspace 4.8.0  (landing page)
Greg Finak , Mike Jiang
git_last_commit: 8cb4b97
git_last_commit_date: 2022-04-26 11:07:52 -0400
nebbiolo1Linux (Ubuntu 20.04.4 LTS) / x86_64  OK    OK    WARNINGS  UNNEEDED, same version is already published
palomino3Windows Server 2022 Datacenter / x64  OK    OK    WARNINGS    OK  UNNEEDED, same version is already published
merida1macOS 10.14.6 Mojave / x86_64  OK    OK    WARNINGS    OK  UNNEEDED, same version is already published
Package 6/11HostnameOS / ArchINSTALLBUILDCHECKBUILD BIN
HDF5Array 1.24.0  (landing page)
Hervé Pagès
git_last_commit: 86de429
git_last_commit_date: 2022-04-26 11:29:44 -0400
nebbiolo1Linux (Ubuntu 20.04.4 LTS) / x86_64  OK    OK    WARNINGS  UNNEEDED, same version is already published
palomino3Windows Server 2022 Datacenter / x64  OK    OK    WARNINGS    OK  UNNEEDED, same version is already published
merida1macOS 10.14.6 Mojave / x86_64  OK    OK    WARNINGS    OK  UNNEEDED, same version is already published
Package 7/11HostnameOS / ArchINSTALLBUILDCHECKBUILD BIN
mbkmeans 1.12.0  (landing page)
Davide Risso
git_last_commit: 3b4cf5e
git_last_commit_date: 2022-04-26 11:54:24 -0400
nebbiolo1Linux (Ubuntu 20.04.4 LTS) / x86_64  OK    OK    OK  UNNEEDED, same version is already published
palomino3Windows Server 2022 Datacenter / x64  OK    OK    OK    OK  UNNEEDED, same version is already published
merida1macOS 10.14.6 Mojave / x86_64  OK    OK    OK    OK  UNNEEDED, same version is already published
Package 8/11HostnameOS / ArchINSTALLBUILDCHECKBUILD BIN
mzR 2.30.0  (landing page)
Steffen Neumann
git_last_commit: 563ae75
git_last_commit_date: 2022-04-26 11:08:40 -0400
nebbiolo1Linux (Ubuntu 20.04.4 LTS) / x86_64  OK    OK    WARNINGS  UNNEEDED, same version is already published
palomino3Windows Server 2022 Datacenter / x64  OK    OK    WARNINGS    OK  UNNEEDED, same version is already published
merida1macOS 10.14.6 Mojave / x86_64  OK    OK    WARNINGS    OK  UNNEEDED, same version is already published
Package 9/11HostnameOS / ArchINSTALLBUILDCHECKBUILD BIN
ncdfFlow 2.42.0  (landing page)
Mike Jiang , Jake Wagner
git_last_commit: 9580047
git_last_commit_date: 2022-04-26 11:09:42 -0400
nebbiolo1Linux (Ubuntu 20.04.4 LTS) / x86_64  OK    OK    WARNINGS  UNNEEDED, same version is already published
palomino3Windows Server 2022 Datacenter / x64  OK    OK    WARNINGS    OK  UNNEEDED, same version is already published
merida1macOS 10.14.6 Mojave / x86_64  OK    OK    WARNINGS    OK  UNNEEDED, same version is already published
Package 10/11HostnameOS / ArchINSTALLBUILDCHECKBUILD BIN
rhdf5 2.40.0  (landing page)
Mike Smith
git_last_commit: fb6c15a
git_last_commit_date: 2022-04-26 11:10:06 -0400
nebbiolo1Linux (Ubuntu 20.04.4 LTS) / x86_64  OK    OK    OK  UNNEEDED, same version is already published
palomino3Windows Server 2022 Datacenter / x64  OK    OK    OK    OK  UNNEEDED, same version is already published
merida1macOS 10.14.6 Mojave / x86_64  OK    OK    OK    OK  UNNEEDED, same version is already published
Package 11/11HostnameOS / ArchINSTALLBUILDCHECKBUILD BIN
rhdf5filters 1.8.0  (landing page)
Mike Smith
git_last_commit: b0b588b
git_last_commit_date: 2022-04-26 12:03:17 -0400
nebbiolo1Linux (Ubuntu 20.04.4 LTS) / x86_64  OK    OK    OK  UNNEEDED, same version is already published
palomino3Windows Server 2022 Datacenter / x64  OK    OK    OK    OK  UNNEEDED, same version is already published
merida1macOS 10.14.6 Mojave / x86_64  OK    OK    OK    OK  UNNEEDED, same version is already published