Back to Multiple platform build/check report for BioC 3.15
ABCDEF[G]HIJKLMNOPQRSTUVWXYZ

This page was generated on 2022-05-20 12:04:31 -0400 (Fri, 20 May 2022).

HostnameOSArch (*)R versionInstalled pkgs
nebbiolo1Linux (Ubuntu 20.04.4 LTS)x86_644.2.0 (2022-04-22) -- "Vigorous Calisthenics" 4380
palomino3Windows Server 2022 Datacenterx644.2.0 (2022-04-22 ucrt) -- "Vigorous Calisthenics" 4155
merida1macOS 10.14.6 Mojavex86_644.2.0 (2022-04-22) -- "Vigorous Calisthenics" 4221
Click on any hostname to see more info about the system (e.g. compilers)      (*) as reported by 'uname -p', except on Windows and Mac OS X

All results for package graph


To the developers/maintainers of the graph package:
- Please allow up to 24 hours (and sometimes 48 hours) for your latest push to git@git.bioconductor.org:packages/graph.git to
reflect on this report. See How and When does the builder pull? When will my changes propagate? for more information.
- Make sure to use the following settings in order to reproduce any error or warning you see on this page.

raw results

Package 842/2140HostnameOS / ArchINSTALLBUILDCHECKBUILD BIN
graph 1.74.0  (landing page)
Bioconductor Package Maintainer
Snapshot Date: 2022-05-19 13:55:15 -0400 (Thu, 19 May 2022)
git_url: https://git.bioconductor.org/packages/graph
git_branch: RELEASE_3_15
git_last_commit: 4af608a
git_last_commit_date: 2022-04-26 10:54:46 -0400 (Tue, 26 Apr 2022)
nebbiolo1Linux (Ubuntu 20.04.4 LTS) / x86_64  OK    OK    OK  UNNEEDED, same version is already published
palomino3Windows Server 2022 Datacenter / x64  OK    OK    OK    OK  UNNEEDED, same version is already published
merida1macOS 10.14.6 Mojave / x86_64  OK    OK    OK    OK  UNNEEDED, same version is already published

Results for Bioconductor software packages that depend directly on package graph

QUICK STATSOS / ArchINSTALLBUILDCHECKBUILD BIN
nebbiolo1Linux (Ubuntu 20.04.4 LTS) / x86_64
0093
0489
012167
palomino3Windows Server 2022 Datacenter / x64
0091
0586
011966
0086
merida1macOS 10.14.6 Mojave / x86_64
0090
0486
001967
0086
Package 1/93HostnameOS / ArchINSTALLBUILDCHECKBUILD BIN
alpine 1.22.0  (landing page)
Michael Love
git_last_commit: 6107a82
git_last_commit_date: 2022-04-26 11:34:53 -0400
nebbiolo1Linux (Ubuntu 20.04.4 LTS) / x86_64  OK    OK    OK  UNNEEDED, same version is already published
palomino3Windows Server 2022 Datacenter / x64  OK    OK    OK    OK  UNNEEDED, same version is already published
merida1macOS 10.14.6 Mojave / x86_64  OK    OK    OK    OK  UNNEEDED, same version is already published
Package 2/93HostnameOS / ArchINSTALLBUILDCHECKBUILD BIN
AnnotationHubData 1.26.1  (landing page)
Bioconductor Package Maintainer
git_last_commit: a04119c
git_last_commit_date: 2022-04-28 10:35:41 -0400
nebbiolo1Linux (Ubuntu 20.04.4 LTS) / x86_64  OK    OK    WARNINGS  UNNEEDED, same version is already published
palomino3Windows Server 2022 Datacenter / x64  OK    OK    WARNINGS    OK  UNNEEDED, same version is already published
merida1macOS 10.14.6 Mojave / x86_64  OK    OK    WARNINGS    OK  UNNEEDED, same version is already published
Package 3/93HostnameOS / ArchINSTALLBUILDCHECKBUILD BIN
apComplex 2.62.0  (landing page)
Denise Scholtens
git_last_commit: 0661f03
git_last_commit_date: 2022-04-26 10:56:39 -0400
nebbiolo1Linux (Ubuntu 20.04.4 LTS) / x86_64  OK    OK    OK  UNNEEDED, same version is already published
palomino3Windows Server 2022 Datacenter / x64  OK    OK    OK    OK  UNNEEDED, same version is already published
merida1macOS 10.14.6 Mojave / x86_64  OK    OK    OK    OK  UNNEEDED, same version is already published
Package 4/93HostnameOS / ArchINSTALLBUILDCHECKBUILD BIN
BgeeDB 2.22.0  (landing page)
Julien Wollbrett , Julien Roux , Andrea Komljenovic , Frederic Bastian
git_last_commit: d4b9694
git_last_commit_date: 2022-04-26 11:31:44 -0400
nebbiolo1Linux (Ubuntu 20.04.4 LTS) / x86_64  OK    OK    ERROR  
palomino3Windows Server 2022 Datacenter / x64  OK    OK    OK    OK  UNNEEDED, same version is already published
merida1macOS 10.14.6 Mojave / x86_64  OK    OK    OK    OK  UNNEEDED, same version is already published
Package 5/93HostnameOS / ArchINSTALLBUILDCHECKBUILD BIN
BiocCheck 1.32.0  (landing page)
Bioconductor Package Maintainer
git_last_commit: ced6ec2
git_last_commit_date: 2022-04-26 11:18:41 -0400
nebbiolo1Linux (Ubuntu 20.04.4 LTS) / x86_64  OK    OK    OK  UNNEEDED, same version is already published
palomino3Windows Server 2022 Datacenter / x64  OK    OK    OK    OK  UNNEEDED, same version is already published
merida1macOS 10.14.6 Mojave / x86_64  OK    OK    OK    OK  UNNEEDED, same version is already published
Package 6/93HostnameOS / ArchINSTALLBUILDCHECKBUILD BIN
biocGraph 1.58.0  (landing page)
Florian Hahne
git_last_commit: 2916b2a
git_last_commit_date: 2022-04-26 11:00:01 -0400
nebbiolo1Linux (Ubuntu 20.04.4 LTS) / x86_64  OK    OK    OK  UNNEEDED, same version is already published
palomino3Windows Server 2022 Datacenter / x64  OK    OK    OK    OK  UNNEEDED, same version is already published
merida1macOS 10.14.6 Mojave / x86_64  OK    OK    OK    OK  UNNEEDED, same version is already published
Package 7/93HostnameOS / ArchINSTALLBUILDCHECKBUILD BIN
BiocOncoTK 1.16.0  (landing page)
VJ Carey
git_last_commit: fef8b96
git_last_commit_date: 2022-04-26 11:49:04 -0400
nebbiolo1Linux (Ubuntu 20.04.4 LTS) / x86_64  OK    OK    WARNINGS  UNNEEDED, same version is already published
palomino3Windows Server 2022 Datacenter / x64  OK    OK    WARNINGS    OK  UNNEEDED, same version is already published
merida1macOS 10.14.6 Mojave / x86_64  OK    OK    WARNINGS    OK  UNNEEDED, same version is already published
Package 8/93HostnameOS / ArchINSTALLBUILDCHECKBUILD BIN
BiocPkgTools 1.14.0  (landing page)
Sean Davis
git_last_commit: 75712f2
git_last_commit_date: 2022-04-26 11:50:55 -0400
nebbiolo1Linux (Ubuntu 20.04.4 LTS) / x86_64  OK    OK    OK  UNNEEDED, same version is already published
palomino3Windows Server 2022 Datacenter / x64  OK    OK    OK    OK  UNNEEDED, same version is already published
merida1macOS 10.14.6 Mojave / x86_64  OK    OK    OK    OK  UNNEEDED, same version is already published
Package 9/93HostnameOS / ArchINSTALLBUILDCHECKBUILD BIN
biocViews 1.64.0  (landing page)
Bioconductor Package Maintainer
git_last_commit: b3d46d5
git_last_commit_date: 2022-04-26 10:57:30 -0400
nebbiolo1Linux (Ubuntu 20.04.4 LTS) / x86_64  OK    OK    OK  UNNEEDED, same version is already published
palomino3Windows Server 2022 Datacenter / x64  OK    OK    OK    OK  UNNEEDED, same version is already published
merida1macOS 10.14.6 Mojave / x86_64  OK    OK    OK    OK  UNNEEDED, same version is already published
Package 10/93HostnameOS / ArchINSTALLBUILDCHECKBUILD BIN
BioMVCClass 1.64.0  (landing page)
Elizabeth Whalen
git_last_commit: d1ec821
git_last_commit_date: 2022-04-26 10:58:42 -0400
nebbiolo1Linux (Ubuntu 20.04.4 LTS) / x86_64  OK    OK    OK  UNNEEDED, same version is already published
palomino3Windows Server 2022 Datacenter / x64  OK    OK    OK    OK  UNNEEDED, same version is already published
merida1macOS 10.14.6 Mojave / x86_64  OK    OK    OK    OK  UNNEEDED, same version is already published
Package 11/93HostnameOS / ArchINSTALLBUILDCHECKBUILD BIN
BioNet 1.56.0  (landing page)
Marcus Dittrich
git_last_commit: a9a9190
git_last_commit_date: 2022-04-26 11:05:29 -0400
nebbiolo1Linux (Ubuntu 20.04.4 LTS) / x86_64  OK    OK    OK  UNNEEDED, same version is already published
palomino3Windows Server 2022 Datacenter / x64  OK    OK    OK    OK  UNNEEDED, same version is already published
merida1macOS 10.14.6 Mojave / x86_64  OK    OK    OK    OK  UNNEEDED, same version is already published
Package 12/93HostnameOS / ArchINSTALLBUILDCHECKBUILD BIN
BioPlex 1.2.0  (landing page)
Ludwig Geistlinger
git_last_commit: 142f84e
git_last_commit_date: 2022-04-26 12:17:42 -0400
nebbiolo1Linux (Ubuntu 20.04.4 LTS) / x86_64  OK    ERROR  skipped
palomino3Windows Server 2022 Datacenter / x64  OK    ERROR  skippedskipped
merida1macOS 10.14.6 Mojave / x86_64  OK    ERROR  skippedskipped
Package 13/93HostnameOS / ArchINSTALLBUILDCHECKBUILD BIN
BLMA 1.20.0  (landing page)
Hung Nguyen
git_last_commit: ff6c3fd
git_last_commit_date: 2022-04-26 11:40:33 -0400
nebbiolo1Linux (Ubuntu 20.04.4 LTS) / x86_64  OK    OK    OK  UNNEEDED, same version is already published
palomino3Windows Server 2022 Datacenter / x64  OK    OK    OK    OK  UNNEEDED, same version is already published
merida1macOS 10.14.6 Mojave / x86_64  OK    OK    OK    OK  UNNEEDED, same version is already published
Package 14/93HostnameOS / ArchINSTALLBUILDCHECKBUILD BIN
bnem 1.4.0  (landing page)
Martin Pirkl
git_last_commit: 140e9fb
git_last_commit_date: 2022-04-26 12:11:22 -0400
nebbiolo1Linux (Ubuntu 20.04.4 LTS) / x86_64  OK    OK    OK  UNNEEDED, same version is already published
palomino3Windows Server 2022 Datacenter / x64  OK    OK    OK    OK  UNNEEDED, same version is already published
merida1macOS 10.14.6 Mojave / x86_64  OK    OK    OK    OK  UNNEEDED, same version is already published
Package 15/93HostnameOS / ArchINSTALLBUILDCHECKBUILD BIN
CAMERA 1.52.0  (landing page)
Steffen Neumann
git_last_commit: 63642b8
git_last_commit_date: 2022-04-26 11:02:39 -0400
nebbiolo1Linux (Ubuntu 20.04.4 LTS) / x86_64  OK    OK    OK  UNNEEDED, same version is already published
palomino3Windows Server 2022 Datacenter / x64  OK    OK    OK    OK  UNNEEDED, same version is already published
merida1macOS 10.14.6 Mojave / x86_64  OK    OK    OK    OK  UNNEEDED, same version is already published
Package 16/93HostnameOS / ArchINSTALLBUILDCHECKBUILD BIN
Category 2.62.0  (landing page)
Bioconductor Package Maintainer
git_last_commit: 0fe801c
git_last_commit_date: 2022-04-26 10:57:10 -0400
nebbiolo1Linux (Ubuntu 20.04.4 LTS) / x86_64  OK    OK    OK  UNNEEDED, same version is already published
palomino3Windows Server 2022 Datacenter / x64  OK    OK    OK    OK  UNNEEDED, same version is already published
merida1macOS 10.14.6 Mojave / x86_64  OK    OK    OK    OK  UNNEEDED, same version is already published
Package 17/93HostnameOS / ArchINSTALLBUILDCHECKBUILD BIN
categoryCompare 1.40.0  (landing page)
Robert M. Flight
git_last_commit: b657a93
git_last_commit_date: 2022-04-26 11:10:58 -0400
nebbiolo1Linux (Ubuntu 20.04.4 LTS) / x86_64  OK    OK    OK  UNNEEDED, same version is already published
palomino3Windows Server 2022 Datacenter / x64  OK    OK    OK    OK  UNNEEDED, same version is already published
merida1macOS 10.14.6 Mojave / x86_64  OK    OK    OK    OK  UNNEEDED, same version is already published
Package 18/93HostnameOS / ArchINSTALLBUILDCHECKBUILD BIN
CellNOptR 1.42.0  (landing page)
Attila Gabor
git_last_commit: b181bec
git_last_commit_date: 2022-04-26 11:09:38 -0400
nebbiolo1Linux (Ubuntu 20.04.4 LTS) / x86_64  OK    OK    OK  UNNEEDED, same version is already published
palomino3Windows Server 2022 Datacenter / x64  OK    OK    OK    OK  UNNEEDED, same version is already published
merida1macOS 10.14.6 Mojave / x86_64  OK    OK    OK    OK  UNNEEDED, same version is already published
Package 19/93HostnameOS / ArchINSTALLBUILDCHECKBUILD BIN
chimeraviz 1.22.0  (landing page)
Stian Lågstad
git_last_commit: 6426ef0
git_last_commit_date: 2022-04-26 11:37:53 -0400
nebbiolo1Linux (Ubuntu 20.04.4 LTS) / x86_64  OK    OK    OK  UNNEEDED, same version is already published
palomino3Windows Server 2022 Datacenter / x64  OK    OK    OK    OK  UNNEEDED, same version is already published
merida1macOS 10.14.6 Mojave / x86_64  OK    OK    OK    OK  UNNEEDED, same version is already published
Package 20/93HostnameOS / ArchINSTALLBUILDCHECKBUILD BIN
ChIPpeakAnno 3.30.0  (landing page)
Jianhong Ou
git_last_commit: f5b7c4e
git_last_commit_date: 2022-04-26 11:03:21 -0400
nebbiolo1Linux (Ubuntu 20.04.4 LTS) / x86_64  OK    OK    OK  UNNEEDED, same version is already published
palomino3Windows Server 2022 Datacenter / x64  OK    OK    OK    OK  UNNEEDED, same version is already published
merida1macOS 10.14.6 Mojave / x86_64  OK    OK    OK    OK  UNNEEDED, same version is already published
Package 21/93HostnameOS / ArchINSTALLBUILDCHECKBUILD BIN
CHRONOS 1.24.0  (landing page)
Panos Balomenos
git_last_commit: 587eb5d
git_last_commit_date: 2022-04-26 11:32:11 -0400
nebbiolo1Linux (Ubuntu 20.04.4 LTS) / x86_64  OK    OK    OK  UNNEEDED, same version is already published
palomino3Windows Server 2022 Datacenter / x64  OK    OK    OK    OK  UNNEEDED, same version is already published
merida1macOS 10.14.6 Mojave / x86_64  OK    OK    OK    OK  UNNEEDED, same version is already published
Package 22/93HostnameOS / ArchINSTALLBUILDCHECKBUILD BIN
clipper 1.36.0  (landing page)
Paolo Martini
git_last_commit: c739cc1
git_last_commit_date: 2022-04-26 11:13:22 -0400
nebbiolo1Linux (Ubuntu 20.04.4 LTS) / x86_64  OK    OK    OK  UNNEEDED, same version is already published
palomino3Windows Server 2022 Datacenter / x64  OK    OK    OK    OK  UNNEEDED, same version is already published
merida1macOS 10.14.6 Mojave / x86_64  OK    OK    OK    OK  UNNEEDED, same version is already published
Package 23/93HostnameOS / ArchINSTALLBUILDCHECKBUILD BIN
CNORfeeder 1.36.1  (landing page)
Attila Gabor
git_last_commit: 1205add
git_last_commit_date: 2022-05-16 05:49:05 -0400
nebbiolo1Linux (Ubuntu 20.04.4 LTS) / x86_64  OK    OK    OK  UNNEEDED, same version is already published
palomino3Windows Server 2022 Datacenter / x64  OK    OK    OK    OK  UNNEEDED, same version is already published
merida1macOS 10.14.6 Mojave / x86_64  OK    OK    OK    OK  UNNEEDED, same version is already published
Package 24/93HostnameOS / ArchINSTALLBUILDCHECKBUILD BIN
CytoML 2.8.0  (landing page)
Mike Jiang
git_last_commit: f03b46a
git_last_commit_date: 2022-04-26 11:33:22 -0400
nebbiolo1Linux (Ubuntu 20.04.4 LTS) / x86_64  OK    OK    WARNINGS  UNNEEDED, same version is already published
palomino3Windows Server 2022 Datacenter / x64  OK    OK    WARNINGS    OK  UNNEEDED, same version is already published
merida1macOS 10.14.6 Mojave / x86_64  OK    OK    WARNINGS    OK  UNNEEDED, same version is already published
Package 25/93HostnameOS / ArchINSTALLBUILDCHECKBUILD BIN
DAPAR 1.28.0  (landing page)
Samuel Wieczorek
git_last_commit: ddbbe5d
git_last_commit_date: 2022-04-26 11:27:29 -0400
nebbiolo1Linux (Ubuntu 20.04.4 LTS) / x86_64  OK    OK    OK  UNNEEDED, same version is already published
palomino3Windows Server 2022 Datacenter / x64  OK    OK    OK    OK  UNNEEDED, same version is already published
merida1macOS 10.14.6 Mojave / x86_64  OK    OK    OK    OK  UNNEEDED, same version is already published
Package 26/93HostnameOS / ArchINSTALLBUILDCHECKBUILD BIN
dce 1.4.0  (landing page)
Kim Philipp Jablonski
git_last_commit: 2ea5367
git_last_commit_date: 2022-04-26 12:13:23 -0400
nebbiolo1Linux (Ubuntu 20.04.4 LTS) / x86_64  OK    OK    OK  UNNEEDED, same version is already published
palomino3Windows Server 2022 Datacenter / x64  OK    OK    OK    OK  UNNEEDED, same version is already published
merida1macOS 10.14.6 Mojave / x86_64  OK    OK    OK    OK  UNNEEDED, same version is already published
Package 27/93HostnameOS / ArchINSTALLBUILDCHECKBUILD BIN
DEGraph 1.48.0  (landing page)
Laurent Jacob
git_last_commit: 9d2c152
git_last_commit_date: 2022-04-26 11:06:25 -0400
nebbiolo1Linux (Ubuntu 20.04.4 LTS) / x86_64  OK    OK    OK  UNNEEDED, same version is already published
palomino3Windows Server 2022 Datacenter / x64... NOT SUPPORTED ...
merida1macOS 10.14.6 Mojave / x86_64... NOT SUPPORTED ...
Package 28/93HostnameOS / ArchINSTALLBUILDCHECKBUILD BIN
DEsubs 1.22.0  (landing page)
Aristidis G. Vrahatis , Panos Balomenos
git_last_commit: 7f97eda
git_last_commit_date: 2022-04-26 11:36:04 -0400
nebbiolo1Linux (Ubuntu 20.04.4 LTS) / x86_64  OK    OK    OK  UNNEEDED, same version is already published
palomino3Windows Server 2022 Datacenter / x64  OK    OK    OK    OK  UNNEEDED, same version is already published
merida1macOS 10.14.6 Mojave / x86_64  OK    OK    OK    OK  UNNEEDED, same version is already published
Package 29/93HostnameOS / ArchINSTALLBUILDCHECKBUILD BIN
EnrichmentBrowser 2.26.0  (landing page)
Ludwig Geistlinger
git_last_commit: d0f440d
git_last_commit_date: 2022-04-26 11:21:31 -0400
nebbiolo1Linux (Ubuntu 20.04.4 LTS) / x86_64  OK    OK    OK  UNNEEDED, same version is already published
palomino3Windows Server 2022 Datacenter / x64  OK    OK    OK    OK  UNNEEDED, same version is already published
merida1macOS 10.14.6 Mojave / x86_64  OK    OK    OK    OK  UNNEEDED, same version is already published
Package 30/93HostnameOS / ArchINSTALLBUILDCHECKBUILD BIN
epiNEM 1.20.0  (landing page)
Martin Pirkl
git_last_commit: c9520c2
git_last_commit_date: 2022-04-26 11:39:25 -0400
nebbiolo1Linux (Ubuntu 20.04.4 LTS) / x86_64  OK    OK    OK  UNNEEDED, same version is already published
palomino3Windows Server 2022 Datacenter / x64  OK    OK    OK    OK  UNNEEDED, same version is already published
merida1macOS 10.14.6 Mojave / x86_64  OK    OK    OK    OK  UNNEEDED, same version is already published
Package 31/93HostnameOS / ArchINSTALLBUILDCHECKBUILD BIN
EventPointer 3.4.0  (landing page)
Juan A. Ferrer-Bonsoms
git_last_commit: 2a0ce63
git_last_commit_date: 2022-05-19 03:40:07 -0400
nebbiolo1Linux (Ubuntu 20.04.4 LTS) / x86_64  OK    OK    WARNINGS  UNNEEDED, same version is already published
palomino3Windows Server 2022 Datacenter / x64  OK    OK    WARNINGS    OK  UNNEEDED, same version is already published
merida1macOS 10.14.6 Mojave / x86_64  OK    OK    WARNINGS    OK  UNNEEDED, same version is already published
Package 32/93HostnameOS / ArchINSTALLBUILDCHECKBUILD BIN
fgga 1.4.0  (landing page)
Spetale Flavio
git_last_commit: c867619
git_last_commit_date: 2022-04-26 12:15:36 -0400
nebbiolo1Linux (Ubuntu 20.04.4 LTS) / x86_64  OK    OK    OK  UNNEEDED, same version is already published
palomino3Windows Server 2022 Datacenter / x64  OK    OK    OK    OK  UNNEEDED, same version is already published
merida1macOS 10.14.6 Mojave / x86_64  OK    OK    OK    OK  UNNEEDED, same version is already published
Package 33/93HostnameOS / ArchINSTALLBUILDCHECKBUILD BIN
flowCL 1.34.0  (landing page)
Justin Meskas
git_last_commit: e9626ec
git_last_commit_date: 2022-04-26 11:19:14 -0400
nebbiolo1Linux (Ubuntu 20.04.4 LTS) / x86_64  OK    OK    OK  UNNEEDED, same version is already published
palomino3Windows Server 2022 Datacenter / x64  OK    OK    OK    OK  UNNEEDED, same version is already published
merida1macOS 10.14.6 Mojave / x86_64  OK    OK    OK    OK  UNNEEDED, same version is already published
Package 34/93HostnameOS / ArchINSTALLBUILDCHECKBUILD BIN
flowClust 3.34.0  (landing page)
Greg Finak , Mike Jiang
git_last_commit: 60d0cb9
git_last_commit_date: 2022-04-26 11:00:59 -0400
nebbiolo1Linux (Ubuntu 20.04.4 LTS) / x86_64  OK    OK    WARNINGS  UNNEEDED, same version is already published
palomino3Windows Server 2022 Datacenter / x64  OK    OK    WARNINGS    OK  UNNEEDED, same version is already published
merida1macOS 10.14.6 Mojave / x86_64  OK    OK    WARNINGS    OK  UNNEEDED, same version is already published
Package 35/93HostnameOS / ArchINSTALLBUILDCHECKBUILD BIN
flowMerge 2.44.0  (landing page)
Greg Finak
git_last_commit: c6f6bf9
git_last_commit_date: 2022-04-26 11:03:10 -0400
nebbiolo1Linux (Ubuntu 20.04.4 LTS) / x86_64  OK    OK    OK  UNNEEDED, same version is already published
palomino3Windows Server 2022 Datacenter / x64  OK    OK    OK    OK  UNNEEDED, same version is already published
merida1macOS 10.14.6 Mojave / x86_64  OK    OK    OK    OK  UNNEEDED, same version is already published
Package 36/93HostnameOS / ArchINSTALLBUILDCHECKBUILD BIN
flowUtils 1.60.0  (landing page)
Josef Spidlen
git_last_commit: e7e3612
git_last_commit_date: 2022-04-26 10:58:59 -0400
nebbiolo1Linux (Ubuntu 20.04.4 LTS) / x86_64  OK    ERROR  skipped
palomino3Windows Server 2022 Datacenter / x64  OK    ERROR  skippedskipped
merida1macOS 10.14.6 Mojave / x86_64  OK    ERROR  skippedskipped
Package 37/93HostnameOS / ArchINSTALLBUILDCHECKBUILD BIN
flowWorkspace 4.8.0  (landing page)
Greg Finak , Mike Jiang
git_last_commit: 8cb4b97
git_last_commit_date: 2022-04-26 11:07:52 -0400
nebbiolo1Linux (Ubuntu 20.04.4 LTS) / x86_64  OK    OK    WARNINGS  UNNEEDED, same version is already published
palomino3Windows Server 2022 Datacenter / x64  OK    OK    WARNINGS    OK  UNNEEDED, same version is already published
merida1macOS 10.14.6 Mojave / x86_64  OK    OK    WARNINGS    OK  UNNEEDED, same version is already published
Package 38/93HostnameOS / ArchINSTALLBUILDCHECKBUILD BIN
gage 2.46.0  (landing page)
Weijun Luo
git_last_commit: 181e14d
git_last_commit_date: 2022-04-26 11:06:03 -0400
nebbiolo1Linux (Ubuntu 20.04.4 LTS) / x86_64  OK    OK    WARNINGS  UNNEEDED, same version is already published
palomino3Windows Server 2022 Datacenter / x64  OK    OK    WARNINGS    OK  UNNEEDED, same version is already published
merida1macOS 10.14.6 Mojave / x86_64  OK    OK    WARNINGS    OK  UNNEEDED, same version is already published
Package 39/93HostnameOS / ArchINSTALLBUILDCHECKBUILD BIN
gaggle 1.64.0  (landing page)
Christopher Bare
git_last_commit: a3d5c88
git_last_commit_date: 2022-04-26 10:58:30 -0400
nebbiolo1Linux (Ubuntu 20.04.4 LTS) / x86_64  OK    OK    OK  UNNEEDED, same version is already published
palomino3Windows Server 2022 Datacenter / x64  OK    OK    OK    OK  UNNEEDED, same version is already published
merida1macOS 10.14.6 Mojave / x86_64  OK    OK    OK    OK  UNNEEDED, same version is already published
Package 40/93HostnameOS / ArchINSTALLBUILDCHECKBUILD BIN
GAPGOM 1.12.0  (landing page)
Rezvan Ehsani
git_last_commit: 5cbf252
git_last_commit_date: 2022-04-26 11:52:58 -0400
nebbiolo1Linux (Ubuntu 20.04.4 LTS) / x86_64  OK    ERROR  skipped
palomino3Windows Server 2022 Datacenter / x64  OK    ERROR  skippedskipped
merida1macOS 10.14.6 Mojave / x86_64  OK    ERROR  skippedskipped
Package 41/93HostnameOS / ArchINSTALLBUILDCHECKBUILD BIN
GeneNetworkBuilder 1.38.0  (landing page)
Jianhong Ou
git_last_commit: 1b30490
git_last_commit_date: 2022-04-26 11:11:48 -0400
nebbiolo1Linux (Ubuntu 20.04.4 LTS) / x86_64  OK    OK    OK  UNNEEDED, same version is already published
palomino3Windows Server 2022 Datacenter / x64  OK    OK    OK    OK  UNNEEDED, same version is already published
merida1macOS 10.14.6 Mojave / x86_64  OK    OK    OK    OK  UNNEEDED, same version is already published
Package 42/93HostnameOS / ArchINSTALLBUILDCHECKBUILD BIN
GenomicInteractionNodes 1.0.0  (landing page)
Jianhong Ou
git_last_commit: 1f9082e
git_last_commit_date: 2022-04-26 12:22:49 -0400
nebbiolo1Linux (Ubuntu 20.04.4 LTS) / x86_64  OK    OK    OK  UNNEEDED, same version is already published
palomino3Windows Server 2022 Datacenter / x64  OK    OK    OK    OK  UNNEEDED, same version is already published
merida1macOS 10.14.6 Mojave / x86_64  OK    OK    OK    OK  UNNEEDED, same version is already published
Package 43/93HostnameOS / ArchINSTALLBUILDCHECKBUILD BIN
GOSim 1.34.0  (landing page)
Holger Froehlich
git_last_commit: 96763f5
git_last_commit_date: 2022-04-26 11:16:18 -0400
nebbiolo1Linux (Ubuntu 20.04.4 LTS) / x86_64  OK    OK    OK  UNNEEDED, same version is already published
palomino3Windows Server 2022 Datacenter / x64  OK    OK    OK    OK  UNNEEDED, same version is already published
merida1macOS 10.14.6 Mojave / x86_64  OK    OK    OK    OK  UNNEEDED, same version is already published
Package 44/93HostnameOS / ArchINSTALLBUILDCHECKBUILD BIN
GOstats 2.62.0  (landing page)
Bioconductor Package Maintainer
git_last_commit: 217db03
git_last_commit_date: 2022-04-26 10:55:59 -0400
nebbiolo1Linux (Ubuntu 20.04.4 LTS) / x86_64  OK    OK    OK  UNNEEDED, same version is already published
palomino3Windows Server 2022 Datacenter / x64  OK    OK    OK    OK  UNNEEDED, same version is already published
merida1macOS 10.14.6 Mojave / x86_64  OK    OK    OK    OK  UNNEEDED, same version is already published
Package 45/93HostnameOS / ArchINSTALLBUILDCHECKBUILD BIN
GraphAT 1.68.0  (landing page)
Thomas LaFramboise
git_last_commit: 118e419
git_last_commit_date: 2022-04-26 10:56:05 -0400
nebbiolo1Linux (Ubuntu 20.04.4 LTS) / x86_64  OK    OK    OK  UNNEEDED, same version is already published
palomino3Windows Server 2022 Datacenter / x64  OK    OK    OK    OK  UNNEEDED, same version is already published
merida1macOS 10.14.6 Mojave / x86_64  OK    OK    OK    OK  UNNEEDED, same version is already published
Package 46/93HostnameOS / ArchINSTALLBUILDCHECKBUILD BIN
graphite 1.42.0  (landing page)
Gabriele Sales
git_last_commit: 634ec4d
git_last_commit_date: 2022-04-26 11:08:45 -0400
nebbiolo1Linux (Ubuntu 20.04.4 LTS) / x86_64  OK    OK    OK  UNNEEDED, same version is already published
palomino3Windows Server 2022 Datacenter / x64  OK    OK    OK    OK  UNNEEDED, same version is already published
merida1macOS 10.14.6 Mojave / x86_64  OK    OK    OK    OK  UNNEEDED, same version is already published
Package 47/93HostnameOS / ArchINSTALLBUILDCHECKBUILD BIN
GRridge 1.20.0  (landing page)
Mark A. van de Wiel
git_last_commit: 08e1cc9
git_last_commit_date: 2022-04-26 11:37:45 -0400
nebbiolo1Linux (Ubuntu 20.04.4 LTS) / x86_64  OK    OK    WARNINGS  UNNEEDED, same version is already published
palomino3Windows Server 2022 Datacenter / x64  OK    OK    ERROR    OK  
merida1macOS 10.14.6 Mojave / x86_64  OK    OK    WARNINGS    OK  UNNEEDED, same version is already published
Package 48/93HostnameOS / ArchINSTALLBUILDCHECKBUILD BIN
GSEABase 1.58.0  (landing page)
Bioconductor Package Maintainer
git_last_commit: 7de0444
git_last_commit_date: 2022-04-26 10:59:57 -0400
nebbiolo1Linux (Ubuntu 20.04.4 LTS) / x86_64  OK    OK    OK  UNNEEDED, same version is already published
palomino3Windows Server 2022 Datacenter / x64  OK    OK    OK    OK  UNNEEDED, same version is already published
merida1macOS 10.14.6 Mojave / x86_64  OK    OK    OK    OK  UNNEEDED, same version is already published
Package 49/93HostnameOS / ArchINSTALLBUILDCHECKBUILD BIN
hyperdraw 1.48.0  (landing page)
Paul Murrell
git_last_commit: 4428163
git_last_commit_date: 2022-04-26 11:04:08 -0400
nebbiolo1Linux (Ubuntu 20.04.4 LTS) / x86_64  OK    OK    OK  UNNEEDED, same version is already published
palomino3Windows Server 2022 Datacenter / x64  OK    OK    OK    OK  UNNEEDED, same version is already published
merida1macOS 10.14.6 Mojave / x86_64  OK    OK    OK    OK  UNNEEDED, same version is already published
Package 50/93HostnameOS / ArchINSTALLBUILDCHECKBUILD BIN
hypergraph 1.68.0  (landing page)
Bioconductor Package Maintainer
git_last_commit: 7d53b50
git_last_commit_date: 2022-04-26 10:57:08 -0400
nebbiolo1Linux (Ubuntu 20.04.4 LTS) / x86_64  OK    OK    OK  UNNEEDED, same version is already published
palomino3Windows Server 2022 Datacenter / x64  OK    OK    OK    OK  UNNEEDED, same version is already published
merida1macOS 10.14.6 Mojave / x86_64  OK    OK    OK    OK  UNNEEDED, same version is already published
Package 51/93HostnameOS / ArchINSTALLBUILDCHECKBUILD BIN
KEGGgraph 1.56.0  (landing page)
Jitao David Zhang
git_last_commit: e95cbf9
git_last_commit_date: 2022-04-26 11:02:25 -0400
nebbiolo1Linux (Ubuntu 20.04.4 LTS) / x86_64  OK    OK    OK  UNNEEDED, same version is already published
palomino3Windows Server 2022 Datacenter / x64  OK    OK    OK    OK  UNNEEDED, same version is already published
merida1macOS 10.14.6 Mojave / x86_64  OK    OK    OK    OK  UNNEEDED, same version is already published
Package 52/93HostnameOS / ArchINSTALLBUILDCHECKBUILD BIN
keggorthology 2.48.0  (landing page)
VJ Carey
git_last_commit: 7fb88c9
git_last_commit_date: 2022-04-26 11:00:04 -0400
nebbiolo1Linux (Ubuntu 20.04.4 LTS) / x86_64  OK    OK    OK  UNNEEDED, same version is already published
palomino3Windows Server 2022 Datacenter / x64  OK    OK    OK    OK  UNNEEDED, same version is already published
merida1macOS 10.14.6 Mojave / x86_64  OK    OK    OK    OK  UNNEEDED, same version is already published
Package 53/93HostnameOS / ArchINSTALLBUILDCHECKBUILD BIN
maigesPack 1.60.0  (landing page)
Gustavo H. Esteves
git_last_commit: 73e313e
git_last_commit_date: 2022-04-26 11:00:27 -0400
nebbiolo1Linux (Ubuntu 20.04.4 LTS) / x86_64  OK    OK    OK  UNNEEDED, same version is already published
palomino3Windows Server 2022 Datacenter / x64  OK    OK    OK    OK  UNNEEDED, same version is already published
merida1macOS 10.14.6 Mojave / x86_64  OK    OK    OK    OK  UNNEEDED, same version is already published
Package 54/93HostnameOS / ArchINSTALLBUILDCHECKBUILD BIN
MIGSA 1.20.0  (landing page)
Juan C. Rodriguez
git_last_commit: e0e8af0
git_last_commit_date: 2022-04-26 11:39:18 -0400
nebbiolo1Linux (Ubuntu 20.04.4 LTS) / x86_64  OK    OK    OK  UNNEEDED, same version is already published
palomino3Windows Server 2022 Datacenter / x64  OK    OK    OK    OK  UNNEEDED, same version is already published
merida1macOS 10.14.6 Mojave / x86_64  OK    OK    OK    OK  UNNEEDED, same version is already published
Package 55/93HostnameOS / ArchINSTALLBUILDCHECKBUILD BIN
MineICA 1.36.0  (landing page)
Anne Biton
git_last_commit: 7c6b12c
git_last_commit_date: 2022-04-26 11:13:35 -0400
nebbiolo1Linux (Ubuntu 20.04.4 LTS) / x86_64  OK    OK    WARNINGS  UNNEEDED, same version is already published
palomino3Windows Server 2022 Datacenter / x64  OK    OK    WARNINGS    OK  UNNEEDED, same version is already published
merida1macOS 10.14.6 Mojave / x86_64  OK    OK    WARNINGS    OK  UNNEEDED, same version is already published
Package 56/93HostnameOS / ArchINSTALLBUILDCHECKBUILD BIN
mirIntegrator 1.26.0  (landing page)
Diana Diaz
git_last_commit: 2392861
git_last_commit_date: 2022-04-26 11:25:53 -0400
nebbiolo1Linux (Ubuntu 20.04.4 LTS) / x86_64  OK    OK    OK  UNNEEDED, same version is already published
palomino3Windows Server 2022 Datacenter / x64  OK    OK    OK    OK  UNNEEDED, same version is already published
merida1macOS 10.14.6 Mojave / x86_64  OK    OK    OK    OK  UNNEEDED, same version is already published
Package 57/93HostnameOS / ArchINSTALLBUILDCHECKBUILD BIN
mnem 1.12.0  (landing page)
Martin Pirkl
git_last_commit: 4e290e3
git_last_commit_date: 2022-04-26 11:56:26 -0400
nebbiolo1Linux (Ubuntu 20.04.4 LTS) / x86_64  OK    OK    OK  UNNEEDED, same version is already published
palomino3Windows Server 2022 Datacenter / x64  OK    OK    OK    OK  UNNEEDED, same version is already published
merida1macOS 10.14.6 Mojave / x86_64  OK    OK    OK    OK  UNNEEDED, same version is already published
Package 58/93HostnameOS / ArchINSTALLBUILDCHECKBUILD BIN
NCIgraph 1.44.0  (landing page)
Laurent Jacob
git_last_commit: 745b6db
git_last_commit_date: 2022-04-26 11:07:30 -0400
nebbiolo1Linux (Ubuntu 20.04.4 LTS) / x86_64  OK    OK    OK  UNNEEDED, same version is already published
palomino3Windows Server 2022 Datacenter / x64... NOT SUPPORTED ...
merida1macOS 10.14.6 Mojave / x86_64... NOT SUPPORTED ...
Package 59/93HostnameOS / ArchINSTALLBUILDCHECKBUILD BIN
NeighborNet 1.14.0  (landing page)
Sahar Ansari
git_last_commit: 80e94c3
git_last_commit_date: 2022-04-26 11:51:24 -0400
nebbiolo1Linux (Ubuntu 20.04.4 LTS) / x86_64  OK    OK    OK  UNNEEDED, same version is already published
palomino3Windows Server 2022 Datacenter / x64  OK    OK    OK    OK  UNNEEDED, same version is already published
merida1macOS 10.14.6 Mojave / x86_64  OK    OK    OK    OK  UNNEEDED, same version is already published
Package 60/93HostnameOS / ArchINSTALLBUILDCHECKBUILD BIN
netresponse 1.56.0  (landing page)
Leo Lahti
git_last_commit: 4d35485
git_last_commit_date: 2022-04-26 11:05:56 -0400
nebbiolo1Linux (Ubuntu 20.04.4 LTS) / x86_64  OK    OK    OK  UNNEEDED, same version is already published
palomino3Windows Server 2022 Datacenter / x64  OK    OK    OK    OK  UNNEEDED, same version is already published
merida1macOS 10.14.6 Mojave / x86_64  OK    OK    OK    OK  UNNEEDED, same version is already published
Package 61/93HostnameOS / ArchINSTALLBUILDCHECKBUILD BIN
OncoSimulR 3.4.0  (landing page)
Ramon Diaz-Uriarte
git_last_commit: 17fdf39
git_last_commit_date: 2022-04-26 11:20:38 -0400
nebbiolo1Linux (Ubuntu 20.04.4 LTS) / x86_64  OK    OK    OK  UNNEEDED, same version is already published
palomino3Windows Server 2022 Datacenter / x64  OK    OK    OK    OK  UNNEEDED, same version is already published
merida1macOS 10.14.6 Mojave / x86_64  OK    OK    OK    OK  UNNEEDED, same version is already published
Package 62/93HostnameOS / ArchINSTALLBUILDCHECKBUILD BIN
ontoProc 1.18.0  (landing page)
VJ Carey
git_last_commit: 6a28f6f
git_last_commit_date: 2022-04-26 11:44:47 -0400
nebbiolo1Linux (Ubuntu 20.04.4 LTS) / x86_64  OK    OK    OK  UNNEEDED, same version is already published
palomino3Windows Server 2022 Datacenter / x64  OK    OK    OK    OK  UNNEEDED, same version is already published
merida1macOS 10.14.6 Mojave / x86_64  OK    OK    OK    OK  UNNEEDED, same version is already published
Package 63/93HostnameOS / ArchINSTALLBUILDCHECKBUILD BIN
openCyto 2.8.0  (landing page)
Mike Jiang ,Jake Wagner
git_last_commit: 120a7c5
git_last_commit_date: 2022-04-26 11:16:45 -0400
nebbiolo1Linux (Ubuntu 20.04.4 LTS) / x86_64  OK    OK    OK  UNNEEDED, same version is already published
palomino3Windows Server 2022 Datacenter / x64  OK    OK    OK    OK  UNNEEDED, same version is already published
merida1macOS 10.14.6 Mojave / x86_64  OK    OK    OK    OK  UNNEEDED, same version is already published
Package 64/93HostnameOS / ArchINSTALLBUILDCHECKBUILD BIN
oposSOM 2.14.0  (landing page)
Henry Loeffler-Wirth
git_last_commit: 603a4c5
git_last_commit_date: 2022-04-26 11:20:19 -0400
nebbiolo1Linux (Ubuntu 20.04.4 LTS) / x86_64  OK    OK    WARNINGS  UNNEEDED, same version is already published
palomino3Windows Server 2022 Datacenter / x64  OK    OK    WARNINGS    OK  UNNEEDED, same version is already published
merida1macOS 10.14.6 Mojave / x86_64  OK    OK    WARNINGS    OK  UNNEEDED, same version is already published
Package 65/93HostnameOS / ArchINSTALLBUILDCHECKBUILD BIN
OrganismDbi 1.38.0  (landing page)
Bioconductor Package Maintainer
git_last_commit: 2ca0183
git_last_commit_date: 2022-04-26 11:11:57 -0400
nebbiolo1Linux (Ubuntu 20.04.4 LTS) / x86_64  OK    OK    WARNINGS  UNNEEDED, same version is already published
palomino3Windows Server 2022 Datacenter / x64  OK    OK    WARNINGS    OK  UNNEEDED, same version is already published
merida1macOS 10.14.6 Mojave / x86_64  OK    OK    WARNINGS    OK  UNNEEDED, same version is already published
Package 66/93HostnameOS / ArchINSTALLBUILDCHECKBUILD BIN
pathRender 1.64.0  (landing page)
Vince Carey
git_last_commit: 2405012
git_last_commit_date: 2022-04-26 10:57:49 -0400
nebbiolo1Linux (Ubuntu 20.04.4 LTS) / x86_64  OK    OK    OK  UNNEEDED, same version is already published
palomino3Windows Server 2022 Datacenter / x64  OK    OK    OK    OK  UNNEEDED, same version is already published
merida1macOS 10.14.6 Mojave / x86_64  OK    OK    OK    OK  UNNEEDED, same version is already published
Package 67/93HostnameOS / ArchINSTALLBUILDCHECKBUILD BIN
pathview 1.36.0  (landing page)
Weijun Luo
git_last_commit: 4f6be09
git_last_commit_date: 2022-04-26 11:13:56 -0400
nebbiolo1Linux (Ubuntu 20.04.4 LTS) / x86_64  OK    OK    WARNINGS  UNNEEDED, same version is already published
palomino3Windows Server 2022 Datacenter / x64  OK    OK    WARNINGS    OK  UNNEEDED, same version is already published
merida1macOS 10.14.6 Mojave / x86_64  OK    OK    WARNINGS    OK  UNNEEDED, same version is already published
Package 68/93HostnameOS / ArchINSTALLBUILDCHECKBUILD BIN
PFP 1.4.0  (landing page)
XC Zhang
git_last_commit: 9c8376b
git_last_commit_date: 2022-04-26 12:11:55 -0400
nebbiolo1Linux (Ubuntu 20.04.4 LTS) / x86_64  OK    OK    OK  UNNEEDED, same version is already published
palomino3Windows Server 2022 Datacenter / x64  OK    OK    OK    OK  UNNEEDED, same version is already published
merida1macOS 10.14.6 Mojave / x86_64  OK    OK    OK    OK  UNNEEDED, same version is already published
Package 69/93HostnameOS / ArchINSTALLBUILDCHECKBUILD BIN
PhenStat 2.32.0  (landing page)
Hamed Haselimashhadi
git_last_commit: 2e144f6
git_last_commit_date: 2022-04-26 11:17:16 -0400
nebbiolo1Linux (Ubuntu 20.04.4 LTS) / x86_64  OK    OK    OK  UNNEEDED, same version is already published
palomino3Windows Server 2022 Datacenter / x64  OK    OK    OK    OK  UNNEEDED, same version is already published
merida1macOS 10.14.6 Mojave / x86_64  OK    OK    OK    OK  UNNEEDED, same version is already published
Package 70/93HostnameOS / ArchINSTALLBUILDCHECKBUILD BIN
Pigengene 1.22.0  (landing page)
Habil Zare
git_last_commit: 9b1948a
git_last_commit_date: 2022-04-26 11:32:36 -0400
nebbiolo1Linux (Ubuntu 20.04.4 LTS) / x86_64  OK    OK    OK  UNNEEDED, same version is already published
palomino3Windows Server 2022 Datacenter / x64  OK    OK    OK    OK  UNNEEDED, same version is already published
merida1macOS 10.14.6 Mojave / x86_64  OK    OK    OK    OK  UNNEEDED, same version is already published
Package 71/93HostnameOS / ArchINSTALLBUILDCHECKBUILD BIN
pkgDepTools 1.62.0  (landing page)
Bioconductor Package Maintainer
git_last_commit: c448b71
git_last_commit_date: 2022-04-26 10:58:48 -0400
nebbiolo1Linux (Ubuntu 20.04.4 LTS) / x86_64  OK    OK    OK  UNNEEDED, same version is already published
palomino3Windows Server 2022 Datacenter / x64  OK    OK    OK    OK  UNNEEDED, same version is already published
merida1macOS 10.14.6 Mojave / x86_64  OK    OK    OK    OK  UNNEEDED, same version is already published
Package 72/93HostnameOS / ArchINSTALLBUILDCHECKBUILD BIN
PoTRA 1.12.0  (landing page)
Margaret Linan
git_last_commit: 23ce63f
git_last_commit_date: 2022-04-26 11:53:50 -0400
nebbiolo1Linux (Ubuntu 20.04.4 LTS) / x86_64  OK    ERROR  skipped
palomino3Windows Server 2022 Datacenter / x64  OK    ERROR  skippedskipped
merida1macOS 10.14.6 Mojave / x86_64  OK    ERROR  skippedskipped
Package 73/93HostnameOS / ArchINSTALLBUILDCHECKBUILD BIN
ppiStats 1.62.0  (landing page)
Bioconductor Package Maintainer
git_last_commit: 756eb84
git_last_commit_date: 2022-04-26 10:58:55 -0400
nebbiolo1Linux (Ubuntu 20.04.4 LTS) / x86_64  OK    OK    WARNINGS  UNNEEDED, same version is already published
palomino3Windows Server 2022 Datacenter / x64  OK    ERROR  skippedskipped
merida1macOS 10.14.6 Mojave / x86_64  OK    OK    WARNINGS    OK  UNNEEDED, same version is already published
Package 74/93HostnameOS / ArchINSTALLBUILDCHECKBUILD BIN
pwOmics 1.28.0  (landing page)
Maren Sitte
git_last_commit: cee2dac
git_last_commit_date: 2022-04-26 11:25:25 -0400
nebbiolo1Linux (Ubuntu 20.04.4 LTS) / x86_64  OK    OK    WARNINGS  UNNEEDED, same version is already published
palomino3Windows Server 2022 Datacenter / x64  OK    OK    WARNINGS    OK  UNNEEDED, same version is already published
merida1macOS 10.14.6 Mojave / x86_64  OK    OK    WARNINGS    OK  UNNEEDED, same version is already published
Package 75/93HostnameOS / ArchINSTALLBUILDCHECKBUILD BIN
qpgraph 2.30.0  (landing page)
Robert Castelo
git_last_commit: 58c292b
git_last_commit_date: 2022-04-26 11:02:28 -0400
nebbiolo1Linux (Ubuntu 20.04.4 LTS) / x86_64  OK    OK    WARNINGS  UNNEEDED, same version is already published
palomino3Windows Server 2022 Datacenter / x64  OK    OK    WARNINGS    OK  UNNEEDED, same version is already published
merida1macOS 10.14.6 Mojave / x86_64  OK    OK    WARNINGS    OK  UNNEEDED, same version is already published
Package 76/93HostnameOS / ArchINSTALLBUILDCHECKBUILD BIN
RbcBook1 1.64.0  (landing page)
Vince Carey
git_last_commit: bc251c0
git_last_commit_date: 2022-04-26 10:58:53 -0400
nebbiolo1Linux (Ubuntu 20.04.4 LTS) / x86_64  OK    OK    OK  UNNEEDED, same version is already published
palomino3Windows Server 2022 Datacenter / x64  OK    OK    OK    OK  UNNEEDED, same version is already published
merida1macOS 10.14.6 Mojave / x86_64  OK    OK    OK    OK  UNNEEDED, same version is already published
Package 77/93HostnameOS / ArchINSTALLBUILDCHECKBUILD BIN
RBGL 1.72.0  (landing page)
Bioconductor Package Maintainer
git_last_commit: a86f310
git_last_commit_date: 2022-04-26 10:55:17 -0400
nebbiolo1Linux (Ubuntu 20.04.4 LTS) / x86_64  OK    OK    WARNINGS  UNNEEDED, same version is already published
palomino3Windows Server 2022 Datacenter / x64  OK    OK    WARNINGS    OK  UNNEEDED, same version is already published
merida1macOS 10.14.6 Mojave / x86_64  OK    OK    OK    OK  UNNEEDED, same version is already published
Package 78/93HostnameOS / ArchINSTALLBUILDCHECKBUILD BIN
RBioinf 1.56.0  (landing page)
Robert Gentleman
git_last_commit: bca20b4
git_last_commit_date: 2022-04-26 11:01:03 -0400
nebbiolo1Linux (Ubuntu 20.04.4 LTS) / x86_64  OK    OK    OK  UNNEEDED, same version is already published
palomino3Windows Server 2022 Datacenter / x64  OK    OK    OK    OK  UNNEEDED, same version is already published
merida1macOS 10.14.6 Mojave / x86_64  OK    OK    OK    OK  UNNEEDED, same version is already published
Package 79/93HostnameOS / ArchINSTALLBUILDCHECKBUILD BIN
RCy3 2.16.0  (landing page)
Alex Pico
git_last_commit: 9488419
git_last_commit_date: 2022-04-26 11:27:59 -0400
nebbiolo1Linux (Ubuntu 20.04.4 LTS) / x86_64  OK    OK    OK  UNNEEDED, same version is already published
palomino3Windows Server 2022 Datacenter / x64  OK    OK    OK    OK  UNNEEDED, same version is already published
merida1macOS 10.14.6 Mojave / x86_64  OK    OK    OK    OK  UNNEEDED, same version is already published
Package 80/93HostnameOS / ArchINSTALLBUILDCHECKBUILD BIN
RCyjs 2.18.0  (landing page)
Paul Shannon
git_last_commit: 90ee158
git_last_commit_date: 2022-04-26 11:25:00 -0400
nebbiolo1Linux (Ubuntu 20.04.4 LTS) / x86_64  OK    OK    WARNINGS  UNNEEDED, same version is already published
palomino3Windows Server 2022 Datacenter / x64  OK    OK    WARNINGS    OK  UNNEEDED, same version is already published
merida1macOS 10.14.6 Mojave / x86_64  OK    OK    WARNINGS    OK  UNNEEDED, same version is already published
Package 81/93HostnameOS / ArchINSTALLBUILDCHECKBUILD BIN
RGraph2js 1.24.0  (landing page)
Stephane Cano
git_last_commit: 030a0fa
git_last_commit_date: 2022-04-26 11:29:08 -0400
nebbiolo1Linux (Ubuntu 20.04.4 LTS) / x86_64  OK    OK    OK  UNNEEDED, same version is already published
palomino3Windows Server 2022 Datacenter / x64  OK    OK    OK    OK  UNNEEDED, same version is already published
merida1macOS 10.14.6 Mojave / x86_64  OK    OK    OK    OK  UNNEEDED, same version is already published
Package 82/93HostnameOS / ArchINSTALLBUILDCHECKBUILD BIN
Rgraphviz 2.40.0  (landing page)
Kasper Daniel Hansen
git_last_commit: d864c97
git_last_commit_date: 2022-04-26 10:54:52 -0400
nebbiolo1Linux (Ubuntu 20.04.4 LTS) / x86_64  OK    OK    WARNINGS  UNNEEDED, same version is already published
palomino3Windows Server 2022 Datacenter / x64  OK    OK    WARNINGS    OK  UNNEEDED, same version is already published
merida1macOS 10.14.6 Mojave / x86_64  OK    OK    WARNINGS    OK  UNNEEDED, same version is already published
Package 83/93HostnameOS / ArchINSTALLBUILDCHECKBUILD BIN
ROntoTools 2.24.0  (landing page)
Calin Voichita
git_last_commit: 2ab8ea9
git_last_commit_date: 2022-04-26 11:14:12 -0400
nebbiolo1Linux (Ubuntu 20.04.4 LTS) / x86_64  OK    OK    OK  UNNEEDED, same version is already published
palomino3Windows Server 2022 Datacenter / x64  OK    OK    OK    OK  UNNEEDED, same version is already published
merida1macOS 10.14.6 Mojave / x86_64  OK    OK    OK    OK  UNNEEDED, same version is already published
Package 84/93HostnameOS / ArchINSTALLBUILDCHECKBUILD BIN
RpsiXML 2.38.0  (landing page)
Jitao David Zhang
git_last_commit: c2e1b0f
git_last_commit_date: 2022-04-26 11:01:44 -0400
nebbiolo1Linux (Ubuntu 20.04.4 LTS) / x86_64  OK    OK    WARNINGS  UNNEEDED, same version is already published
palomino3Windows Server 2022 Datacenter / x64  OK    OK    WARNINGS    OK  UNNEEDED, same version is already published
merida1macOS 10.14.6 Mojave / x86_64  OK    OK    WARNINGS    OK  UNNEEDED, same version is already published
Package 85/93HostnameOS / ArchINSTALLBUILDCHECKBUILD BIN
rsbml 2.54.0  (landing page)
Michael Lawrence
git_last_commit: f1b961c
git_last_commit_date: 2022-04-26 11:00:24 -0400
nebbiolo1Linux (Ubuntu 20.04.4 LTS) / x86_64  OK    OK    WARNINGS  UNNEEDED, same version is already published
palomino3Windows Server 2022 Datacenter / x64  OK    OK    WARNINGS    OK  UNNEEDED, same version is already published
merida1macOS 10.14.6 Mojave / x86_64... NOT SUPPORTED ...
Package 86/93HostnameOS / ArchINSTALLBUILDCHECKBUILD BIN
Rtreemix 1.58.0  (landing page)
Jasmina Bogojeska
git_last_commit: 921e0a8
git_last_commit_date: 2022-04-26 11:00:33 -0400
nebbiolo1Linux (Ubuntu 20.04.4 LTS) / x86_64  OK    OK    OK  UNNEEDED, same version is already published
palomino3Windows Server 2022 Datacenter / x64  OK    OK    OK    OK  UNNEEDED, same version is already published
merida1macOS 10.14.6 Mojave / x86_64  OK    OK    OK    OK  UNNEEDED, same version is already published
Package 87/93HostnameOS / ArchINSTALLBUILDCHECKBUILD BIN
SplicingGraphs 1.36.0  (landing page)
H. Pagès
git_last_commit: 7151ba0
git_last_commit_date: 2022-04-26 11:14:47 -0400
nebbiolo1Linux (Ubuntu 20.04.4 LTS) / x86_64  OK    OK    WARNINGS  UNNEEDED, same version is already published
palomino3Windows Server 2022 Datacenter / x64  OK    OK    WARNINGS    OK  UNNEEDED, same version is already published
merida1macOS 10.14.6 Mojave / x86_64  OK    OK    WARNINGS    OK  UNNEEDED, same version is already published
Package 88/93HostnameOS / ArchINSTALLBUILDCHECKBUILD BIN
SRAdb 1.58.0  (landing page)
Jack Zhu
git_last_commit: 4ee71f4
git_last_commit_date: 2022-04-26 11:04:40 -0400
nebbiolo1Linux (Ubuntu 20.04.4 LTS) / x86_64  OK    OK    OK  UNNEEDED, same version is already published
palomino3Windows Server 2022 Datacenter / x64  OK    OK    OK    OK  UNNEEDED, same version is already published
merida1macOS 10.14.6 Mojave / x86_64  OK    OK    OK    OK  UNNEEDED, same version is already published
Package 89/93HostnameOS / ArchINSTALLBUILDCHECKBUILD BIN
Streamer 1.42.0  (landing page)
Martin Morgan
git_last_commit: 007dfe7
git_last_commit_date: 2022-04-26 11:08:31 -0400
nebbiolo1Linux (Ubuntu 20.04.4 LTS) / x86_64  OK    OK    OK  UNNEEDED, same version is already published
palomino3Windows Server 2022 Datacenter / x64  OK    OK    OK    OK  UNNEEDED, same version is already published
merida1macOS 10.14.6 Mojave / x86_64  OK    OK    OK    OK  UNNEEDED, same version is already published
Package 90/93HostnameOS / ArchINSTALLBUILDCHECKBUILD BIN
topGO 2.48.0  (landing page)
Adrian Alexa
git_last_commit: a47f007
git_last_commit_date: 2022-04-26 10:59:24 -0400
nebbiolo1Linux (Ubuntu 20.04.4 LTS) / x86_64  OK    OK    OK  UNNEEDED, same version is already published
palomino3Windows Server 2022 Datacenter / x64  OK    OK    OK    OK  UNNEEDED, same version is already published
merida1macOS 10.14.6 Mojave / x86_64  OK    OK    OK    OK  UNNEEDED, same version is already published
Package 91/93HostnameOS / ArchINSTALLBUILDCHECKBUILD BIN
trackViewer 1.32.1  (landing page)
Jianhong Ou
git_last_commit: 7878202
git_last_commit_date: 2022-05-04 16:37:29 -0400
nebbiolo1Linux (Ubuntu 20.04.4 LTS) / x86_64  OK    OK    OK  UNNEEDED, same version is already published
palomino3Windows Server 2022 Datacenter / x64  OK    OK    OK    OK  UNNEEDED, same version is already published
merida1macOS 10.14.6 Mojave / x86_64  OK    OK    OK    OK  UNNEEDED, same version is already published
Package 92/93HostnameOS / ArchINSTALLBUILDCHECKBUILD BIN
VariantFiltering 1.32.0  (landing page)
Robert Castelo
git_last_commit: e5baf3d
git_last_commit_date: 2022-04-26 11:19:20 -0400
nebbiolo1Linux (Ubuntu 20.04.4 LTS) / x86_64  OK    OK    OK  UNNEEDED, same version is already published
palomino3Windows Server 2022 Datacenter / x64  OK    OK    OK    OK  UNNEEDED, same version is already published
merida1macOS 10.14.6 Mojave / x86_64  OK    OK    OK    OK  UNNEEDED, same version is already published
Package 93/93HostnameOS / ArchINSTALLBUILDCHECKBUILD BIN
vtpnet 0.36.0  (landing page)
VJ Carey
git_last_commit: a5c78f7
git_last_commit_date: 2022-04-26 11:15:04 -0400
nebbiolo1Linux (Ubuntu 20.04.4 LTS) / x86_64  OK    OK    OK  UNNEEDED, same version is already published
palomino3Windows Server 2022 Datacenter / x64  OK    OK    OK    OK  UNNEEDED, same version is already published
merida1macOS 10.14.6 Mojave / x86_64  OK    OK    OK    OK  UNNEEDED, same version is already published