Back to Multiple platform build/check report for BioC 3.15
ABCDEFGHIJKLMNOPQRST[U]VWXYZ

This page was generated on 2022-01-20 11:05:12 -0500 (Thu, 20 Jan 2022).

HostnameOSArch (*)R versionInstalled pkgs
nebbiolo1Linux (Ubuntu 20.04.4 LTS)x86_64R Under development (unstable) (2022-01-05 r81451) -- "Unsuffered Consequences" 4162
riesling1Windows Server 2019 Standardx64R Under development (unstable) (2021-11-21 r81221) -- "Unsuffered Consequences" 4057
palomino3Windows Server 2022 Datacenterx64R Under development (unstable) (2021-12-21 r81400 ucrt) -- "Unsuffered Consequences" 3999
merida1macOS 10.14.6 Mojavex86_64R Under development (unstable) (2022-01-05 r81451) -- "Unsuffered Consequences" 4116
Click on any hostname to see more info about the system (e.g. compilers)      (*) as reported by 'uname -p', except on Windows and Mac OS X

All results for package UniProt.ws


To the developers/maintainers of the UniProt.ws package:
- Please allow up to 24 hours (and sometimes 48 hours) for your latest push to git@git.bioconductor.org:packages/UniProt.ws.git to
reflect on this report. See How and When does the builder pull? When will my changes propagate? here for more information.
- Make sure to use the following settings in order to reproduce any error or warning you see on this page.

raw results

Package 2021/2074HostnameOS / ArchINSTALLBUILDCHECKBUILD BIN
UniProt.ws 2.35.0  (landing page)
Bioconductor Package Maintainer
Snapshot Date: 2022-01-19 13:55:26 -0500 (Wed, 19 Jan 2022)
git_url: https://git.bioconductor.org/packages/UniProt.ws
git_branch: master
git_last_commit: bd5237b
git_last_commit_date: 2021-10-26 12:05:27 -0500 (Tue, 26 Oct 2021)
nebbiolo1Linux (Ubuntu 20.04.4 LTS) / x86_64  OK    OK    OK  UNNEEDED, same version is already published
riesling1Windows Server 2019 Standard / x64  OK    ERROR  skippedskipped
palomino3Windows Server 2022 Datacenter / x64  OK    OK    OK    OK  NO, package depends on 'BiocGenerics' which is not available
merida1macOS 10.14.6 Mojave / x86_64  OK    OK    OK    OK  UNNEEDED, same version is already published

Results for Bioconductor software packages that depend directly on package UniProt.ws

QUICK STATSOS / ArchINSTALLBUILDCHECKBUILD BIN
nebbiolo1Linux (Ubuntu 20.04.4 LTS) / x86_64
002
002
0002
riesling1Windows Server 2019 Standard / x64
002
002
0002
002
palomino3Windows Server 2022 Datacenter / x64
002
002
0002
002
merida1macOS 10.14.6 Mojave / x86_64
002
002
0002
002
Package 1/2HostnameOS / ArchINSTALLBUILDCHECKBUILD BIN
dagLogo 1.33.0  (landing page)
Jianhong Ou
git_last_commit: 612391b
git_last_commit_date: 2021-10-26 12:10:15 -0500
nebbiolo1Linux (Ubuntu 20.04.4 LTS) / x86_64  OK    OK    OK  UNNEEDED, same version is already published
riesling1Windows Server 2019 Standard / x64  OK    OK    OK    OK  
palomino3Windows Server 2022 Datacenter / x64  OK    OK    OK    OK  NO, package depends on 'Biostrings' which is not available
merida1macOS 10.14.6 Mojave / x86_64  OK    OK    OK    OK  UNNEEDED, same version is already published
Package 2/2HostnameOS / ArchINSTALLBUILDCHECKBUILD BIN
drugTargetInteractions 1.3.0  (landing page)
Thomas Girke
git_last_commit: 3a1520e
git_last_commit_date: 2021-10-26 13:08:09 -0500
nebbiolo1Linux (Ubuntu 20.04.4 LTS) / x86_64  OK    OK    OK  UNNEEDED, same version is already published
riesling1Windows Server 2019 Standard / x64  OK    OK    OK    OK  
palomino3Windows Server 2022 Datacenter / x64  OK    OK    OK    OK  NO, package depends on 'UniProt.ws' which is not available
merida1macOS 10.14.6 Mojave / x86_64  OK    OK    OK    OK  UNNEEDED, same version is already published