Back to Multiple platform build/check report for BioC 3.14
[A]BCDEFGHIJKLMNOPQRSTUVWXYZ

This page was generated on 2021-11-29 15:04:15 -0500 (Mon, 29 Nov 2021).

All results for package AnnotationDbi

To the developers/maintainers of the AnnotationDbi package:
- Please allow up to 24 hours (and sometimes 48 hours) for your latest push to git@git.bioconductor.org:packages/AnnotationDbi.git to
reflect on this report. See How and When does the builder pull? When will my changes propagate? here for more information.
- Make sure to use the following settings in order to reproduce any error or warning you see on this page.

raw results

Package 60/2083HostnameOS / ArchINSTALLBUILDCHECKBUILD BIN
AnnotationDbi 1.56.2  (landing page)
Bioconductor Package Maintainer
Snapshot Date: 2021-11-28 04:15:06 -0500 (Sun, 28 Nov 2021)
git_url: https://git.bioconductor.org/packages/AnnotationDbi
git_branch: RELEASE_3_14
git_last_commit: 13fdc4a
git_last_commit_date: 2021-11-09 12:05:33 -0500 (Tue, 09 Nov 2021)
nebbiolo2Linux (Ubuntu 20.04.3 LTS) / x86_64  OK    OK    OK  UNNEEDED, same version is already published
tokay2Windows Server 2012 R2 Standard / x64  OK    OK    OK    OK  UNNEEDED, same version is already published
machv2macOS 10.14.6 Mojave / x86_64  OK    OK    OK    OK  UNNEEDED, same version is already published

Results for Bioconductor software packages that depend directly on package AnnotationDbi

QUICK STATSOS / ArchINSTALLBUILDCHECKBUILD BIN
nebbiolo2Linux (Ubuntu 20.04.3 LTS) / x86_64
02189
06185
0728150
tokay2Windows Server 2012 R2 Standard / x64
02189
07184
01328143
00184
machv2macOS 10.14.6 Mojave / x86_64
02189
03188
0927152
00188
Package 1/191HostnameOS / ArchINSTALLBUILDCHECKBUILD BIN
adSplit 1.64.0  (landing page)
Claudio Lottaz
git_last_commit: 32f150e
git_last_commit_date: 2021-10-26 11:49:19 -0500
nebbiolo2Linux (Ubuntu 20.04.3 LTS) / x86_64  OK    OK    OK  UNNEEDED, same version is already published
tokay2Windows Server 2012 R2 Standard / x64  OK    OK    OK    OK  UNNEEDED, same version is already published
machv2macOS 10.14.6 Mojave / x86_64  OK    OK    OK    OK  UNNEEDED, same version is already published
Package 2/191HostnameOS / ArchINSTALLBUILDCHECKBUILD BIN
affycoretools 1.66.0  (landing page)
James W. MacDonald
git_last_commit: 6bf769d
git_last_commit_date: 2021-10-26 11:48:47 -0500
nebbiolo2Linux (Ubuntu 20.04.3 LTS) / x86_64  OK    OK    WARNINGS  UNNEEDED, same version is already published
tokay2Windows Server 2012 R2 Standard / x64  OK    OK    WARNINGS    OK  UNNEEDED, same version is already published
machv2macOS 10.14.6 Mojave / x86_64  OK    OK    WARNINGS    OK  UNNEEDED, same version is already published
Package 3/191HostnameOS / ArchINSTALLBUILDCHECKBUILD BIN
affylmGUI 1.68.0  (landing page)
Gordon Smyth
git_last_commit: e6b1079
git_last_commit_date: 2021-10-26 11:46:50 -0500
nebbiolo2Linux (Ubuntu 20.04.3 LTS) / x86_64  OK    OK    OK  UNNEEDED, same version is already published
tokay2Windows Server 2012 R2 Standard / x64  OK    OK    OK    OK  UNNEEDED, same version is already published
machv2macOS 10.14.6 Mojave / x86_64  OK    OK    OK    OK  UNNEEDED, same version is already published
Package 4/191HostnameOS / ArchINSTALLBUILDCHECKBUILD BIN
AllelicImbalance 1.32.0  (landing page)
Jesper R Gadin
git_last_commit: 428ab8c
git_last_commit_date: 2021-10-26 12:10:09 -0500
nebbiolo2Linux (Ubuntu 20.04.3 LTS) / x86_64  OK    OK    OK  UNNEEDED, same version is already published
tokay2Windows Server 2012 R2 Standard / x64  OK    OK    OK    OK  UNNEEDED, same version is already published
machv2macOS 10.14.6 Mojave / x86_64  OK    OK    OK    OK  UNNEEDED, same version is already published
Package 5/191HostnameOS / ArchINSTALLBUILDCHECKBUILD BIN
annaffy 1.66.0  (landing page)
Colin A. Smith
git_last_commit: aa1afa1
git_last_commit_date: 2021-10-26 11:46:08 -0500
nebbiolo2Linux (Ubuntu 20.04.3 LTS) / x86_64  OK    OK    WARNINGS  UNNEEDED, same version is already published
tokay2Windows Server 2012 R2 Standard / x64  OK    OK    WARNINGS    OK  UNNEEDED, same version is already published
machv2macOS 10.14.6 Mojave / x86_64  OK    OK    WARNINGS    OK  UNNEEDED, same version is already published
Package 6/191HostnameOS / ArchINSTALLBUILDCHECKBUILD BIN
annotate 1.72.0  (landing page)
Bioconductor Package Maintainer
git_last_commit: 67ac76a
git_last_commit_date: 2021-10-26 11:45:29 -0500
nebbiolo2Linux (Ubuntu 20.04.3 LTS) / x86_64  OK    OK    OK  UNNEEDED, same version is already published
tokay2Windows Server 2012 R2 Standard / x64  OK    OK    ERROR    OK  
machv2macOS 10.14.6 Mojave / x86_64  OK    OK    OK    OK  UNNEEDED, same version is already published
Package 7/191HostnameOS / ArchINSTALLBUILDCHECKBUILD BIN
AnnotationForge 1.36.0  (landing page)
Bioconductor Package Maintainer
git_last_commit: 523b5f0
git_last_commit_date: 2021-10-26 12:03:32 -0500
nebbiolo2Linux (Ubuntu 20.04.3 LTS) / x86_64  OK    OK    OK  UNNEEDED, same version is already published
tokay2Windows Server 2012 R2 Standard / x64  OK    OK    OK    OK  UNNEEDED, same version is already published
machv2macOS 10.14.6 Mojave / x86_64  OK    OK    OK    OK  UNNEEDED, same version is already published
Package 8/191HostnameOS / ArchINSTALLBUILDCHECKBUILD BIN
AnnotationHub 3.2.0  (landing page)
Bioconductor Package Maintainer
git_last_commit: 873fb33
git_last_commit_date: 2021-10-26 12:07:32 -0500
nebbiolo2Linux (Ubuntu 20.04.3 LTS) / x86_64  OK    OK    WARNINGS  UNNEEDED, same version is already published
tokay2Windows Server 2012 R2 Standard / x64  OK    OK    WARNINGS    OK  UNNEEDED, same version is already published
machv2macOS 10.14.6 Mojave / x86_64  OK    OK    WARNINGS    OK  UNNEEDED, same version is already published
Package 9/191HostnameOS / ArchINSTALLBUILDCHECKBUILD BIN
AnnotationHubData 1.24.1  (landing page)
Bioconductor Package Maintainer
git_last_commit: c665598
git_last_commit_date: 2021-11-24 12:54:20 -0500
nebbiolo2Linux (Ubuntu 20.04.3 LTS) / x86_64  OK    OK    WARNINGS  UNNEEDED, same version is already published
tokay2Windows Server 2012 R2 Standard / x64  OK    OK    WARNINGS    OK  UNNEEDED, same version is already published
machv2macOS 10.14.6 Mojave / x86_64  OK    OK    WARNINGS    OK  UNNEEDED, same version is already published
Package 10/191HostnameOS / ArchINSTALLBUILDCHECKBUILD BIN
annotatr 1.20.0  (landing page)
Raymond G. Cavalcante
git_last_commit: aa03096
git_last_commit_date: 2021-10-26 12:30:59 -0500
nebbiolo2Linux (Ubuntu 20.04.3 LTS) / x86_64  OK    OK    OK  UNNEEDED, same version is already published
tokay2Windows Server 2012 R2 Standard / x64  OK    OK    OK    OK  UNNEEDED, same version is already published
machv2macOS 10.14.6 Mojave / x86_64  OK    OK    OK    OK  UNNEEDED, same version is already published
Package 11/191HostnameOS / ArchINSTALLBUILDCHECKBUILD BIN
artMS 1.12.0  (landing page)
David Jimenez-Morales
git_last_commit: 58efc32
git_last_commit_date: 2021-10-26 12:47:58 -0500
nebbiolo2Linux (Ubuntu 20.04.3 LTS) / x86_64  OK    OK    OK  UNNEEDED, same version is already published
tokay2Windows Server 2012 R2 Standard / x64  OK    OK    OK    OK  UNNEEDED, same version is already published
machv2macOS 10.14.6 Mojave / x86_64  OK    OK    OK    OK  UNNEEDED, same version is already published
Package 12/191HostnameOS / ArchINSTALLBUILDCHECKBUILD BIN
ASpli 2.4.0  (landing page)
Estefania Mancini
git_last_commit: 9dad6f1
git_last_commit_date: 2021-10-26 12:29:18 -0500
nebbiolo2Linux (Ubuntu 20.04.3 LTS) / x86_64  OK    OK    OK  UNNEEDED, same version is already published
tokay2Windows Server 2012 R2 Standard / x64  OK    OK    OK    OK  UNNEEDED, same version is already published
machv2macOS 10.14.6 Mojave / x86_64  OK    OK    OK    OK  UNNEEDED, same version is already published
Package 13/191HostnameOS / ArchINSTALLBUILDCHECKBUILD BIN
attract 1.46.0  (landing page)
Samuel Zimmerman
git_last_commit: 8500b7d
git_last_commit_date: 2021-10-26 11:56:18 -0500
nebbiolo2Linux (Ubuntu 20.04.3 LTS) / x86_64  OK    OK    OK  UNNEEDED, same version is already published
tokay2Windows Server 2012 R2 Standard / x64  OK    OK    OK    OK  UNNEEDED, same version is already published
machv2macOS 10.14.6 Mojave / x86_64  OK    OK    OK    OK  UNNEEDED, same version is already published
Package 14/191HostnameOS / ArchINSTALLBUILDCHECKBUILD BIN
beadarray 2.44.0  (landing page)
Mark Dunning
git_last_commit: c35a5ce
git_last_commit_date: 2021-10-26 11:49:14 -0500
nebbiolo2Linux (Ubuntu 20.04.3 LTS) / x86_64  OK    OK    OK  UNNEEDED, same version is already published
tokay2Windows Server 2012 R2 Standard / x64  OK    OK    OK    OK  UNNEEDED, same version is already published
machv2macOS 10.14.6 Mojave / x86_64  OK    OK    OK    OK  UNNEEDED, same version is already published
Package 15/191HostnameOS / ArchINSTALLBUILDCHECKBUILD BIN
bioCancer 1.22.0  (landing page)
Karim Mezhoud
git_last_commit: bd61aa9
git_last_commit_date: 2021-10-26 12:28:03 -0500
nebbiolo2Linux (Ubuntu 20.04.3 LTS) / x86_64  OK    OK    OK  UNNEEDED, same version is already published
tokay2Windows Server 2012 R2 Standard / x64  OK    OK    OK    OK  UNNEEDED, same version is already published
machv2macOS 10.14.6 Mojave / x86_64  OK    OK    OK    OK  UNNEEDED, same version is already published
Package 16/191HostnameOS / ArchINSTALLBUILDCHECKBUILD BIN
BiocSet 1.8.1  (landing page)
Kayla Morrell
git_last_commit: 1f7d340
git_last_commit_date: 2021-11-02 15:26:58 -0500
nebbiolo2Linux (Ubuntu 20.04.3 LTS) / x86_64  OK    OK    OK  UNNEEDED, same version is already published
tokay2Windows Server 2012 R2 Standard / x64  OK    OK    OK    OK  UNNEEDED, same version is already published
machv2macOS 10.14.6 Mojave / x86_64  OK    OK    OK    OK  UNNEEDED, same version is already published
Package 17/191HostnameOS / ArchINSTALLBUILDCHECKBUILD BIN
biomaRt 2.50.1  (landing page)
Mike Smith
git_last_commit: d0de544
git_last_commit_date: 2021-11-19 02:30:11 -0500
nebbiolo2Linux (Ubuntu 20.04.3 LTS) / x86_64  OK    ERROR  skipped
tokay2Windows Server 2012 R2 Standard / x64  OK    OK    ERROR    OK  
machv2macOS 10.14.6 Mojave / x86_64  OK    OK    OK    OK  UNNEEDED, same version is already published
Package 18/191HostnameOS / ArchINSTALLBUILDCHECKBUILD BIN
BioNet 1.54.0  (landing page)
Marcus Dittrich
git_last_commit: 09b4d2f
git_last_commit_date: 2021-10-26 11:56:40 -0500
nebbiolo2Linux (Ubuntu 20.04.3 LTS) / x86_64  OK    OK    OK  UNNEEDED, same version is already published
tokay2Windows Server 2012 R2 Standard / x64  OK    OK    OK    OK  UNNEEDED, same version is already published
machv2macOS 10.14.6 Mojave / x86_64  OK    OK    OK    OK  UNNEEDED, same version is already published
Package 19/191HostnameOS / ArchINSTALLBUILDCHECKBUILD BIN
biovizBase 1.42.0  (landing page)
Michael Lawrence
git_last_commit: f1627b2
git_last_commit_date: 2021-10-26 12:00:34 -0500
nebbiolo2Linux (Ubuntu 20.04.3 LTS) / x86_64  OK    OK    WARNINGS  UNNEEDED, same version is already published
tokay2Windows Server 2012 R2 Standard / x64  OK    OK    WARNINGS    OK  UNNEEDED, same version is already published
machv2macOS 10.14.6 Mojave / x86_64  OK    OK    WARNINGS    OK  UNNEEDED, same version is already published
Package 20/191HostnameOS / ArchINSTALLBUILDCHECKBUILD BIN
bumphunter 1.36.0  (landing page)
Tamilselvi Guharaj
git_last_commit: db50fcf
git_last_commit_date: 2021-10-27 13:17:03 -0500
nebbiolo2Linux (Ubuntu 20.04.3 LTS) / x86_64  OK    OK    OK  UNNEEDED, same version is already published
tokay2Windows Server 2012 R2 Standard / x64  OK    OK    OK    OK  UNNEEDED, same version is already published
machv2macOS 10.14.6 Mojave / x86_64  OK    OK    OK    OK  UNNEEDED, same version is already published
Package 21/191HostnameOS / ArchINSTALLBUILDCHECKBUILD BIN
BUSpaRse 1.8.0  (landing page)
Lambda Moses
git_last_commit: fa528cf
git_last_commit_date: 2021-10-26 12:53:45 -0500
nebbiolo2Linux (Ubuntu 20.04.3 LTS) / x86_64  OK    ERROR  skipped
tokay2Windows Server 2012 R2 Standard / x64  OK    OK    ERROR    OK  
machv2macOS 10.14.6 Mojave / x86_64  OK    OK    OK    OK  UNNEEDED, same version is already published
Package 22/191HostnameOS / ArchINSTALLBUILDCHECKBUILD BIN
Category 2.60.0  (landing page)
Bioconductor Package Maintainer
git_last_commit: 55210d8
git_last_commit_date: 2021-10-26 11:48:11 -0500
nebbiolo2Linux (Ubuntu 20.04.3 LTS) / x86_64  OK    OK    OK  UNNEEDED, same version is already published
tokay2Windows Server 2012 R2 Standard / x64  OK    OK    OK    OK  UNNEEDED, same version is already published
machv2macOS 10.14.6 Mojave / x86_64  OK    OK    OK    OK  UNNEEDED, same version is already published
Package 23/191HostnameOS / ArchINSTALLBUILDCHECKBUILD BIN
categoryCompare 1.38.0  (landing page)
Robert M. Flight
git_last_commit: 13d544a
git_last_commit_date: 2021-10-26 12:03:05 -0500
nebbiolo2Linux (Ubuntu 20.04.3 LTS) / x86_64  OK    OK    OK  UNNEEDED, same version is already published
tokay2Windows Server 2012 R2 Standard / x64  OK    OK    OK    OK  UNNEEDED, same version is already published
machv2macOS 10.14.6 Mojave / x86_64  OK    OK    OK    OK  UNNEEDED, same version is already published
Package 24/191HostnameOS / ArchINSTALLBUILDCHECKBUILD BIN
ccmap 1.20.0  (landing page)
Alex Pickering
git_last_commit: d35437b
git_last_commit_date: 2021-10-26 12:28:42 -0500
nebbiolo2Linux (Ubuntu 20.04.3 LTS) / x86_64  OK    OK    WARNINGS  UNNEEDED, same version is already published
tokay2Windows Server 2012 R2 Standard / x64  OK    OK    WARNINGS    OK  UNNEEDED, same version is already published
machv2macOS 10.14.6 Mojave / x86_64  OK    OK    WARNINGS    OK  UNNEEDED, same version is already published
Package 25/191HostnameOS / ArchINSTALLBUILDCHECKBUILD BIN
cellity 1.22.0  (landing page)
Tomislav Ilicic
git_last_commit: f0807a5
git_last_commit_date: 2021-10-26 12:25:43 -0500
nebbiolo2Linux (Ubuntu 20.04.3 LTS) / x86_64  OK    OK    OK  UNNEEDED, same version is already published
tokay2Windows Server 2012 R2 Standard / x64  OK    OK    OK    OK  UNNEEDED, same version is already published
machv2macOS 10.14.6 Mojave / x86_64  OK    OK    OK    OK  UNNEEDED, same version is already published
Package 26/191HostnameOS / ArchINSTALLBUILDCHECKBUILD BIN
chimeraviz 1.20.0  (landing page)
Stian Lågstad
git_last_commit: 2e8573d
git_last_commit_date: 2021-10-26 12:31:52 -0500
nebbiolo2Linux (Ubuntu 20.04.3 LTS) / x86_64  OK    OK    OK  UNNEEDED, same version is already published
tokay2Windows Server 2012 R2 Standard / x64  OK    OK    OK    OK  UNNEEDED, same version is already published
machv2macOS 10.14.6 Mojave / x86_64  OK    OK    OK    OK  UNNEEDED, same version is already published
Package 27/191HostnameOS / ArchINSTALLBUILDCHECKBUILD BIN
chipenrich 2.18.0  (landing page)
Raymond G. Cavalcante
git_last_commit: 3af75df
git_last_commit_date: 2021-10-26 12:09:44 -0500
nebbiolo2Linux (Ubuntu 20.04.3 LTS) / x86_64  OK    OK    OK  UNNEEDED, same version is already published
tokay2Windows Server 2012 R2 Standard / x64  OK    OK    OK    OK  UNNEEDED, same version is already published
machv2macOS 10.14.6 Mojave / x86_64  OK    OK    OK    OK  UNNEEDED, same version is already published
Package 28/191HostnameOS / ArchINSTALLBUILDCHECKBUILD BIN
ChIPpeakAnno 3.28.0  (landing page)
Jianhong Ou
git_last_commit: da1bfa1
git_last_commit_date: 2021-10-26 11:54:17 -0500
nebbiolo2Linux (Ubuntu 20.04.3 LTS) / x86_64  OK    OK    OK  UNNEEDED, same version is already published
tokay2Windows Server 2012 R2 Standard / x64  OK    OK    OK    OK  UNNEEDED, same version is already published
machv2macOS 10.14.6 Mojave / x86_64  OK    OK    OK    OK  UNNEEDED, same version is already published
Package 29/191HostnameOS / ArchINSTALLBUILDCHECKBUILD BIN
ChIPseeker 1.30.2  (landing page)
Guangchuang Yu
git_last_commit: 80e3fca
git_last_commit_date: 2021-11-10 03:53:57 -0500
nebbiolo2Linux (Ubuntu 20.04.3 LTS) / x86_64  OK    OK    OK  UNNEEDED, same version is already published
tokay2Windows Server 2012 R2 Standard / x64  OK    OK    OK    OK  UNNEEDED, same version is already published
machv2macOS 10.14.6 Mojave / x86_64  OK    OK    OK    OK  UNNEEDED, same version is already published
Package 30/191HostnameOS / ArchINSTALLBUILDCHECKBUILD BIN
ChromHeatMap 1.48.0  (landing page)
Tim F. Rayner
git_last_commit: 488d509
git_last_commit_date: 2021-10-26 11:54:52 -0500
nebbiolo2Linux (Ubuntu 20.04.3 LTS) / x86_64  OK    OK    OK  UNNEEDED, same version is already published
tokay2Windows Server 2012 R2 Standard / x64  OK    OK    OK    OK  UNNEEDED, same version is already published
machv2macOS 10.14.6 Mojave / x86_64  OK    OK    OK    OK  UNNEEDED, same version is already published
Package 31/191HostnameOS / ArchINSTALLBUILDCHECKBUILD BIN
clusterProfiler 4.2.0  (landing page)
Guangchuang Yu
git_last_commit: aae0e16
git_last_commit_date: 2021-10-26 11:58:23 -0500
nebbiolo2Linux (Ubuntu 20.04.3 LTS) / x86_64  OK    OK    OK  UNNEEDED, same version is already published
tokay2Windows Server 2012 R2 Standard / x64  OK    OK    OK    OK  UNNEEDED, same version is already published
machv2macOS 10.14.6 Mojave / x86_64  OK    OK    OK    OK  UNNEEDED, same version is already published
Package 32/191HostnameOS / ArchINSTALLBUILDCHECKBUILD BIN
CoCiteStats 1.66.0  (landing page)
Bioconductor Package Maintainer
git_last_commit: f43f5f0
git_last_commit_date: 2021-10-26 11:47:37 -0500
nebbiolo2Linux (Ubuntu 20.04.3 LTS) / x86_64  OK    OK    OK  UNNEEDED, same version is already published
tokay2Windows Server 2012 R2 Standard / x64  OK    OK    OK    OK  UNNEEDED, same version is already published
machv2macOS 10.14.6 Mojave / x86_64  OK    OK    OK    OK  UNNEEDED, same version is already published
Package 33/191HostnameOS / ArchINSTALLBUILDCHECKBUILD BIN
Cogito 1.0.0  (landing page)
Annika Bürger
git_last_commit: 3eb15c7
git_last_commit_date: 2021-10-26 13:13:23 -0500
nebbiolo2Linux (Ubuntu 20.04.3 LTS) / x86_64  OK    OK    OK  UNNEEDED, same version is already published
tokay2Windows Server 2012 R2 Standard / x64  OK    OK    OK    OK  UNNEEDED, same version is already published
machv2macOS 10.14.6 Mojave / x86_64  OK    OK    OK    OK  UNNEEDED, same version is already published
Package 34/191HostnameOS / ArchINSTALLBUILDCHECKBUILD BIN
compEpiTools 1.28.0  (landing page)
Kamal Kishore
git_last_commit: 7f99015
git_last_commit_date: 2021-10-26 12:15:25 -0500
nebbiolo2Linux (Ubuntu 20.04.3 LTS) / x86_64  OK    OK    ERROR  
tokay2Windows Server 2012 R2 Standard / x64  OK    OK    ERROR    OK  
machv2macOS 10.14.6 Mojave / x86_64  OK    OK    ERROR    OK  
Package 35/191HostnameOS / ArchINSTALLBUILDCHECKBUILD BIN
conclus 1.2.0  (landing page)
Ilyess Rachedi
git_last_commit: 6bc832f
git_last_commit_date: 2021-10-26 13:08:31 -0500
nebbiolo2Linux (Ubuntu 20.04.3 LTS) / x86_64  OK    OK    OK  UNNEEDED, same version is already published
tokay2Windows Server 2012 R2 Standard / x64  OK    OK    OK    OK  UNNEEDED, same version is already published
machv2macOS 10.14.6 Mojave / x86_64  OK    OK    OK    OK  UNNEEDED, same version is already published
Package 36/191HostnameOS / ArchINSTALLBUILDCHECKBUILD BIN
consensusDE 1.12.0  (landing page)
Ashley J. Waardenberg
git_last_commit: 935d9e9
git_last_commit_date: 2021-10-26 12:47:51 -0500
nebbiolo2Linux (Ubuntu 20.04.3 LTS) / x86_64  OK    OK    OK  UNNEEDED, same version is already published
tokay2Windows Server 2012 R2 Standard / x64  OK    OK    OK    OK  UNNEEDED, same version is already published
machv2macOS 10.14.6 Mojave / x86_64  OK    OK    OK    OK  UNNEEDED, same version is already published
Package 37/191HostnameOS / ArchINSTALLBUILDCHECKBUILD BIN
cosmosR 1.2.0  (landing page)
Katharina Zirngibl
git_last_commit: dcb4b9c
git_last_commit_date: 2021-10-26 13:09:43 -0500
nebbiolo2Linux (Ubuntu 20.04.3 LTS) / x86_64  OK    OK    ERROR  
tokay2Windows Server 2012 R2 Standard / x64  OK    OK    ERROR    OK  
machv2macOS 10.14.6 Mojave / x86_64  OK    OK    ERROR    OK  
Package 38/191HostnameOS / ArchINSTALLBUILDCHECKBUILD BIN
crisprseekplus 1.20.0  (landing page)
Alper Kucukural
git_last_commit: 25d40a3
git_last_commit_date: 2021-10-26 12:30:57 -0500
nebbiolo2Linux (Ubuntu 20.04.3 LTS) / x86_64  OK    OK    OK  UNNEEDED, same version is already published
tokay2Windows Server 2012 R2 Standard / x64  OK    OK    OK    OK  UNNEEDED, same version is already published
machv2macOS 10.14.6 Mojave / x86_64  OK    OK    OK    OK  UNNEEDED, same version is already published
Package 39/191HostnameOS / ArchINSTALLBUILDCHECKBUILD BIN
CrispRVariants 1.22.0  (landing page)
Helen Lindsay
git_last_commit: 74a5dc2
git_last_commit_date: 2021-10-26 12:24:29 -0500
nebbiolo2Linux (Ubuntu 20.04.3 LTS) / x86_64  OK    OK    WARNINGS  UNNEEDED, same version is already published
tokay2Windows Server 2012 R2 Standard / x64  OK    OK    WARNINGS    OK  UNNEEDED, same version is already published
machv2macOS 10.14.6 Mojave / x86_64  OK    OK    WARNINGS    OK  UNNEEDED, same version is already published
Package 40/191HostnameOS / ArchINSTALLBUILDCHECKBUILD BIN
crossmeta 1.20.0  (landing page)
Alex Pickering
git_last_commit: 4ebad78
git_last_commit_date: 2021-10-26 12:28:29 -0500
nebbiolo2Linux (Ubuntu 20.04.3 LTS) / x86_64  OK    OK    WARNINGS  UNNEEDED, same version is already published
tokay2Windows Server 2012 R2 Standard / x64  OK    OK    WARNINGS    OK  UNNEEDED, same version is already published
machv2macOS 10.14.6 Mojave / x86_64  OK    OK    WARNINGS    OK  UNNEEDED, same version is already published
Package 41/191HostnameOS / ArchINSTALLBUILDCHECKBUILD BIN
cTRAP 1.12.0  (landing page)
Nuno Saraiva-Agostinho
git_last_commit: 8282ad2
git_last_commit_date: 2021-10-26 12:47:44 -0500
nebbiolo2Linux (Ubuntu 20.04.3 LTS) / x86_64  OK    OK    OK  UNNEEDED, same version is already published
tokay2Windows Server 2012 R2 Standard / x64  OK    OK    OK    OK  UNNEEDED, same version is already published
machv2macOS 10.14.6 Mojave / x86_64  OK    OK    OK    OK  UNNEEDED, same version is already published
Package 42/191HostnameOS / ArchINSTALLBUILDCHECKBUILD BIN
customProDB 1.34.0  (landing page)
Xiaojing Wang
git_last_commit: b7cfa9d
git_last_commit_date: 2021-10-26 12:08:26 -0500
nebbiolo2Linux (Ubuntu 20.04.3 LTS) / x86_64  OK    OK    OK  UNNEEDED, same version is already published
tokay2Windows Server 2012 R2 Standard / x64  OK    OK    OK    OK  UNNEEDED, same version is already published
machv2macOS 10.14.6 Mojave / x86_64  OK    OK    OK    OK  UNNEEDED, same version is already published
Package 43/191HostnameOS / ArchINSTALLBUILDCHECKBUILD BIN
DAPAR 1.26.1  (landing page)
Samuel Wieczorek
git_last_commit: 9232810
git_last_commit_date: 2021-11-22 00:55:42 -0500
nebbiolo2Linux (Ubuntu 20.04.3 LTS) / x86_64  OK    OK    OK  UNNEEDED, same version is already published
tokay2Windows Server 2012 R2 Standard / x64  OK    OK    OK    OK  UNNEEDED, same version is already published
machv2macOS 10.14.6 Mojave / x86_64  OK    OK    OK    OK  UNNEEDED, same version is already published
Package 44/191HostnameOS / ArchINSTALLBUILDCHECKBUILD BIN
debrowser 1.22.2  (landing page)
Alper Kucukural
git_last_commit: 227faa0
git_last_commit_date: 2021-11-08 12:41:29 -0500
nebbiolo2Linux (Ubuntu 20.04.3 LTS) / x86_64  OK    OK    OK  UNNEEDED, same version is already published
tokay2Windows Server 2012 R2 Standard / x64  OK    OK    OK    OK  UNNEEDED, same version is already published
machv2macOS 10.14.6 Mojave / x86_64  OK    OK    OK    OK  UNNEEDED, same version is already published
Package 45/191HostnameOS / ArchINSTALLBUILDCHECKBUILD BIN
deco 1.10.0  (landing page)
Francisco Jose Campos Laborie
git_last_commit: d18f24e
git_last_commit_date: 2021-10-26 12:48:44 -0500
nebbiolo2Linux (Ubuntu 20.04.3 LTS) / x86_64  OK    OK    OK  UNNEEDED, same version is already published
tokay2Windows Server 2012 R2 Standard / x64  OK    OK    OK    OK  UNNEEDED, same version is already published
machv2macOS 10.14.6 Mojave / x86_64  OK    OK    OK    OK  UNNEEDED, same version is already published
Package 46/191HostnameOS / ArchINSTALLBUILDCHECKBUILD BIN
derfinder 1.28.0  (landing page)
Leonardo Collado-Torres
git_last_commit: 9f12ac9
git_last_commit_date: 2021-10-26 12:16:21 -0500
nebbiolo2Linux (Ubuntu 20.04.3 LTS) / x86_64  OK    OK    OK  UNNEEDED, same version is already published
tokay2Windows Server 2012 R2 Standard / x64  OK    ERROR  skippedskipped
machv2macOS 10.14.6 Mojave / x86_64  OK    OK    OK    OK  UNNEEDED, same version is already published
Package 47/191HostnameOS / ArchINSTALLBUILDCHECKBUILD BIN
DEXSeq 1.40.0  (landing page)
Alejandro Reyes
git_last_commit: 7d2d639
git_last_commit_date: 2021-10-26 11:59:26 -0500
nebbiolo2Linux (Ubuntu 20.04.3 LTS) / x86_64  OK    OK    OK  UNNEEDED, same version is already published
tokay2Windows Server 2012 R2 Standard / x64  OK    OK    OK    OK  UNNEEDED, same version is already published
machv2macOS 10.14.6 Mojave / x86_64  OK    OK    OK    OK  UNNEEDED, same version is already published
Package 48/191HostnameOS / ArchINSTALLBUILDCHECKBUILD BIN
DominoEffect 1.14.0  (landing page)
Marija Buljan
git_last_commit: edcdc89
git_last_commit_date: 2021-10-26 12:42:03 -0500
nebbiolo2Linux (Ubuntu 20.04.3 LTS) / x86_64  OK    OK    OK  UNNEEDED, same version is already published
tokay2Windows Server 2012 R2 Standard / x64  OK    OK    OK    OK  UNNEEDED, same version is already published
machv2macOS 10.14.6 Mojave / x86_64  OK    OK    OK    OK  UNNEEDED, same version is already published
Package 49/191HostnameOS / ArchINSTALLBUILDCHECKBUILD BIN
DOSE 3.20.1  (landing page)
Guangchuang Yu
git_last_commit: bf434f2
git_last_commit_date: 2021-11-17 04:16:23 -0500
nebbiolo2Linux (Ubuntu 20.04.3 LTS) / x86_64  OK    OK    OK  UNNEEDED, same version is already published
tokay2Windows Server 2012 R2 Standard / x64  OK    OK    OK    OK  UNNEEDED, same version is already published
machv2macOS 10.14.6 Mojave / x86_64  OK    OK    OK    OK  UNNEEDED, same version is already published
Package 50/191HostnameOS / ArchINSTALLBUILDCHECKBUILD BIN
EDASeq 2.28.0  (landing page)
Davide Risso
git_last_commit: 358891b
git_last_commit_date: 2021-10-26 12:00:24 -0500
nebbiolo2Linux (Ubuntu 20.04.3 LTS) / x86_64  OK    OK    OK  UNNEEDED, same version is already published
tokay2Windows Server 2012 R2 Standard / x64  OK    OK    OK    OK  UNNEEDED, same version is already published
machv2macOS 10.14.6 Mojave / x86_64  OK    OK    OK    OK  UNNEEDED, same version is already published
Package 51/191HostnameOS / ArchINSTALLBUILDCHECKBUILD BIN
eegc 1.20.0  (landing page)
Xiaoyuan Zhou
git_last_commit: fdab2cb
git_last_commit_date: 2021-10-26 12:29:44 -0500
nebbiolo2Linux (Ubuntu 20.04.3 LTS) / x86_64  OK    OK    WARNINGS  UNNEEDED, same version is already published
tokay2Windows Server 2012 R2 Standard / x64  OK    OK    WARNINGS    OK  UNNEEDED, same version is already published
machv2macOS 10.14.6 Mojave / x86_64  OK    OK    WARNINGS    OK  UNNEEDED, same version is already published
Package 52/191HostnameOS / ArchINSTALLBUILDCHECKBUILD BIN
EGSEA 1.22.0  (landing page)
Monther Alhamdoosh
git_last_commit: 5a14266
git_last_commit_date: 2021-10-26 12:27:44 -0500
nebbiolo2Linux (Ubuntu 20.04.3 LTS) / x86_64  OK    OK    WARNINGS  UNNEEDED, same version is already published
tokay2Windows Server 2012 R2 Standard / x64  OK    OK    WARNINGS    OK  UNNEEDED, same version is already published
machv2macOS 10.14.6 Mojave / x86_64  OK    OK    WARNINGS    OK  UNNEEDED, same version is already published
Package 53/191HostnameOS / ArchINSTALLBUILDCHECKBUILD BIN
EnrichmentBrowser 2.24.0  (landing page)
Ludwig Geistlinger
git_last_commit: c4d8fa3
git_last_commit_date: 2021-10-26 12:15:55 -0500
nebbiolo2Linux (Ubuntu 20.04.3 LTS) / x86_64  OK    OK    OK  UNNEEDED, same version is already published
tokay2Windows Server 2012 R2 Standard / x64  OK    OK    OK    OK  UNNEEDED, same version is already published
machv2macOS 10.14.6 Mojave / x86_64  OK    OK    OK    OK  UNNEEDED, same version is already published
Package 54/191HostnameOS / ArchINSTALLBUILDCHECKBUILD BIN
ensembldb 2.18.2  (landing page)
Johannes Rainer
git_last_commit: a633cec
git_last_commit_date: 2021-11-08 10:02:00 -0500
nebbiolo2Linux (Ubuntu 20.04.3 LTS) / x86_64  OK    OK    OK  UNNEEDED, same version is already published
tokay2Windows Server 2012 R2 Standard / x64  OK    OK    OK    OK  UNNEEDED, same version is already published
machv2macOS 10.14.6 Mojave / x86_64  OK    OK    OK    OK  UNNEEDED, same version is already published
Package 55/191HostnameOS / ArchINSTALLBUILDCHECKBUILD BIN
EpiTxDb 1.6.0  (landing page)
Felix G.M. Ernst
git_last_commit: 18f60f3
git_last_commit_date: 2021-10-26 12:58:00 -0500
nebbiolo2Linux (Ubuntu 20.04.3 LTS) / x86_64  OK    OK    OK  UNNEEDED, same version is already published
tokay2Windows Server 2012 R2 Standard / x64  OK    OK    OK    OK  UNNEEDED, same version is already published
machv2macOS 10.14.6 Mojave / x86_64  OK    OK    OK    OK  UNNEEDED, same version is already published
Package 56/191HostnameOS / ArchINSTALLBUILDCHECKBUILD BIN
erma 1.10.0  (landing page)
VJ Carey
git_last_commit: 8ff4f3c
git_last_commit_date: 2021-10-26 12:21:07 -0500
nebbiolo2Linux (Ubuntu 20.04.3 LTS) / x86_64  OK    OK    OK  UNNEEDED, same version is already published
tokay2Windows Server 2012 R2 Standard / x64  OK    OK    OK    OK  UNNEEDED, same version is already published
machv2macOS 10.14.6 Mojave / x86_64  OK    OK    OK    OK  UNNEEDED, same version is already published
Package 57/191HostnameOS / ArchINSTALLBUILDCHECKBUILD BIN
esATAC 1.16.0  (landing page)
Zheng Wei
git_last_commit: 094b015
git_last_commit_date: 2021-10-26 12:40:03 -0500
nebbiolo2Linux (Ubuntu 20.04.3 LTS) / x86_64  OK    OK    OK  UNNEEDED, same version is already published
tokay2Windows Server 2012 R2 Standard / x64  OK    OK    OK    OK  UNNEEDED, same version is already published
machv2macOS 10.14.6 Mojave / x86_64  OK    OK    OK    OK  UNNEEDED, same version is already published
Package 58/191HostnameOS / ArchINSTALLBUILDCHECKBUILD BIN
FRASER 1.6.0  (landing page)
Christian Mertes
git_last_commit: fa070e3
git_last_commit_date: 2021-10-26 12:59:14 -0500
nebbiolo2Linux (Ubuntu 20.04.3 LTS) / x86_64  OK    OK    OK  UNNEEDED, same version is already published
tokay2Windows Server 2012 R2 Standard / x64  OK    OK    OK    OK  UNNEEDED, same version is already published
machv2macOS 10.14.6 Mojave / x86_64  OK    OK    OK    OK  UNNEEDED, same version is already published
Package 59/191HostnameOS / ArchINSTALLBUILDCHECKBUILD BIN
GA4GHshiny 1.16.0  (landing page)
Welliton Souza
git_last_commit: 648de55
git_last_commit_date: 2021-10-26 12:35:32 -0500
nebbiolo2Linux (Ubuntu 20.04.3 LTS) / x86_64  OK    OK    OK  UNNEEDED, same version is already published
tokay2Windows Server 2012 R2 Standard / x64  OK    OK    OK    OK  UNNEEDED, same version is already published
machv2macOS 10.14.6 Mojave / x86_64  OK    OK    OK    OK  UNNEEDED, same version is already published
Package 60/191HostnameOS / ArchINSTALLBUILDCHECKBUILD BIN
gage 2.44.0  (landing page)
Weijun Luo
git_last_commit: c1af55a
git_last_commit_date: 2021-10-26 11:57:14 -0500
nebbiolo2Linux (Ubuntu 20.04.3 LTS) / x86_64  OK    OK    WARNINGS  UNNEEDED, same version is already published
tokay2Windows Server 2012 R2 Standard / x64  OK    OK    WARNINGS    OK  UNNEEDED, same version is already published
machv2macOS 10.14.6 Mojave / x86_64  OK    OK    WARNINGS    OK  UNNEEDED, same version is already published
Package 61/191HostnameOS / ArchINSTALLBUILDCHECKBUILD BIN
GAPGOM 1.10.0  (landing page)
Rezvan Ehsani
git_last_commit: f096758
git_last_commit_date: 2021-10-26 12:49:12 -0500
nebbiolo2Linux (Ubuntu 20.04.3 LTS) / x86_64  OK    OK    OK  UNNEEDED, same version is already published
tokay2Windows Server 2012 R2 Standard / x64  OK    OK    OK    OK  UNNEEDED, same version is already published
machv2macOS 10.14.6 Mojave / x86_64  OK    OK    OK    OK  UNNEEDED, same version is already published
Package 62/191HostnameOS / ArchINSTALLBUILDCHECKBUILD BIN
genefilter 1.76.0  (landing page)
Bioconductor Package Maintainer
git_last_commit: 8d630fd
git_last_commit_date: 2021-10-26 11:45:31 -0500
nebbiolo2Linux (Ubuntu 20.04.3 LTS) / x86_64  OK    OK    WARNINGS  UNNEEDED, same version is already published
tokay2Windows Server 2012 R2 Standard / x64  OK    OK    WARNINGS    OK  UNNEEDED, same version is already published
machv2macOS 10.14.6 Mojave / x86_64  OK    OK    OK    OK  UNNEEDED, same version is already published
Package 63/191HostnameOS / ArchINSTALLBUILDCHECKBUILD BIN
geneplotter 1.72.0  (landing page)
Bioconductor Package Maintainer
git_last_commit: 57a1d83
git_last_commit_date: 2021-10-26 11:45:33 -0500
nebbiolo2Linux (Ubuntu 20.04.3 LTS) / x86_64  OK    OK    OK  UNNEEDED, same version is already published
tokay2Windows Server 2012 R2 Standard / x64  OK    OK    OK    OK  UNNEEDED, same version is already published
machv2macOS 10.14.6 Mojave / x86_64  OK    OK    OK    OK  UNNEEDED, same version is already published
Package 64/191HostnameOS / ArchINSTALLBUILDCHECKBUILD BIN
GeneTonic 1.6.0  (landing page)
Federico Marini
git_last_commit: 621c04d
git_last_commit_date: 2021-10-26 12:57:10 -0500
nebbiolo2Linux (Ubuntu 20.04.3 LTS) / x86_64  OK    OK    OK  UNNEEDED, same version is already published
tokay2Windows Server 2012 R2 Standard / x64  OK    OK    OK    OK  UNNEEDED, same version is already published
machv2macOS 10.14.6 Mojave / x86_64  OK    OK    OK    OK  UNNEEDED, same version is already published
Package 65/191HostnameOS / ArchINSTALLBUILDCHECKBUILD BIN
geneXtendeR 1.20.0  (landing page)
Bohdan Khomtchouk
git_last_commit: 37a9c1c
git_last_commit_date: 2021-10-26 12:30:30 -0500
nebbiolo2Linux (Ubuntu 20.04.3 LTS) / x86_64  OK    OK    WARNINGS  UNNEEDED, same version is already published
tokay2Windows Server 2012 R2 Standard / x64  OK    OK    WARNINGS    OK  UNNEEDED, same version is already published
machv2macOS 10.14.6 Mojave / x86_64  OK    OK    WARNINGS    OK  UNNEEDED, same version is already published
Package 66/191HostnameOS / ArchINSTALLBUILDCHECKBUILD BIN
GenomicFeatures 1.46.1  (landing page)
Bioconductor Package Maintainer
git_last_commit: 81a3bd9
git_last_commit_date: 2021-10-26 16:46:33 -0500
nebbiolo2Linux (Ubuntu 20.04.3 LTS) / x86_64  OK    OK    ERROR  
tokay2Windows Server 2012 R2 Standard / x64  OK    OK    ERROR    OK  
machv2macOS 10.14.6 Mojave / x86_64  OK    OK    ERROR    OK  
Package 67/191HostnameOS / ArchINSTALLBUILDCHECKBUILD BIN
GenVisR 1.26.0  (landing page)
Zachary Skidmore
git_last_commit: 9bd43fb
git_last_commit_date: 2021-10-26 12:24:58 -0500
nebbiolo2Linux (Ubuntu 20.04.3 LTS) / x86_64  OK    OK    ERROR  
tokay2Windows Server 2012 R2 Standard / x64  OK    OK    OK    OK  UNNEEDED, same version is already published
machv2macOS 10.14.6 Mojave / x86_64  OK    OK    ERROR    OK  
Package 68/191HostnameOS / ArchINSTALLBUILDCHECKBUILD BIN
ggbio 1.42.0  (landing page)
Michael Lawrence
git_last_commit: 3540047
git_last_commit_date: 2021-10-27 10:07:29 -0500
nebbiolo2Linux (Ubuntu 20.04.3 LTS) / x86_64  OK    OK    WARNINGS  UNNEEDED, same version is already published
tokay2Windows Server 2012 R2 Standard / x64  OK    OK    WARNINGS    OK  UNNEEDED, same version is already published
machv2macOS 10.14.6 Mojave / x86_64  OK    OK    WARNINGS    OK  UNNEEDED, same version is already published
Package 69/191HostnameOS / ArchINSTALLBUILDCHECKBUILD BIN
GlobalAncova 4.12.0  (landing page)
Manuela Hummel
git_last_commit: 16a2b80
git_last_commit_date: 2021-10-26 11:48:41 -0500
nebbiolo2Linux (Ubuntu 20.04.3 LTS) / x86_64  OK    OK    OK  UNNEEDED, same version is already published
tokay2Windows Server 2012 R2 Standard / x64  OK    OK    OK    OK  UNNEEDED, same version is already published
machv2macOS 10.14.6 Mojave / x86_64  OK    OK    OK    OK  UNNEEDED, same version is already published
Package 70/191HostnameOS / ArchINSTALLBUILDCHECKBUILD BIN
globaltest 5.48.0  (landing page)
Jelle Goeman
git_last_commit: 86c2c8f
git_last_commit_date: 2021-10-26 11:47:08 -0500
nebbiolo2Linux (Ubuntu 20.04.3 LTS) / x86_64  OK    OK    OK  UNNEEDED, same version is already published
tokay2Windows Server 2012 R2 Standard / x64  OK    OK    OK    OK  UNNEEDED, same version is already published
machv2macOS 10.14.6 Mojave / x86_64  OK    OK    OK    OK  UNNEEDED, same version is already published
Package 71/191HostnameOS / ArchINSTALLBUILDCHECKBUILD BIN
GmicR 1.8.0  (landing page)
Richard Virgen-Slane
git_last_commit: f795e9d
git_last_commit_date: 2021-10-26 12:54:44 -0500
nebbiolo2Linux (Ubuntu 20.04.3 LTS) / x86_64  OK    OK    OK  UNNEEDED, same version is already published
tokay2Windows Server 2012 R2 Standard / x64  OK    OK    OK    OK  UNNEEDED, same version is already published
machv2macOS 10.14.6 Mojave / x86_64  OK    OK    OK    OK  UNNEEDED, same version is already published
Package 72/191HostnameOS / ArchINSTALLBUILDCHECKBUILD BIN
GOfuncR 1.14.0  (landing page)
Steffi Grote
git_last_commit: b3d445a
git_last_commit_date: 2021-10-26 12:40:30 -0500
nebbiolo2Linux (Ubuntu 20.04.3 LTS) / x86_64  OK    OK    OK  UNNEEDED, same version is already published
tokay2Windows Server 2012 R2 Standard / x64  OK    OK    OK    OK  UNNEEDED, same version is already published
machv2macOS 10.14.6 Mojave / x86_64  OK    OK    OK    OK  UNNEEDED, same version is already published
Package 73/191HostnameOS / ArchINSTALLBUILDCHECKBUILD BIN
GOpro 1.20.0  (landing page)
Lidia Chrabaszcz
git_last_commit: 81cc5b2
git_last_commit_date: 2021-10-26 12:30:19 -0500
nebbiolo2Linux (Ubuntu 20.04.3 LTS) / x86_64  OK    OK    WARNINGS  UNNEEDED, same version is already published
tokay2Windows Server 2012 R2 Standard / x64  OK    OK    WARNINGS    OK  UNNEEDED, same version is already published
machv2macOS 10.14.6 Mojave / x86_64  OK    OK    WARNINGS    OK  UNNEEDED, same version is already published
Package 74/191HostnameOS / ArchINSTALLBUILDCHECKBUILD BIN
goProfiles 1.56.0  (landing page)
Alex Sanchez
git_last_commit: 8d389b2
git_last_commit_date: 2021-10-26 11:52:18 -0500
nebbiolo2Linux (Ubuntu 20.04.3 LTS) / x86_64  OK    OK    OK  UNNEEDED, same version is already published
tokay2Windows Server 2012 R2 Standard / x64  OK    OK    OK    OK  UNNEEDED, same version is already published
machv2macOS 10.14.6 Mojave / x86_64  OK    OK    OK    OK  UNNEEDED, same version is already published
Package 75/191HostnameOS / ArchINSTALLBUILDCHECKBUILD BIN
GOSemSim 2.20.0  (landing page)
Guangchuang Yu
git_last_commit: fa82442
git_last_commit_date: 2021-10-26 11:53:22 -0500
nebbiolo2Linux (Ubuntu 20.04.3 LTS) / x86_64  OK    OK    OK  UNNEEDED, same version is already published
tokay2Windows Server 2012 R2 Standard / x64  OK    OK    OK    OK  UNNEEDED, same version is already published
machv2macOS 10.14.6 Mojave / x86_64  OK    OK    OK    OK  UNNEEDED, same version is already published
Package 76/191HostnameOS / ArchINSTALLBUILDCHECKBUILD BIN
goseq 1.46.0  (landing page)
Matthew Young , Nadia Davidson
git_last_commit: 1fb5626
git_last_commit_date: 2021-10-26 11:55:51 -0500
nebbiolo2Linux (Ubuntu 20.04.3 LTS) / x86_64  OK    OK    OK  UNNEEDED, same version is already published
tokay2Windows Server 2012 R2 Standard / x64  OK    OK    OK    OK  UNNEEDED, same version is already published
machv2macOS 10.14.6 Mojave / x86_64  OK    OK    OK    OK  UNNEEDED, same version is already published
Package 77/191HostnameOS / ArchINSTALLBUILDCHECKBUILD BIN
GOSim 1.32.0  (landing page)
Holger Froehlich
git_last_commit: 0c5092d
git_last_commit_date: 2021-10-26 12:09:55 -0500
nebbiolo2Linux (Ubuntu 20.04.3 LTS) / x86_64  OK    OK    OK  UNNEEDED, same version is already published
tokay2Windows Server 2012 R2 Standard / x64  OK    OK    OK    OK  UNNEEDED, same version is already published
machv2macOS 10.14.6 Mojave / x86_64  OK    OK    OK    OK  UNNEEDED, same version is already published
Package 78/191HostnameOS / ArchINSTALLBUILDCHECKBUILD BIN
goSTAG 1.18.0  (landing page)
Brian D. Bennett
git_last_commit: a62fde0
git_last_commit_date: 2021-10-26 12:32:39 -0500
nebbiolo2Linux (Ubuntu 20.04.3 LTS) / x86_64  OK    OK    OK  UNNEEDED, same version is already published
tokay2Windows Server 2012 R2 Standard / x64  OK    OK    OK    OK  UNNEEDED, same version is already published
machv2macOS 10.14.6 Mojave / x86_64  OK    OK    OK    OK  UNNEEDED, same version is already published
Package 79/191HostnameOS / ArchINSTALLBUILDCHECKBUILD BIN
GOstats 2.60.0  (landing page)
Bioconductor Package Maintainer
git_last_commit: a20055c
git_last_commit_date: 2021-10-26 11:47:01 -0500
nebbiolo2Linux (Ubuntu 20.04.3 LTS) / x86_64  OK    OK    OK  UNNEEDED, same version is already published
tokay2Windows Server 2012 R2 Standard / x64  OK    OK    OK    OK  UNNEEDED, same version is already published
machv2macOS 10.14.6 Mojave / x86_64  OK    OK    OK    OK  UNNEEDED, same version is already published
Package 80/191HostnameOS / ArchINSTALLBUILDCHECKBUILD BIN
goTools 1.68.0  (landing page)
Agnes Paquet
git_last_commit: 31a5f26
git_last_commit_date: 2021-10-26 11:46:48 -0500
nebbiolo2Linux (Ubuntu 20.04.3 LTS) / x86_64  OK    OK    OK  UNNEEDED, same version is already published
tokay2Windows Server 2012 R2 Standard / x64  OK    OK    OK    OK  UNNEEDED, same version is already published
machv2macOS 10.14.6 Mojave / x86_64  OK    OK    OK    OK  UNNEEDED, same version is already published
Package 81/191HostnameOS / ArchINSTALLBUILDCHECKBUILD BIN
gpart 1.12.0  (landing page)
Sun Ah Kim
git_last_commit: fea63e2
git_last_commit_date: 2021-10-26 12:46:57 -0500
nebbiolo2Linux (Ubuntu 20.04.3 LTS) / x86_64  OK    OK    OK  UNNEEDED, same version is already published
tokay2Windows Server 2012 R2 Standard / x64  OK    OK    OK    OK  UNNEEDED, same version is already published
machv2macOS 10.14.6 Mojave / x86_64  OK    OK    OK    OK  UNNEEDED, same version is already published
Package 82/191HostnameOS / ArchINSTALLBUILDCHECKBUILD BIN
graphite 1.40.0  (landing page)
Gabriele Sales
git_last_commit: 9ac9323
git_last_commit_date: 2021-10-26 12:00:06 -0500
nebbiolo2Linux (Ubuntu 20.04.3 LTS) / x86_64  OK    OK    OK  UNNEEDED, same version is already published
tokay2Windows Server 2012 R2 Standard / x64  OK    OK    OK    OK  UNNEEDED, same version is already published
machv2macOS 10.14.6 Mojave / x86_64  OK    OK    OK    OK  UNNEEDED, same version is already published
Package 83/191HostnameOS / ArchINSTALLBUILDCHECKBUILD BIN
GSEABase 1.56.0  (landing page)
Bioconductor Package Maintainer
git_last_commit: ee7c3ca
git_last_commit_date: 2021-10-26 11:51:15 -0500
nebbiolo2Linux (Ubuntu 20.04.3 LTS) / x86_64  OK    OK    OK  UNNEEDED, same version is already published
tokay2Windows Server 2012 R2 Standard / x64  OK    OK    OK    OK  UNNEEDED, same version is already published
machv2macOS 10.14.6 Mojave / x86_64  OK    OK    OK    OK  UNNEEDED, same version is already published
Package 84/191HostnameOS / ArchINSTALLBUILDCHECKBUILD BIN
GSEABenchmarkeR 1.14.0  (landing page)
Ludwig Geistlinger
git_last_commit: e2d1e39
git_last_commit_date: 2021-10-26 12:43:02 -0500
nebbiolo2Linux (Ubuntu 20.04.3 LTS) / x86_64  OK    OK    OK  UNNEEDED, same version is already published
tokay2Windows Server 2012 R2 Standard / x64  OK    OK    OK    OK  UNNEEDED, same version is already published
machv2macOS 10.14.6 Mojave / x86_64  OK    OK    OK    OK  UNNEEDED, same version is already published
Package 85/191HostnameOS / ArchINSTALLBUILDCHECKBUILD BIN
GSReg 1.28.0  (landing page)
Bahman Afsari , Elana J. Fertig
git_last_commit: d346e69
git_last_commit_date: 2021-10-26 12:14:36 -0500
nebbiolo2Linux (Ubuntu 20.04.3 LTS) / x86_64  OK    OK    WARNINGS  UNNEEDED, same version is already published
tokay2Windows Server 2012 R2 Standard / x64  OK    OK    WARNINGS    OK  UNNEEDED, same version is already published
machv2macOS 10.14.6 Mojave / x86_64  OK    OK    WARNINGS    OK  UNNEEDED, same version is already published
Package 86/191HostnameOS / ArchINSTALLBUILDCHECKBUILD BIN
Guitar 2.10.0  (landing page)
Jia Meng
git_last_commit: cbc4814
git_last_commit_date: 2021-10-26 12:22:48 -0500
nebbiolo2Linux (Ubuntu 20.04.3 LTS) / x86_64  OK    OK    OK  UNNEEDED, same version is already published
tokay2Windows Server 2012 R2 Standard / x64  OK    OK    OK    OK  UNNEEDED, same version is already published
machv2macOS 10.14.6 Mojave / x86_64  OK    OK    OK    OK  UNNEEDED, same version is already published
Package 87/191HostnameOS / ArchINSTALLBUILDCHECKBUILD BIN
Gviz 1.38.0  (landing page)
Robert Ivanek
git_last_commit: 2091331
git_last_commit_date: 2021-10-26 12:02:00 -0500
nebbiolo2Linux (Ubuntu 20.04.3 LTS) / x86_64  OK    OK    OK  UNNEEDED, same version is already published
tokay2Windows Server 2012 R2 Standard / x64  OK    OK    OK    OK  UNNEEDED, same version is already published
machv2macOS 10.14.6 Mojave / x86_64  OK    OK    ERROR    OK  
Package 88/191HostnameOS / ArchINSTALLBUILDCHECKBUILD BIN
gwascat 2.26.0  (landing page)
VJ Carey
git_last_commit: 4098842
git_last_commit_date: 2021-10-26 12:02:07 -0500
nebbiolo2Linux (Ubuntu 20.04.3 LTS) / x86_64  OK    OK    OK  UNNEEDED, same version is already published
tokay2Windows Server 2012 R2 Standard / x64  OK    OK    OK    OK  UNNEEDED, same version is already published
machv2macOS 10.14.6 Mojave / x86_64  OK    OK    OK    OK  UNNEEDED, same version is already published
Package 89/191HostnameOS / ArchINSTALLBUILDCHECKBUILD BIN
ideal 1.18.0  (landing page)
Federico Marini
git_last_commit: d364df4
git_last_commit_date: 2021-10-26 12:35:05 -0500
nebbiolo2Linux (Ubuntu 20.04.3 LTS) / x86_64  OK    OK    OK  UNNEEDED, same version is already published
tokay2Windows Server 2012 R2 Standard / x64  OK    OK    OK    OK  UNNEEDED, same version is already published
machv2macOS 10.14.6 Mojave / x86_64  OK    OK    OK    OK  UNNEEDED, same version is already published
Package 90/191HostnameOS / ArchINSTALLBUILDCHECKBUILD BIN
IMAS 1.18.0  (landing page)
Seonggyun Han
git_last_commit: b7c52db
git_last_commit_date: 2021-10-26 12:34:42 -0500
nebbiolo2Linux (Ubuntu 20.04.3 LTS) / x86_64  OK    OK    OK  UNNEEDED, same version is already published
tokay2Windows Server 2012 R2 Standard / x64  OK    OK    OK    OK  UNNEEDED, same version is already published
machv2macOS 10.14.6 Mojave / x86_64  OK    OK    OK    OK  UNNEEDED, same version is already published
Package 91/191HostnameOS / ArchINSTALLBUILDCHECKBUILD BIN
InPAS 2.2.0  (landing page)
Jianhong Ou
git_last_commit: 84281b7
git_last_commit_date: 2021-10-26 12:19:22 -0500
nebbiolo2Linux (Ubuntu 20.04.3 LTS) / x86_64  OK    OK    OK  UNNEEDED, same version is already published
tokay2Windows Server 2012 R2 Standard / x64  OK    OK    OK    OK  UNNEEDED, same version is already published
machv2macOS 10.14.6 Mojave / x86_64  OK    OK    OK    OK  UNNEEDED, same version is already published
Package 92/191HostnameOS / ArchINSTALLBUILDCHECKBUILD BIN
interactiveDisplay 1.32.0  (landing page)
Bioconductor Package Maintainer
git_last_commit: 2851932
git_last_commit_date: 2021-10-26 12:10:45 -0500
nebbiolo2Linux (Ubuntu 20.04.3 LTS) / x86_64  OK    OK    OK  UNNEEDED, same version is already published
tokay2Windows Server 2012 R2 Standard / x64  OK    OK    OK    OK  UNNEEDED, same version is already published
machv2macOS 10.14.6 Mojave / x86_64  OK    OK    OK    OK  UNNEEDED, same version is already published
Package 93/191HostnameOS / ArchINSTALLBUILDCHECKBUILD BIN
ipdDb 1.12.0  (landing page)
Steffen Klasberg
git_last_commit: da8cb12
git_last_commit_date: 2021-10-26 12:45:35 -0500
nebbiolo2Linux (Ubuntu 20.04.3 LTS) / x86_64  OK    OK    OK  UNNEEDED, same version is already published
tokay2Windows Server 2012 R2 Standard / x64  OK    OK    OK    OK  UNNEEDED, same version is already published
machv2macOS 10.14.6 Mojave / x86_64  OK    OK    OK    OK  UNNEEDED, same version is already published
Package 94/191HostnameOS / ArchINSTALLBUILDCHECKBUILD BIN
IRISFGM 1.2.0  (landing page)
Yuzhou Chang
git_last_commit: d9e123f
git_last_commit_date: 2021-10-26 13:07:08 -0500
nebbiolo2Linux (Ubuntu 20.04.3 LTS) / x86_64  OK    OK    OK  UNNEEDED, same version is already published
tokay2Windows Server 2012 R2 Standard / x64  OK    OK    OK    OK  UNNEEDED, same version is already published
machv2macOS 10.14.6 Mojave / x86_64  OK    OK    OK    OK  UNNEEDED, same version is already published
Package 95/191HostnameOS / ArchINSTALLBUILDCHECKBUILD BIN
isomiRs 1.22.0  (landing page)
Lorena Pantano
git_last_commit: d81726b
git_last_commit_date: 2021-10-26 12:26:44 -0500
nebbiolo2Linux (Ubuntu 20.04.3 LTS) / x86_64  OK    OK    OK  UNNEEDED, same version is already published
tokay2Windows Server 2012 R2 Standard / x64  OK    OK    OK    OK  UNNEEDED, same version is already published
machv2macOS 10.14.6 Mojave / x86_64  OK    OK    OK    OK  UNNEEDED, same version is already published
Package 96/191HostnameOS / ArchINSTALLBUILDCHECKBUILD BIN
IVAS 2.14.0  (landing page)
Seonggyun Han
git_last_commit: cb2ad75
git_last_commit_date: 2021-10-26 12:18:38 -0500
nebbiolo2Linux (Ubuntu 20.04.3 LTS) / x86_64  OK    OK    WARNINGS  UNNEEDED, same version is already published
tokay2Windows Server 2012 R2 Standard / x64  OK    OK    WARNINGS    OK  UNNEEDED, same version is already published
machv2macOS 10.14.6 Mojave / x86_64  OK    OK    WARNINGS    OK  UNNEEDED, same version is already published
Package 97/191HostnameOS / ArchINSTALLBUILDCHECKBUILD BIN
karyoploteR 1.20.0  (landing page)
Bernat Gel
git_last_commit: e209974
git_last_commit_date: 2021-10-26 12:32:46 -0500
nebbiolo2Linux (Ubuntu 20.04.3 LTS) / x86_64  OK    OK    ERROR  
tokay2Windows Server 2012 R2 Standard / x64  OK    OK    ERROR    OK  
machv2macOS 10.14.6 Mojave / x86_64  OK    OK    ERROR    OK  
Package 98/191HostnameOS / ArchINSTALLBUILDCHECKBUILD BIN
KEGGlincs 1.20.0  (landing page)
Shana White , Mario Medvedovic
git_last_commit: 65205d4
git_last_commit_date: 2021-10-26 12:30:32 -0500
nebbiolo2Linux (Ubuntu 20.04.3 LTS) / x86_64  OK    OK    OK  UNNEEDED, same version is already published
tokay2Windows Server 2012 R2 Standard / x64  OK    OK    OK    OK  UNNEEDED, same version is already published
machv2macOS 10.14.6 Mojave / x86_64  OK    OK    OK    OK  UNNEEDED, same version is already published
Package 99/191HostnameOS / ArchINSTALLBUILDCHECKBUILD BIN
keggorthology 2.46.0  (landing page)
VJ Carey
git_last_commit: 1d77032
git_last_commit_date: 2021-10-26 11:51:21 -0500
nebbiolo2Linux (Ubuntu 20.04.3 LTS) / x86_64  OK    OK    OK  UNNEEDED, same version is already published
tokay2Windows Server 2012 R2 Standard / x64  OK    OK    OK    OK  UNNEEDED, same version is already published
machv2macOS 10.14.6 Mojave / x86_64  OK    OK    OK    OK  UNNEEDED, same version is already published
Package 100/191HostnameOS / ArchINSTALLBUILDCHECKBUILD BIN
KEGGprofile 1.36.0  (landing page)
Shilin Zhao
git_last_commit: d524b1f
git_last_commit_date: 2021-10-26 12:03:39 -0500
nebbiolo2Linux (Ubuntu 20.04.3 LTS) / x86_64  ERROR    ERROR  skipped
tokay2Windows Server 2012 R2 Standard / x64  ERROR    ERROR  skippedskipped
machv2macOS 10.14.6 Mojave / x86_64  ERROR    ERROR  skippedskipped
Package 101/191HostnameOS / ArchINSTALLBUILDCHECKBUILD BIN
LRBaseDbi 2.4.0  (landing page)
Koki Tsuyuzaki
git_last_commit: 92f5155
git_last_commit_date: 2021-10-26 12:45:52 -0500
nebbiolo2Linux (Ubuntu 20.04.3 LTS) / x86_64  OK    OK    OK  UNNEEDED, same version is already published
tokay2Windows Server 2012 R2 Standard / x64  OK    OK    OK    OK  UNNEEDED, same version is already published
machv2macOS 10.14.6 Mojave / x86_64  OK    OK    OK    OK  UNNEEDED, same version is already published
Package 102/191HostnameOS / ArchINSTALLBUILDCHECKBUILD BIN
lumi 2.46.0  (landing page)
Lei Huang
git_last_commit: a68932c
git_last_commit_date: 2021-10-26 11:50:43 -0500
nebbiolo2Linux (Ubuntu 20.04.3 LTS) / x86_64  OK    OK    WARNINGS  UNNEEDED, same version is already published
tokay2Windows Server 2012 R2 Standard / x64  OK    OK    WARNINGS    OK  UNNEEDED, same version is already published
machv2macOS 10.14.6 Mojave / x86_64  OK    OK    WARNINGS    OK  UNNEEDED, same version is already published
Package 103/191HostnameOS / ArchINSTALLBUILDCHECKBUILD BIN
mAPKL 1.24.0  (landing page)
Argiris Sakellariou
git_last_commit: b9e43cb
git_last_commit_date: 2021-10-26 12:18:26 -0500
nebbiolo2Linux (Ubuntu 20.04.3 LTS) / x86_64  OK    OK    OK  UNNEEDED, same version is already published
tokay2Windows Server 2012 R2 Standard / x64  OK    OK    OK    OK  UNNEEDED, same version is already published
machv2macOS 10.14.6 Mojave / x86_64  OK    OK    OK    OK  UNNEEDED, same version is already published
Package 104/191HostnameOS / ArchINSTALLBUILDCHECKBUILD BIN
maPredictDSC 1.32.0  (landing page)
Adi Laurentiu Tarca
git_last_commit: 5141953
git_last_commit_date: 2021-10-26 12:08:41 -0500
nebbiolo2Linux (Ubuntu 20.04.3 LTS) / x86_64  OK    OK    OK  UNNEEDED, same version is already published
tokay2Windows Server 2012 R2 Standard / x64  OK    OK    OK    OK  UNNEEDED, same version is already published
machv2macOS 10.14.6 Mojave / x86_64  OK    OK    OK    OK  UNNEEDED, same version is already published
Package 105/191HostnameOS / ArchINSTALLBUILDCHECKBUILD BIN
MCbiclust 1.18.0  (landing page)
Robert Bentham
git_last_commit: a6d489e
git_last_commit_date: 2021-10-26 12:32:51 -0500
nebbiolo2Linux (Ubuntu 20.04.3 LTS) / x86_64  OK    OK    OK  UNNEEDED, same version is already published
tokay2Windows Server 2012 R2 Standard / x64  OK    OK    OK    OK  UNNEEDED, same version is already published
machv2macOS 10.14.6 Mojave / x86_64  OK    OK    OK    OK  UNNEEDED, same version is already published
Package 106/191HostnameOS / ArchINSTALLBUILDCHECKBUILD BIN
MeSHDbi 1.30.0  (landing page)
Koki Tsuyuzaki
git_last_commit: cc39bc4
git_last_commit_date: 2021-10-26 12:13:24 -0500
nebbiolo2Linux (Ubuntu 20.04.3 LTS) / x86_64  OK    OK    OK  UNNEEDED, same version is already published
tokay2Windows Server 2012 R2 Standard / x64  OK    OK    OK    OK  UNNEEDED, same version is already published
machv2macOS 10.14.6 Mojave / x86_64  OK    OK    OK    OK  UNNEEDED, same version is already published
Package 107/191HostnameOS / ArchINSTALLBUILDCHECKBUILD BIN
meshes 1.20.0  (landing page)
Guangchuang Yu
git_last_commit: d4c5f09
git_last_commit_date: 2021-10-26 12:31:02 -0500
nebbiolo2Linux (Ubuntu 20.04.3 LTS) / x86_64  OK    OK    OK  UNNEEDED, same version is already published
tokay2Windows Server 2012 R2 Standard / x64  OK    OK    OK    OK  UNNEEDED, same version is already published
machv2macOS 10.14.6 Mojave / x86_64  OK    OK    OK    OK  UNNEEDED, same version is already published
Package 108/191HostnameOS / ArchINSTALLBUILDCHECKBUILD BIN
MesKit 1.4.0  (landing page)
Mengni Liu
git_last_commit: 0782512
git_last_commit_date: 2021-10-26 13:01:22 -0500
nebbiolo2Linux (Ubuntu 20.04.3 LTS) / x86_64  OK    OK    OK  UNNEEDED, same version is already published
tokay2Windows Server 2012 R2 Standard / x64  OK    OK    OK    OK  UNNEEDED, same version is already published
machv2macOS 10.14.6 Mojave / x86_64  OK    OK    OK    OK  UNNEEDED, same version is already published
Package 109/191HostnameOS / ArchINSTALLBUILDCHECKBUILD BIN
MetaboSignal 1.24.0  (landing page)
Andrea Rodriguez-Martinez
git_last_commit: 4e4f9da
git_last_commit_date: 2021-10-26 12:29:51 -0500
nebbiolo2Linux (Ubuntu 20.04.3 LTS) / x86_64  OK    OK    OK  UNNEEDED, same version is already published
tokay2Windows Server 2012 R2 Standard / x64  OK    OK    OK    OK  UNNEEDED, same version is already published
machv2macOS 10.14.6 Mojave / x86_64  OK    OK    OK    OK  UNNEEDED, same version is already published
Package 110/191HostnameOS / ArchINSTALLBUILDCHECKBUILD BIN
methylGSA 1.12.0  (landing page)
Xu Ren
git_last_commit: c7abc3c
git_last_commit_date: 2021-10-26 12:45:38 -0500
nebbiolo2Linux (Ubuntu 20.04.3 LTS) / x86_64  OK    OK    OK  UNNEEDED, same version is already published
tokay2Windows Server 2012 R2 Standard / x64  OK    ERROR  skippedskipped
machv2macOS 10.14.6 Mojave / x86_64  OK    OK    OK    OK  UNNEEDED, same version is already published
Package 111/191HostnameOS / ArchINSTALLBUILDCHECKBUILD BIN
methylumi 2.40.1  (landing page)
Sean Davis
git_last_commit: 2110392
git_last_commit_date: 2021-10-30 09:58:54 -0500
nebbiolo2Linux (Ubuntu 20.04.3 LTS) / x86_64  OK    OK    OK  UNNEEDED, same version is already published
tokay2Windows Server 2012 R2 Standard / x64  OK    OK    OK    OK  UNNEEDED, same version is already published
machv2macOS 10.14.6 Mojave / x86_64  OK    OK    OK    OK  UNNEEDED, same version is already published
Package 112/191HostnameOS / ArchINSTALLBUILDCHECKBUILD BIN
MGFM 1.28.0  (landing page)
Khadija El Amrani
git_last_commit: 7d190dc
git_last_commit_date: 2021-10-26 12:16:03 -0500
nebbiolo2Linux (Ubuntu 20.04.3 LTS) / x86_64  OK    OK    OK  UNNEEDED, same version is already published
tokay2Windows Server 2012 R2 Standard / x64  OK    OK    OK    OK  UNNEEDED, same version is already published
machv2macOS 10.14.6 Mojave / x86_64  OK    OK    OK    OK  UNNEEDED, same version is already published
Package 113/191HostnameOS / ArchINSTALLBUILDCHECKBUILD BIN
MIGSA 1.18.0  (landing page)
Juan C. Rodriguez
git_last_commit: 13f31de
git_last_commit_date: 2021-10-26 12:33:30 -0500
nebbiolo2Linux (Ubuntu 20.04.3 LTS) / x86_64  OK    OK    OK  UNNEEDED, same version is already published
tokay2Windows Server 2012 R2 Standard / x64  OK    OK    ERROR    OK  
machv2macOS 10.14.6 Mojave / x86_64  OK    OK    OK    OK  UNNEEDED, same version is already published
Package 114/191HostnameOS / ArchINSTALLBUILDCHECKBUILD BIN
MineICA 1.34.0  (landing page)
Anne Biton
git_last_commit: 602994d
git_last_commit_date: 2021-10-26 12:06:44 -0500
nebbiolo2Linux (Ubuntu 20.04.3 LTS) / x86_64  OK    OK    WARNINGS  UNNEEDED, same version is already published
tokay2Windows Server 2012 R2 Standard / x64  OK    OK    WARNINGS    OK  UNNEEDED, same version is already published
machv2macOS 10.14.6 Mojave / x86_64  OK    OK    WARNINGS    OK  UNNEEDED, same version is already published
Package 115/191HostnameOS / ArchINSTALLBUILDCHECKBUILD BIN
MiRaGE 1.36.0  (landing page)
Y-h. Taguchi
git_last_commit: 231e9f7
git_last_commit_date: 2021-10-26 12:03:15 -0500
nebbiolo2Linux (Ubuntu 20.04.3 LTS) / x86_64  OK    OK    WARNINGS  UNNEEDED, same version is already published
tokay2Windows Server 2012 R2 Standard / x64  OK    OK    WARNINGS    OK  UNNEEDED, same version is already published
machv2macOS 10.14.6 Mojave / x86_64  OK    OK    WARNINGS    OK  UNNEEDED, same version is already published
Package 116/191HostnameOS / ArchINSTALLBUILDCHECKBUILD BIN
mirIntegrator 1.24.0  (landing page)
Diana Diaz
git_last_commit: 891cc25
git_last_commit_date: 2021-10-26 12:21:04 -0500
nebbiolo2Linux (Ubuntu 20.04.3 LTS) / x86_64  OK    OK    OK  UNNEEDED, same version is already published
tokay2Windows Server 2012 R2 Standard / x64  OK    OK    OK    OK  UNNEEDED, same version is already published
machv2macOS 10.14.6 Mojave / x86_64  OK    OK    OK    OK  UNNEEDED, same version is already published
Package 117/191HostnameOS / ArchINSTALLBUILDCHECKBUILD BIN
miRNAmeConverter 1.22.0  (landing page)
Stefan J. Haunsberger
git_last_commit: ca6bcbb
git_last_commit_date: 2021-10-26 12:26:05 -0500
nebbiolo2Linux (Ubuntu 20.04.3 LTS) / x86_64  OK    OK    WARNINGS  UNNEEDED, same version is already published
tokay2Windows Server 2012 R2 Standard / x64  OK    OK    WARNINGS    OK  UNNEEDED, same version is already published
machv2macOS 10.14.6 Mojave / x86_64  OK    OK    WARNINGS    OK  UNNEEDED, same version is already published
Package 118/191HostnameOS / ArchINSTALLBUILDCHECKBUILD BIN
miRNAtap 1.28.0  (landing page)
T. Ian Simpson
git_last_commit: a67c80b
git_last_commit_date: 2021-10-26 12:15:11 -0500
nebbiolo2Linux (Ubuntu 20.04.3 LTS) / x86_64  OK    OK    OK  UNNEEDED, same version is already published
tokay2Windows Server 2012 R2 Standard / x64  OK    OK    OK    OK  UNNEEDED, same version is already published
machv2macOS 10.14.6 Mojave / x86_64  OK    OK    OK    OK  UNNEEDED, same version is already published
Package 119/191HostnameOS / ArchINSTALLBUILDCHECKBUILD BIN
missMethyl 1.28.0  (landing page)
Belinda Phipson
git_last_commit: 6a36aee
git_last_commit_date: 2021-10-26 12:14:52 -0500
nebbiolo2Linux (Ubuntu 20.04.3 LTS) / x86_64  OK    ERROR  skipped
tokay2Windows Server 2012 R2 Standard / x64  OK    OK    ERROR    OK  
machv2macOS 10.14.6 Mojave / x86_64  OK    OK    OK    OK  UNNEEDED, same version is already published
Package 120/191HostnameOS / ArchINSTALLBUILDCHECKBUILD BIN
MLP 1.42.0  (landing page)
Tobias Verbeke
git_last_commit: 6946b4f
git_last_commit_date: 2021-10-26 11:57:36 -0500
nebbiolo2Linux (Ubuntu 20.04.3 LTS) / x86_64  OK    OK    OK  UNNEEDED, same version is already published
tokay2Windows Server 2012 R2 Standard / x64  OK    OK    OK    OK  UNNEEDED, same version is already published
machv2macOS 10.14.6 Mojave / x86_64  OK    OK    OK    OK  UNNEEDED, same version is already published
Package 121/191HostnameOS / ArchINSTALLBUILDCHECKBUILD BIN
MSnID 1.28.0  (landing page)
Vlad Petyuk
git_last_commit: 0e6de89
git_last_commit_date: 2021-10-26 12:16:01 -0500
nebbiolo2Linux (Ubuntu 20.04.3 LTS) / x86_64  OK    OK    OK  UNNEEDED, same version is already published
tokay2Windows Server 2012 R2 Standard / x64  OK    OK    OK    OK  UNNEEDED, same version is already published
machv2macOS 10.14.6 Mojave / x86_64  OK    OK    OK    OK  UNNEEDED, same version is already published
Package 122/191HostnameOS / ArchINSTALLBUILDCHECKBUILD BIN
multiGSEA 1.4.0  (landing page)
Sebastian Canzler
git_last_commit: 28622fe
git_last_commit_date: 2021-10-26 13:00:40 -0500
nebbiolo2Linux (Ubuntu 20.04.3 LTS) / x86_64  OK    OK    OK  UNNEEDED, same version is already published
tokay2Windows Server 2012 R2 Standard / x64  OK    OK    OK    OK  UNNEEDED, same version is already published
machv2macOS 10.14.6 Mojave / x86_64  OK    OK    OK    OK  UNNEEDED, same version is already published
Package 123/191HostnameOS / ArchINSTALLBUILDCHECKBUILD BIN
multiMiR 1.16.0  (landing page)
Matt Mulvahill
git_last_commit: 56f3190
git_last_commit_date: 2021-10-26 12:38:12 -0500
nebbiolo2Linux (Ubuntu 20.04.3 LTS) / x86_64  OK    OK    OK  UNNEEDED, same version is already published
tokay2Windows Server 2012 R2 Standard / x64  OK    OK    OK    OK  UNNEEDED, same version is already published
machv2macOS 10.14.6 Mojave / x86_64  OK    OK    OK    OK  UNNEEDED, same version is already published
Package 124/191HostnameOS / ArchINSTALLBUILDCHECKBUILD BIN
NanoMethViz 2.0.0  (landing page)
Shian Su
git_last_commit: ea1692c
git_last_commit_date: 2021-10-26 13:04:32 -0500
nebbiolo2Linux (Ubuntu 20.04.3 LTS) / x86_64  OK    OK    OK  UNNEEDED, same version is already published
tokay2Windows Server 2012 R2 Standard / x64  OK    OK    OK    OK  UNNEEDED, same version is already published
machv2macOS 10.14.6 Mojave / x86_64  OK    OK    OK    OK  UNNEEDED, same version is already published
Package 125/191HostnameOS / ArchINSTALLBUILDCHECKBUILD BIN
NanoStringQCPro 1.26.0  (landing page)
Robert Ziman
git_last_commit: 42d2b8e
git_last_commit_date: 2021-10-26 12:20:01 -0500
nebbiolo2Linux (Ubuntu 20.04.3 LTS) / x86_64  OK    OK    OK  UNNEEDED, same version is already published
tokay2Windows Server 2012 R2 Standard / x64  OK    OK    OK    OK  UNNEEDED, same version is already published
machv2macOS 10.14.6 Mojave / x86_64  OK    OK    OK    OK  UNNEEDED, same version is already published
Package 126/191HostnameOS / ArchINSTALLBUILDCHECKBUILD BIN
nanotatoR 1.10.0  (landing page)
Surajit Bhattacharya
git_last_commit: 821a44d
git_last_commit_date: 2021-10-26 12:51:40 -0500
nebbiolo2Linux (Ubuntu 20.04.3 LTS) / x86_64  OK    OK    OK  UNNEEDED, same version is already published
tokay2Windows Server 2012 R2 Standard / x64  OK    OK    OK    OK  UNNEEDED, same version is already published
machv2macOS 10.14.6 Mojave / x86_64  OK    OK    OK    OK  UNNEEDED, same version is already published
Package 127/191HostnameOS / ArchINSTALLBUILDCHECKBUILD BIN
netOmics 1.0.0  (landing page)
Antoine Bodein
git_last_commit: 00eaf6b
git_last_commit_date: 2021-10-26 13:13:58 -0500
nebbiolo2Linux (Ubuntu 20.04.3 LTS) / x86_64  OK    OK    OK  UNNEEDED, same version is already published
tokay2Windows Server 2012 R2 Standard / x64  OK    OK    OK    OK  UNNEEDED, same version is already published
machv2macOS 10.14.6 Mojave / x86_64  OK    OK    OK    OK  UNNEEDED, same version is already published
Package 128/191HostnameOS / ArchINSTALLBUILDCHECKBUILD BIN
NetSAM 1.34.0  (landing page)
Zhiao Shi
git_last_commit: a0ea6d4
git_last_commit_date: 2021-10-26 12:08:28 -0500
nebbiolo2Linux (Ubuntu 20.04.3 LTS) / x86_64  OK    OK    OK  UNNEEDED, same version is already published
tokay2Windows Server 2012 R2 Standard / x64  OK    OK    ERROR    OK  
machv2macOS 10.14.6 Mojave / x86_64  OK    OK    ERROR    OK  
Package 129/191HostnameOS / ArchINSTALLBUILDCHECKBUILD BIN
NoRCE 1.6.0  (landing page)
Gulden Olgun
git_last_commit: b9eb356
git_last_commit_date: 2021-10-26 12:58:02 -0500
nebbiolo2Linux (Ubuntu 20.04.3 LTS) / x86_64  OK    OK    OK  UNNEEDED, same version is already published
tokay2Windows Server 2012 R2 Standard / x64  OK    OK    ERROR    OK  
machv2macOS 10.14.6 Mojave / x86_64  OK    OK    OK    OK  UNNEEDED, same version is already published
Package 130/191HostnameOS / ArchINSTALLBUILDCHECKBUILD BIN
Onassis 1.16.0  (landing page)
Eugenia Galeota
git_last_commit: ff370b7
git_last_commit_date: 2021-10-26 12:37:06 -0500
nebbiolo2Linux (Ubuntu 20.04.3 LTS) / x86_64  ERROR    ERROR  skipped
tokay2Windows Server 2012 R2 Standard / x64  ERROR    ERROR  skippedskipped
machv2macOS 10.14.6 Mojave / x86_64  ERROR    ERROR  skippedskipped
Package 131/191HostnameOS / ArchINSTALLBUILDCHECKBUILD BIN
ontoProc 1.16.0  (landing page)
VJ Carey
git_last_commit: 45a31ef
git_last_commit_date: 2021-10-26 12:39:25 -0500
nebbiolo2Linux (Ubuntu 20.04.3 LTS) / x86_64  OK    OK    OK  UNNEEDED, same version is already published
tokay2Windows Server 2012 R2 Standard / x64  OK    OK    OK    OK  UNNEEDED, same version is already published
machv2macOS 10.14.6 Mojave / x86_64  OK    OK    OK    OK  UNNEEDED, same version is already published
Package 132/191HostnameOS / ArchINSTALLBUILDCHECKBUILD BIN
ORFik 1.14.5  (landing page)
Haakon Tjeldnes
git_last_commit: cdc337c
git_last_commit_date: 2021-11-04 04:48:24 -0500
nebbiolo2Linux (Ubuntu 20.04.3 LTS) / x86_64  OK    OK    OK  UNNEEDED, same version is already published
tokay2Windows Server 2012 R2 Standard / x64  OK    ERROR  skippedskipped
machv2macOS 10.14.6 Mojave / x86_64  OK    OK    OK    OK  UNNEEDED, same version is already published
Package 133/191HostnameOS / ArchINSTALLBUILDCHECKBUILD BIN
Organism.dplyr 1.22.1  (landing page)
Martin Morgan
git_last_commit: f324c0f
git_last_commit_date: 2021-10-28 16:47:22 -0500
nebbiolo2Linux (Ubuntu 20.04.3 LTS) / x86_64  OK    OK    OK  UNNEEDED, same version is already published
tokay2Windows Server 2012 R2 Standard / x64  OK    OK    OK    OK  UNNEEDED, same version is already published
machv2macOS 10.14.6 Mojave / x86_64  OK    OK    OK    OK  UNNEEDED, same version is already published
Package 134/191HostnameOS / ArchINSTALLBUILDCHECKBUILD BIN
OrganismDbi 1.36.0  (landing page)
Bioconductor Package Maintainer
git_last_commit: 3e7a90d
git_last_commit_date: 2021-10-26 12:04:26 -0500
nebbiolo2Linux (Ubuntu 20.04.3 LTS) / x86_64  OK    OK    ERROR  
tokay2Windows Server 2012 R2 Standard / x64  OK    OK    ERROR    OK  
machv2macOS 10.14.6 Mojave / x86_64  OK    OK    ERROR    OK  
Package 135/191HostnameOS / ArchINSTALLBUILDCHECKBUILD BIN
PADOG 1.36.0  (landing page)
Adi L. Tarca
git_last_commit: 8cac9c8
git_last_commit_date: 2021-10-26 12:04:03 -0500
nebbiolo2Linux (Ubuntu 20.04.3 LTS) / x86_64  OK    OK    OK  UNNEEDED, same version is already published
tokay2Windows Server 2012 R2 Standard / x64  OK    OK    OK    OK  UNNEEDED, same version is already published
machv2macOS 10.14.6 Mojave / x86_64  OK    OK    OK    OK  UNNEEDED, same version is already published
Package 136/191HostnameOS / ArchINSTALLBUILDCHECKBUILD BIN
pathRender 1.62.0  (landing page)
Vince Carey
git_last_commit: fe37bb7
git_last_commit_date: 2021-10-26 11:48:58 -0500
nebbiolo2Linux (Ubuntu 20.04.3 LTS) / x86_64  OK    OK    OK  UNNEEDED, same version is already published
tokay2Windows Server 2012 R2 Standard / x64  OK    OK    OK    OK  UNNEEDED, same version is already published
machv2macOS 10.14.6 Mojave / x86_64  OK    OK    OK    OK  UNNEEDED, same version is already published
Package 137/191HostnameOS / ArchINSTALLBUILDCHECKBUILD BIN
pathview 1.34.0  (landing page)
Weijun Luo
git_last_commit: a878890
git_last_commit_date: 2021-10-26 12:07:10 -0500
nebbiolo2Linux (Ubuntu 20.04.3 LTS) / x86_64  OK    OK    WARNINGS  UNNEEDED, same version is already published
tokay2Windows Server 2012 R2 Standard / x64  OK    OK    WARNINGS    OK  UNNEEDED, same version is already published
machv2macOS 10.14.6 Mojave / x86_64  OK    OK    WARNINGS    OK  UNNEEDED, same version is already published
Package 138/191HostnameOS / ArchINSTALLBUILDCHECKBUILD BIN
pcaExplorer 2.20.0  (landing page)
Federico Marini
git_last_commit: 10500f4
git_last_commit_date: 2021-10-26 12:27:09 -0500
nebbiolo2Linux (Ubuntu 20.04.3 LTS) / x86_64  OK    OK    OK  UNNEEDED, same version is already published
tokay2Windows Server 2012 R2 Standard / x64  OK    OK    OK    OK  UNNEEDED, same version is already published
machv2macOS 10.14.6 Mojave / x86_64  OK    OK    OK    OK  UNNEEDED, same version is already published
Package 139/191HostnameOS / ArchINSTALLBUILDCHECKBUILD BIN
phantasus 1.14.0  (landing page)
Alexey Sergushichev
git_last_commit: 26a4f40
git_last_commit_date: 2021-10-26 12:42:56 -0500
nebbiolo2Linux (Ubuntu 20.04.3 LTS) / x86_64  OK    OK    OK  UNNEEDED, same version is already published
tokay2Windows Server 2012 R2 Standard / x64  OK    OK    OK    OK  UNNEEDED, same version is already published
machv2macOS 10.14.6 Mojave / x86_64  OK    OK    OK    OK  UNNEEDED, same version is already published
Package 140/191HostnameOS / ArchINSTALLBUILDCHECKBUILD BIN
phenoTest 1.42.0  (landing page)
Evarist Planet
git_last_commit: 28925db
git_last_commit_date: 2021-10-26 11:57:57 -0500
nebbiolo2Linux (Ubuntu 20.04.3 LTS) / x86_64  OK    OK    WARNINGS  UNNEEDED, same version is already published
tokay2Windows Server 2012 R2 Standard / x64  OK    OK    WARNINGS    OK  UNNEEDED, same version is already published
machv2macOS 10.14.6 Mojave / x86_64  OK    OK    WARNINGS    OK  UNNEEDED, same version is already published
Package 141/191HostnameOS / ArchINSTALLBUILDCHECKBUILD BIN
proActiv 1.4.0  (landing page)
Joseph Lee
git_last_commit: 6198397
git_last_commit_date: 2021-10-26 13:02:38 -0500
nebbiolo2Linux (Ubuntu 20.04.3 LTS) / x86_64  OK    OK    OK  UNNEEDED, same version is already published
tokay2Windows Server 2012 R2 Standard / x64  OK    OK    OK    OK  UNNEEDED, same version is already published
machv2macOS 10.14.6 Mojave / x86_64  OK    OK    OK    OK  UNNEEDED, same version is already published
Package 142/191HostnameOS / ArchINSTALLBUILDCHECKBUILD BIN
proBAMr 1.28.0  (landing page)
Xiaojing Wang
git_last_commit: f72b73a
git_last_commit_date: 2021-10-26 12:16:35 -0500
nebbiolo2Linux (Ubuntu 20.04.3 LTS) / x86_64  OK    OK    OK  UNNEEDED, same version is already published
tokay2Windows Server 2012 R2 Standard / x64  OK    OK    OK    OK  UNNEEDED, same version is already published
machv2macOS 10.14.6 Mojave / x86_64  OK    OK    OK    OK  UNNEEDED, same version is already published
Package 143/191HostnameOS / ArchINSTALLBUILDCHECKBUILD BIN
psichomics 1.20.0  (landing page)
Nuno Saraiva-Agostinho
git_last_commit: 84bcdbf
git_last_commit_date: 2021-10-26 12:30:49 -0500
nebbiolo2Linux (Ubuntu 20.04.3 LTS) / x86_64  OK    OK    OK  UNNEEDED, same version is already published
tokay2Windows Server 2012 R2 Standard / x64  OK    OK    OK    OK  UNNEEDED, same version is already published
machv2macOS 10.14.6 Mojave / x86_64  OK    OK    OK    OK  UNNEEDED, same version is already published
Package 144/191HostnameOS / ArchINSTALLBUILDCHECKBUILD BIN
pwOmics 1.26.0  (landing page)
Maren Sitte
git_last_commit: b5d245a
git_last_commit_date: 2021-10-26 12:20:38 -0500
nebbiolo2Linux (Ubuntu 20.04.3 LTS) / x86_64  OK    OK    WARNINGS  UNNEEDED, same version is already published
tokay2Windows Server 2012 R2 Standard / x64  OK    OK    WARNINGS    OK  UNNEEDED, same version is already published
machv2macOS 10.14.6 Mojave / x86_64  OK    OK    WARNINGS    OK  UNNEEDED, same version is already published
Package 145/191HostnameOS / ArchINSTALLBUILDCHECKBUILD BIN
qpgraph 2.28.0  (landing page)
Robert Castelo
git_last_commit: 5953468
git_last_commit_date: 2021-10-26 11:53:27 -0500
nebbiolo2Linux (Ubuntu 20.04.3 LTS) / x86_64  OK    OK    WARNINGS  UNNEEDED, same version is already published
tokay2Windows Server 2012 R2 Standard / x64  OK    OK    WARNINGS    OK  UNNEEDED, same version is already published
machv2macOS 10.14.6 Mojave / x86_64  OK    OK    WARNINGS    OK  UNNEEDED, same version is already published
Package 146/191HostnameOS / ArchINSTALLBUILDCHECKBUILD BIN
QuasR 1.34.0  (landing page)
Michael Stadler
git_last_commit: d22d4ad
git_last_commit_date: 2021-10-26 12:06:13 -0500
nebbiolo2Linux (Ubuntu 20.04.3 LTS) / x86_64  OK    OK    OK  UNNEEDED, same version is already published
tokay2Windows Server 2012 R2 Standard / x64  OK    OK    OK    OK  UNNEEDED, same version is already published
machv2macOS 10.14.6 Mojave / x86_64  OK    OK    OK    OK  UNNEEDED, same version is already published
Package 147/191HostnameOS / ArchINSTALLBUILDCHECKBUILD BIN
rCGH 1.24.0  (landing page)
Frederic Commo
git_last_commit: ee2a9d3
git_last_commit_date: 2021-10-26 12:21:28 -0500
nebbiolo2Linux (Ubuntu 20.04.3 LTS) / x86_64  OK    OK    OK  UNNEEDED, same version is already published
tokay2Windows Server 2012 R2 Standard / x64  OK    OK    OK    OK  UNNEEDED, same version is already published
machv2macOS 10.14.6 Mojave / x86_64  OK    OK    OK    OK  UNNEEDED, same version is already published
Package 148/191HostnameOS / ArchINSTALLBUILDCHECKBUILD BIN
ReactomePA 1.38.0  (landing page)
Guangchuang Yu
git_last_commit: b0aae92
git_last_commit_date: 2021-10-26 12:02:32 -0500
nebbiolo2Linux (Ubuntu 20.04.3 LTS) / x86_64  OK    OK    OK  UNNEEDED, same version is already published
tokay2Windows Server 2012 R2 Standard / x64  OK    OK    OK    OK  UNNEEDED, same version is already published
machv2macOS 10.14.6 Mojave / x86_64  OK    OK    OK    OK  UNNEEDED, same version is already published
Package 149/191HostnameOS / ArchINSTALLBUILDCHECKBUILD BIN
REDseq 1.40.0  (landing page)
Lihua Julie Zhu
git_last_commit: a5a0e6d
git_last_commit_date: 2021-10-26 11:59:14 -0500
nebbiolo2Linux (Ubuntu 20.04.3 LTS) / x86_64  OK    OK    OK  UNNEEDED, same version is already published
tokay2Windows Server 2012 R2 Standard / x64  OK    OK    OK    OK  UNNEEDED, same version is already published
machv2macOS 10.14.6 Mojave / x86_64  OK    OK    OK    OK  UNNEEDED, same version is already published
Package 150/191HostnameOS / ArchINSTALLBUILDCHECKBUILD BIN
regutools 1.6.0  (landing page)
Joselyn Chavez
git_last_commit: 3795415
git_last_commit_date: 2021-10-26 12:59:29 -0500
nebbiolo2Linux (Ubuntu 20.04.3 LTS) / x86_64  OK    OK    OK  UNNEEDED, same version is already published
tokay2Windows Server 2012 R2 Standard / x64  OK    OK    OK    OK  UNNEEDED, same version is already published
machv2macOS 10.14.6 Mojave / x86_64  OK    OK    OK    OK  UNNEEDED, same version is already published
Package 151/191HostnameOS / ArchINSTALLBUILDCHECKBUILD BIN
ReportingTools 2.34.0  (landing page)
Jason A. Hackney , Gabriel Becker
git_last_commit: fb5aef0
git_last_commit_date: 2021-10-26 12:04:45 -0500
nebbiolo2Linux (Ubuntu 20.04.3 LTS) / x86_64  OK    OK    OK  UNNEEDED, same version is already published
tokay2Windows Server 2012 R2 Standard / x64  OK    OK    OK    OK  UNNEEDED, same version is already published
machv2macOS 10.14.6 Mojave / x86_64  OK    OK    OK    OK  UNNEEDED, same version is already published
Package 152/191HostnameOS / ArchINSTALLBUILDCHECKBUILD BIN
restfulSE 1.16.0  (landing page)
Shweta Gopaulakrishnan
git_last_commit: 61a70ed
git_last_commit_date: 2021-10-26 12:38:23 -0500
nebbiolo2Linux (Ubuntu 20.04.3 LTS) / x86_64  OK    OK    OK  UNNEEDED, same version is already published
tokay2Windows Server 2012 R2 Standard / x64  OK    OK    OK    OK  UNNEEDED, same version is already published
machv2macOS 10.14.6 Mojave / x86_64  OK    OK    OK    OK  UNNEEDED, same version is already published
Package 153/191HostnameOS / ArchINSTALLBUILDCHECKBUILD BIN
rgsepd 1.26.0  (landing page)
Karl Stamm
git_last_commit: 02c7033
git_last_commit_date: 2021-10-26 12:18:10 -0500
nebbiolo2Linux (Ubuntu 20.04.3 LTS) / x86_64  OK    OK    OK  UNNEEDED, same version is already published
tokay2Windows Server 2012 R2 Standard / x64  OK    OK    OK    OK  UNNEEDED, same version is already published
machv2macOS 10.14.6 Mojave / x86_64  OK    OK    OK    OK  UNNEEDED, same version is already published
Package 154/191HostnameOS / ArchINSTALLBUILDCHECKBUILD BIN
ribosomeProfilingQC 1.6.1  (landing page)
Jianhong Ou
git_last_commit: 7ab254d
git_last_commit_date: 2021-11-10 16:48:59 -0500
nebbiolo2Linux (Ubuntu 20.04.3 LTS) / x86_64  OK    OK    OK  UNNEEDED, same version is already published
tokay2Windows Server 2012 R2 Standard / x64  OK    OK    OK    OK  UNNEEDED, same version is already published
machv2macOS 10.14.6 Mojave / x86_64  OK    OK    OK    OK  UNNEEDED, same version is already published
Package 155/191HostnameOS / ArchINSTALLBUILDCHECKBUILD BIN
RNAAgeCalc 1.6.0  (landing page)
Xu Ren
git_last_commit: ee56a68
git_last_commit_date: 2021-10-26 12:57:56 -0500
nebbiolo2Linux (Ubuntu 20.04.3 LTS) / x86_64  OK    OK    OK  UNNEEDED, same version is already published
tokay2Windows Server 2012 R2 Standard / x64  OK    OK    OK    OK  UNNEEDED, same version is already published
machv2macOS 10.14.6 Mojave / x86_64  OK    OK    OK    OK  UNNEEDED, same version is already published
Package 156/191HostnameOS / ArchINSTALLBUILDCHECKBUILD BIN
RpsiXML 2.36.0  (landing page)
Jitao David Zhang
git_last_commit: cc895e5
git_last_commit_date: 2021-10-26 11:52:47 -0500
nebbiolo2Linux (Ubuntu 20.04.3 LTS) / x86_64  OK    OK    OK  UNNEEDED, same version is already published
tokay2Windows Server 2012 R2 Standard / x64  OK    OK    OK    OK  UNNEEDED, same version is already published
machv2macOS 10.14.6 Mojave / x86_64  OK    OK    OK    OK  UNNEEDED, same version is already published
Package 157/191HostnameOS / ArchINSTALLBUILDCHECKBUILD BIN
rrvgo 1.6.0  (landing page)
Sergi Sayols
git_last_commit: 46ae2cf
git_last_commit_date: 2021-10-26 12:57:35 -0500
nebbiolo2Linux (Ubuntu 20.04.3 LTS) / x86_64  OK    OK    OK  UNNEEDED, same version is already published
tokay2Windows Server 2012 R2 Standard / x64  OK    OK    OK    OK  UNNEEDED, same version is already published
machv2macOS 10.14.6 Mojave / x86_64  OK    OK    OK    OK  UNNEEDED, same version is already published
Package 158/191HostnameOS / ArchINSTALLBUILDCHECKBUILD BIN
rTRM 1.32.0  (landing page)
Diego Diez
git_last_commit: 29f92ac
git_last_commit_date: 2021-10-26 12:08:38 -0500
nebbiolo2Linux (Ubuntu 20.04.3 LTS) / x86_64  OK    OK    OK  UNNEEDED, same version is already published
tokay2Windows Server 2012 R2 Standard / x64  OK    OK    OK    OK  UNNEEDED, same version is already published
machv2macOS 10.14.6 Mojave / x86_64  OK    OK    OK    OK  UNNEEDED, same version is already published
Package 159/191HostnameOS / ArchINSTALLBUILDCHECKBUILD BIN
safe 3.34.0  (landing page)
Ludwig Geistlinger
git_last_commit: 527fe92
git_last_commit_date: 2021-10-26 11:47:48 -0500
nebbiolo2Linux (Ubuntu 20.04.3 LTS) / x86_64  OK    OK    OK  UNNEEDED, same version is already published
tokay2Windows Server 2012 R2 Standard / x64  OK    OK    OK    OK  UNNEEDED, same version is already published
machv2macOS 10.14.6 Mojave / x86_64  OK    OK    OK    OK  UNNEEDED, same version is already published
Package 160/191HostnameOS / ArchINSTALLBUILDCHECKBUILD BIN
SBGNview 1.8.0  (landing page)
Weijun Luo
git_last_commit: 1a402c7
git_last_commit_date: 2021-10-26 12:52:48 -0500
nebbiolo2Linux (Ubuntu 20.04.3 LTS) / x86_64  OK    OK    OK  UNNEEDED, same version is already published
tokay2Windows Server 2012 R2 Standard / x64  OK    OK    OK    OK  UNNEEDED, same version is already published
machv2macOS 10.14.6 Mojave / x86_64  OK    OK    OK    OK  UNNEEDED, same version is already published
Package 161/191HostnameOS / ArchINSTALLBUILDCHECKBUILD BIN
scanMiRApp 1.0.0  (landing page)
Pierre-Luc Germain
git_last_commit: 71c1334
git_last_commit_date: 2021-10-26 13:11:39 -0500
nebbiolo2Linux (Ubuntu 20.04.3 LTS) / x86_64  OK    OK    OK  UNNEEDED, same version is already published
tokay2Windows Server 2012 R2 Standard / x64  OK    OK    OK    OK  UNNEEDED, same version is already published
machv2macOS 10.14.6 Mojave / x86_64  OK    OK    OK    OK  UNNEEDED, same version is already published
Package 162/191HostnameOS / ArchINSTALLBUILDCHECKBUILD BIN
ScISI 1.66.0  (landing page)
Tony Chiang
git_last_commit: 1e8f20b
git_last_commit_date: 2021-10-26 11:49:12 -0500
nebbiolo2Linux (Ubuntu 20.04.3 LTS) / x86_64  OK    ERROR  skipped
tokay2Windows Server 2012 R2 Standard / x64  OK    ERROR  skippedskipped
machv2macOS 10.14.6 Mojave / x86_64  OK    ERROR  skippedskipped
Package 163/191HostnameOS / ArchINSTALLBUILDCHECKBUILD BIN
scPipe 1.16.0  (landing page)
Luyi Tian
git_last_commit: 49f8032
git_last_commit_date: 2021-10-26 12:39:05 -0500
nebbiolo2Linux (Ubuntu 20.04.3 LTS) / x86_64  OK    OK    OK  UNNEEDED, same version is already published
tokay2Windows Server 2012 R2 Standard / x64  OK    OK    OK    OK  UNNEEDED, same version is already published
machv2macOS 10.14.6 Mojave / x86_64  OK    OK    OK    OK  UNNEEDED, same version is already published
Package 164/191HostnameOS / ArchINSTALLBUILDCHECKBUILD BIN
scruff 1.12.1  (landing page)
Zhe Wang
git_last_commit: ecade1b
git_last_commit_date: 2021-11-12 18:16:24 -0500
nebbiolo2Linux (Ubuntu 20.04.3 LTS) / x86_64  OK    OK    OK  UNNEEDED, same version is already published
tokay2Windows Server 2012 R2 Standard / x64  OK    OK    OK    OK  UNNEEDED, same version is already published
machv2macOS 10.14.6 Mojave / x86_64  OK    OK    OK    OK  UNNEEDED, same version is already published
Package 165/191HostnameOS / ArchINSTALLBUILDCHECKBUILD BIN
scTensor 2.4.0  (landing page)
Koki Tsuyuzaki
git_last_commit: 1217e12
git_last_commit_date: 2021-10-26 12:48:21 -0500
nebbiolo2Linux (Ubuntu 20.04.3 LTS) / x86_64  OK    OK    OK  UNNEEDED, same version is already published
tokay2Windows Server 2012 R2 Standard / x64  OK    OK    OK    OK  UNNEEDED, same version is already published
machv2macOS 10.14.6 Mojave / x86_64  OK    OK    OK    OK  UNNEEDED, same version is already published
Package 166/191HostnameOS / ArchINSTALLBUILDCHECKBUILD BIN
SemDist 1.28.0  (landing page)
Ian Gonzalez
git_last_commit: 53871da
git_last_commit_date: 2021-10-26 12:15:20 -0500
nebbiolo2Linux (Ubuntu 20.04.3 LTS) / x86_64  OK    OK    OK  UNNEEDED, same version is already published
tokay2Windows Server 2012 R2 Standard / x64  OK    OK    OK    OK  UNNEEDED, same version is already published
machv2macOS 10.14.6 Mojave / x86_64  OK    OK    OK    OK  UNNEEDED, same version is already published
Package 167/191HostnameOS / ArchINSTALLBUILDCHECKBUILD BIN
SGSeq 1.28.0  (landing page)
Leonard Goldstein
git_last_commit: 9468314
git_last_commit_date: 2021-10-26 12:17:06 -0500
nebbiolo2Linux (Ubuntu 20.04.3 LTS) / x86_64  OK    OK    OK  UNNEEDED, same version is already published
tokay2Windows Server 2012 R2 Standard / x64  OK    OK    OK    OK  UNNEEDED, same version is already published
machv2macOS 10.14.6 Mojave / x86_64  OK    OK    OK    OK  UNNEEDED, same version is already published
Package 168/191HostnameOS / ArchINSTALLBUILDCHECKBUILD BIN
signatureSearch 1.8.0  (landing page)
Yuzhu Duan
git_last_commit: fe9b931
git_last_commit_date: 2021-10-26 12:56:06 -0500
nebbiolo2Linux (Ubuntu 20.04.3 LTS) / x86_64  OK    OK    OK  UNNEEDED, same version is already published
tokay2Windows Server 2012 R2 Standard / x64  OK    OK    OK    OK  UNNEEDED, same version is already published
machv2macOS 10.14.6 Mojave / x86_64  OK    OK    OK    OK  UNNEEDED, same version is already published
Package 169/191HostnameOS / ArchINSTALLBUILDCHECKBUILD BIN
simplifyEnrichment 1.4.0  (landing page)
Zuguang Gu
git_last_commit: 549d5f1
git_last_commit_date: 2021-10-26 13:00:10 -0500
nebbiolo2Linux (Ubuntu 20.04.3 LTS) / x86_64  OK    OK    OK  UNNEEDED, same version is already published
tokay2Windows Server 2012 R2 Standard / x64  OK    OK    OK    OK  UNNEEDED, same version is already published
machv2macOS 10.14.6 Mojave / x86_64  OK    OK    OK    OK  UNNEEDED, same version is already published
Package 170/191HostnameOS / ArchINSTALLBUILDCHECKBUILD BIN
singleCellTK 2.4.0  (landing page)
Yichen Wang
git_last_commit: 91f98fc
git_last_commit_date: 2021-10-27 11:24:49 -0500
nebbiolo2Linux (Ubuntu 20.04.3 LTS) / x86_64  OK    OK    OK  UNNEEDED, same version is already published
tokay2Windows Server 2012 R2 Standard / x64  OK    OK    ERROR    OK  
machv2macOS 10.14.6 Mojave / x86_64  OK    OK    OK    OK  UNNEEDED, same version is already published
Package 171/191HostnameOS / ArchINSTALLBUILDCHECKBUILD BIN
SLGI 1.54.0  (landing page)
Nolwenn Le Meur
git_last_commit: b4f5841
git_last_commit_date: 2021-10-26 11:51:49 -0500
nebbiolo2Linux (Ubuntu 20.04.3 LTS) / x86_64  OK    OK    OK  UNNEEDED, same version is already published
tokay2Windows Server 2012 R2 Standard / x64  OK    OK    OK    OK  UNNEEDED, same version is already published
machv2macOS 10.14.6 Mojave / x86_64  OK    OK    OK    OK  UNNEEDED, same version is already published
Package 172/191HostnameOS / ArchINSTALLBUILDCHECKBUILD BIN
SMITE 1.22.0  (landing page)
Neil Ari Wijetunga
git_last_commit: 6979357
git_last_commit_date: 2021-10-26 12:25:15 -0500
nebbiolo2Linux (Ubuntu 20.04.3 LTS) / x86_64  OK    OK    OK  UNNEEDED, same version is already published
tokay2Windows Server 2012 R2 Standard / x64  OK    OK    OK    OK  UNNEEDED, same version is already published
machv2macOS 10.14.6 Mojave / x86_64  OK    OK    OK    OK  UNNEEDED, same version is already published
Package 173/191HostnameOS / ArchINSTALLBUILDCHECKBUILD BIN
SpidermiR 1.24.0  (landing page)
Claudia Cava
git_last_commit: 2316683
git_last_commit_date: 2021-10-26 12:26:19 -0500
nebbiolo2Linux (Ubuntu 20.04.3 LTS) / x86_64  OK    OK    ERROR  
tokay2Windows Server 2012 R2 Standard / x64  OK    OK    OK    OK  UNNEEDED, same version is already published
machv2macOS 10.14.6 Mojave / x86_64  OK    OK    ERROR    OK  
Package 174/191HostnameOS / ArchINSTALLBUILDCHECKBUILD BIN
StarBioTrek 1.20.0  (landing page)
Claudia Cava
git_last_commit: b3fd611
git_last_commit_date: 2021-10-26 12:31:11 -0500
nebbiolo2Linux (Ubuntu 20.04.3 LTS) / x86_64  OK    OK    WARNINGS  UNNEEDED, same version is already published
tokay2Windows Server 2012 R2 Standard / x64  OK    OK    WARNINGS    OK  UNNEEDED, same version is already published
machv2macOS 10.14.6 Mojave / x86_64  OK    OK    WARNINGS    OK  UNNEEDED, same version is already published
Package 175/191HostnameOS / ArchINSTALLBUILDCHECKBUILD BIN
SubCellBarCode 1.10.0  (landing page)
Taner Arslan
git_last_commit: 578a4ae
git_last_commit_date: 2021-10-26 12:52:05 -0500
nebbiolo2Linux (Ubuntu 20.04.3 LTS) / x86_64  OK    OK    OK  UNNEEDED, same version is already published
tokay2Windows Server 2012 R2 Standard / x64  OK    OK    OK    OK  UNNEEDED, same version is already published
machv2macOS 10.14.6 Mojave / x86_64  OK    OK    OK    OK  UNNEEDED, same version is already published
Package 176/191HostnameOS / ArchINSTALLBUILDCHECKBUILD BIN
TCGAutils 1.14.0  (landing page)
Marcel Ramos
git_last_commit: 7b49410
git_last_commit_date: 2021-10-26 12:44:28 -0500
nebbiolo2Linux (Ubuntu 20.04.3 LTS) / x86_64  OK    OK    OK  UNNEEDED, same version is already published
tokay2Windows Server 2012 R2 Standard / x64  OK    OK    OK    OK  UNNEEDED, same version is already published
machv2macOS 10.14.6 Mojave / x86_64  OK    OK    OK    OK  UNNEEDED, same version is already published
Package 177/191HostnameOS / ArchINSTALLBUILDCHECKBUILD BIN
tenXplore 1.16.0  (landing page)
VJ Carey
git_last_commit: 7ef77de
git_last_commit_date: 2021-10-26 12:39:51 -0500
nebbiolo2Linux (Ubuntu 20.04.3 LTS) / x86_64  OK    OK    OK  UNNEEDED, same version is already published
tokay2Windows Server 2012 R2 Standard / x64  OK    OK    OK    OK  UNNEEDED, same version is already published
machv2macOS 10.14.6 Mojave / x86_64  OK    OK    OK    OK  UNNEEDED, same version is already published
Package 178/191HostnameOS / ArchINSTALLBUILDCHECKBUILD BIN
TFutils 1.14.0  (landing page)
Vincent Carey
git_last_commit: 3c4cda1
git_last_commit_date: 2021-10-26 12:43:41 -0500
nebbiolo2Linux (Ubuntu 20.04.3 LTS) / x86_64  OK    OK    OK  UNNEEDED, same version is already published
tokay2Windows Server 2012 R2 Standard / x64  OK    OK    OK    OK  UNNEEDED, same version is already published
machv2macOS 10.14.6 Mojave / x86_64  OK    OK    OK    OK  UNNEEDED, same version is already published
Package 179/191HostnameOS / ArchINSTALLBUILDCHECKBUILD BIN
tigre 1.48.0  (landing page)
Antti Honkela
git_last_commit: bb256f7
git_last_commit_date: 2021-10-26 11:55:49 -0500
nebbiolo2Linux (Ubuntu 20.04.3 LTS) / x86_64  OK    OK    OK  UNNEEDED, same version is already published
tokay2Windows Server 2012 R2 Standard / x64  OK    OK    OK    OK  UNNEEDED, same version is already published
machv2macOS 10.14.6 Mojave / x86_64  OK    OK    OK    OK  UNNEEDED, same version is already published
Package 180/191HostnameOS / ArchINSTALLBUILDCHECKBUILD BIN
topGO 2.46.0  (landing page)
Adrian Alexa
git_last_commit: 2bfa9df
git_last_commit_date: 2021-10-26 11:50:53 -0500
nebbiolo2Linux (Ubuntu 20.04.3 LTS) / x86_64  OK    OK    OK  UNNEEDED, same version is already published
tokay2Windows Server 2012 R2 Standard / x64  OK    OK    OK    OK  UNNEEDED, same version is already published
machv2macOS 10.14.6 Mojave / x86_64  OK    OK    OK    OK  UNNEEDED, same version is already published
Package 181/191HostnameOS / ArchINSTALLBUILDCHECKBUILD BIN
trackViewer 1.30.0  (landing page)
Jianhong Ou
git_last_commit: 033811a
git_last_commit_date: 2021-10-26 12:11:38 -0500
nebbiolo2Linux (Ubuntu 20.04.3 LTS) / x86_64  OK    OK    OK  UNNEEDED, same version is already published
tokay2Windows Server 2012 R2 Standard / x64  OK    OK    OK    OK  UNNEEDED, same version is already published
machv2macOS 10.14.6 Mojave / x86_64  OK    OK    OK    OK  UNNEEDED, same version is already published
Package 182/191HostnameOS / ArchINSTALLBUILDCHECKBUILD BIN
trena 1.16.0  (landing page)
Paul Shannon
git_last_commit: f742819
git_last_commit_date: 2021-10-26 12:35:29 -0500
nebbiolo2Linux (Ubuntu 20.04.3 LTS) / x86_64  OK    OK    WARNINGS  UNNEEDED, same version is already published
tokay2Windows Server 2012 R2 Standard / x64  OK    OK    WARNINGS    OK  UNNEEDED, same version is already published
machv2macOS 10.14.6 Mojave / x86_64  OK    OK    WARNINGS    OK  UNNEEDED, same version is already published
Package 183/191HostnameOS / ArchINSTALLBUILDCHECKBUILD BIN
TRESS 1.0.0  (landing page)
Zhenxing Guo
git_last_commit: 8a50b92
git_last_commit_date: 2021-10-26 13:13:10 -0500
nebbiolo2Linux (Ubuntu 20.04.3 LTS) / x86_64  OK    OK    OK  UNNEEDED, same version is already published
tokay2Windows Server 2012 R2 Standard / x64  OK    OK    OK    OK  UNNEEDED, same version is already published
machv2macOS 10.14.6 Mojave / x86_64  OK    OK    OK    OK  UNNEEDED, same version is already published
Package 184/191HostnameOS / ArchINSTALLBUILDCHECKBUILD BIN
tricycle 1.2.0  (landing page)
Shijie Zheng
git_last_commit: 6f24449
git_last_commit_date: 2021-10-26 13:08:50 -0500
nebbiolo2Linux (Ubuntu 20.04.3 LTS) / x86_64  OK    OK    OK  UNNEEDED, same version is already published
tokay2Windows Server 2012 R2 Standard / x64  OK    OK    OK    OK  UNNEEDED, same version is already published
machv2macOS 10.14.6 Mojave / x86_64  OK    OK    OK    OK  UNNEEDED, same version is already published
Package 185/191HostnameOS / ArchINSTALLBUILDCHECKBUILD BIN
txcutr 1.0.0  (landing page)
Mervin Fansler
git_last_commit: 21b6a51
git_last_commit_date: 2021-10-26 13:14:01 -0500
nebbiolo2Linux (Ubuntu 20.04.3 LTS) / x86_64  OK    OK    OK  UNNEEDED, same version is already published
tokay2Windows Server 2012 R2 Standard / x64  OK    OK    OK    OK  UNNEEDED, same version is already published
machv2macOS 10.14.6 Mojave / x86_64  OK    OK    OK    OK  UNNEEDED, same version is already published
Package 186/191HostnameOS / ArchINSTALLBUILDCHECKBUILD BIN
tximeta 1.12.3  (landing page)
Michael Love
git_last_commit: 9af73b2
git_last_commit_date: 2021-11-07 08:07:35 -0500
nebbiolo2Linux (Ubuntu 20.04.3 LTS) / x86_64  OK    OK    OK  UNNEEDED, same version is already published
tokay2Windows Server 2012 R2 Standard / x64  OK    OK    OK    OK  UNNEEDED, same version is already published
machv2macOS 10.14.6 Mojave / x86_64  OK    OK    OK    OK  UNNEEDED, same version is already published
Package 187/191HostnameOS / ArchINSTALLBUILDCHECKBUILD BIN
Ularcirc 1.12.0  (landing page)
David Humphreys
git_last_commit: 6609d72
git_last_commit_date: 2021-10-26 12:45:11 -0500
nebbiolo2Linux (Ubuntu 20.04.3 LTS) / x86_64  OK    OK    OK  UNNEEDED, same version is already published
tokay2Windows Server 2012 R2 Standard / x64  OK    OK    OK    OK  UNNEEDED, same version is already published
machv2macOS 10.14.6 Mojave / x86_64  OK    OK    OK    OK  UNNEEDED, same version is already published
Package 188/191HostnameOS / ArchINSTALLBUILDCHECKBUILD BIN
UniProt.ws 2.34.0  (landing page)
Bioconductor Package Maintainer
git_last_commit: d2d3855
git_last_commit_date: 2021-10-26 12:05:27 -0500
nebbiolo2Linux (Ubuntu 20.04.3 LTS) / x86_64  OK    OK    OK  UNNEEDED, same version is already published
tokay2Windows Server 2012 R2 Standard / x64  OK    ERROR  skippedskipped
machv2macOS 10.14.6 Mojave / x86_64  OK    OK    OK    OK  UNNEEDED, same version is already published
Package 189/191HostnameOS / ArchINSTALLBUILDCHECKBUILD BIN
VariantAnnotation 1.40.0  (landing page)
Bioconductor Package Maintainer
git_last_commit: 50ead7c
git_last_commit_date: 2021-10-26 11:59:51 -0500
nebbiolo2Linux (Ubuntu 20.04.3 LTS) / x86_64  OK    OK    OK  UNNEEDED, same version is already published
tokay2Windows Server 2012 R2 Standard / x64  OK    OK    OK    OK  UNNEEDED, same version is already published
machv2macOS 10.14.6 Mojave / x86_64  OK    OK    OK    OK  UNNEEDED, same version is already published
Package 190/191HostnameOS / ArchINSTALLBUILDCHECKBUILD BIN
VariantFiltering 1.30.0  (landing page)
Robert Castelo
git_last_commit: a95fdc0
git_last_commit_date: 2021-10-26 12:13:05 -0500
nebbiolo2Linux (Ubuntu 20.04.3 LTS) / x86_64  OK    OK    OK  UNNEEDED, same version is already published
tokay2Windows Server 2012 R2 Standard / x64  OK    OK    OK    OK  UNNEEDED, same version is already published
machv2macOS 10.14.6 Mojave / x86_64  OK    OK    OK    OK  UNNEEDED, same version is already published
Package 191/191HostnameOS / ArchINSTALLBUILDCHECKBUILD BIN
ViSEAGO 1.8.0  (landing page)
Aurelien Brionne
git_last_commit: c5fd4b9
git_last_commit_date: 2021-10-26 12:52:59 -0500
nebbiolo2Linux (Ubuntu 20.04.3 LTS) / x86_64  OK    OK    WARNINGS  UNNEEDED, same version is already published
tokay2Windows Server 2012 R2 Standard / x64  OK    OK    WARNINGS    OK  UNNEEDED, same version is already published
machv2macOS 10.14.6 Mojave / x86_64  OK    OK    WARNINGS    OK  UNNEEDED, same version is already published