Back to Multiple platform build/check report for BioC 3.14
ABCDEFGHIJKLMNOPQRST[U]VWXYZ

This page was generated on 2022-01-21 13:05:53 -0500 (Fri, 21 Jan 2022).

HostnameOSArch (*)R versionInstalled pkgs
nebbiolo2Linux (Ubuntu 20.04.4 LTS)x86_644.1.2 (2021-11-01) -- "Bird Hippie" 4329
tokay2Windows Server 2012 R2 Standardx644.1.2 (2021-11-01) -- "Bird Hippie" 4079
machv2macOS 10.14.6 Mojavex86_644.1.2 (2021-11-01) -- "Bird Hippie" 4140
Click on any hostname to see more info about the system (e.g. compilers)      (*) as reported by 'uname -p', except on Windows and Mac OS X

CHECK results for UniProt.ws on nebbiolo2


To the developers/maintainers of the UniProt.ws package:
- Please allow up to 24 hours (and sometimes 48 hours) for your latest push to git@git.bioconductor.org:packages/UniProt.ws.git to
reflect on this report. See How and When does the builder pull? When will my changes propagate? here for more information.
- Make sure to use the following settings in order to reproduce any error or warning you see on this page.

raw results

Package 2030/2083HostnameOS / ArchINSTALLBUILDCHECKBUILD BIN
UniProt.ws 2.34.0  (landing page)
Bioconductor Package Maintainer
Snapshot Date: 2022-01-20 01:55:04 -0500 (Thu, 20 Jan 2022)
git_url: https://git.bioconductor.org/packages/UniProt.ws
git_branch: RELEASE_3_14
git_last_commit: d2d3855
git_last_commit_date: 2021-10-26 12:05:27 -0500 (Tue, 26 Oct 2021)
nebbiolo2Linux (Ubuntu 20.04.4 LTS) / x86_64  OK    OK    OK  UNNEEDED, same version is already published
tokay2Windows Server 2012 R2 Standard / x64  OK    ERROR  skippedskipped
machv2macOS 10.14.6 Mojave / x86_64  OK    OK    OK    OK  UNNEEDED, same version is already published

Summary

Package: UniProt.ws
Version: 2.34.0
Command: /home/biocbuild/bbs-3.14-bioc/R/bin/R CMD check --install=check:UniProt.ws.install-out.txt --library=/home/biocbuild/bbs-3.14-bioc/R/library --no-vignettes --timings UniProt.ws_2.34.0.tar.gz
StartedAt: 2022-01-20 09:58:31 -0500 (Thu, 20 Jan 2022)
EndedAt: 2022-01-20 10:03:52 -0500 (Thu, 20 Jan 2022)
EllapsedTime: 320.8 seconds
RetCode: 0
Status:   OK  
CheckDir: UniProt.ws.Rcheck
Warnings: 0

Command output

##############################################################################
##############################################################################
###
### Running command:
###
###   /home/biocbuild/bbs-3.14-bioc/R/bin/R CMD check --install=check:UniProt.ws.install-out.txt --library=/home/biocbuild/bbs-3.14-bioc/R/library --no-vignettes --timings UniProt.ws_2.34.0.tar.gz
###
##############################################################################
##############################################################################


* using log directory ‘/home/biocbuild/bbs-3.14-bioc/meat/UniProt.ws.Rcheck’
* using R version 4.1.2 (2021-11-01)
* using platform: x86_64-pc-linux-gnu (64-bit)
* using session charset: UTF-8
* using option ‘--no-vignettes’
* checking for file ‘UniProt.ws/DESCRIPTION’ ... OK
* checking extension type ... Package
* this is package ‘UniProt.ws’ version ‘2.34.0’
* checking package namespace information ... OK
* checking package dependencies ... OK
* checking if this is a source package ... OK
* checking if there is a namespace ... OK
* checking for hidden files and directories ... OK
* checking for portable file names ... OK
* checking for sufficient/correct file permissions ... OK
* checking whether package ‘UniProt.ws’ can be installed ... OK
* checking installed package size ... OK
* checking package directory ... OK
* checking ‘build’ directory ... OK
* checking DESCRIPTION meta-information ... OK
* checking top-level files ... OK
* checking for left-over files ... OK
* checking index information ... OK
* checking package subdirectories ... OK
* checking R files for non-ASCII characters ... OK
* checking R files for syntax errors ... OK
* checking whether the package can be loaded ... OK
* checking whether the package can be loaded with stated dependencies ... OK
* checking whether the package can be unloaded cleanly ... OK
* checking whether the namespace can be loaded with stated dependencies ... OK
* checking whether the namespace can be unloaded cleanly ... OK
* checking dependencies in R code ... OK
* checking S3 generic/method consistency ... OK
* checking replacement functions ... OK
* checking foreign function calls ... OK
* checking R code for possible problems ... OK
* checking Rd files ... OK
* checking Rd metadata ... OK
* checking Rd cross-references ... OK
* checking for missing documentation entries ... OK
* checking for code/documentation mismatches ... OK
* checking Rd \usage sections ... OK
* checking Rd contents ... OK
* checking for unstated dependencies in examples ... OK
* checking files in ‘vignettes’ ... OK
* checking examples ... OK
Examples with CPU (user + system) or elapsed time > 5s
                 user system elapsed
UniProtWS-class 2.686  0.318  63.905
colsAndKeytypes 0.331  0.039  25.564
* checking for unstated dependencies in ‘tests’ ... OK
* checking tests ...
  Running ‘UniProt.ws_unit_tests.R’
 OK
* checking for unstated dependencies in vignettes ... OK
* checking package vignettes in ‘inst/doc’ ... OK
* checking running R code from vignettes ... SKIPPED
* checking re-building of vignette outputs ... SKIPPED
* checking PDF version of manual ... OK
* DONE

Status: OK


Installation output

UniProt.ws.Rcheck/00install.out

##############################################################################
##############################################################################
###
### Running command:
###
###   /home/biocbuild/bbs-3.14-bioc/R/bin/R CMD INSTALL UniProt.ws
###
##############################################################################
##############################################################################


* installing to library ‘/home/biocbuild/bbs-3.14-bioc/R/library’
* installing *source* package ‘UniProt.ws’ ...
** using staged installation
** R
** inst
** byte-compile and prepare package for lazy loading
** help
*** installing help indices
** building package indices
** installing vignettes
** testing if installed package can be loaded from temporary location
** testing if installed package can be loaded from final location
** testing if installed package keeps a record of temporary installation path
* DONE (UniProt.ws)

Tests output

UniProt.ws.Rcheck/tests/UniProt.ws_unit_tests.Rout


R version 4.1.2 (2021-11-01) -- "Bird Hippie"
Copyright (C) 2021 The R Foundation for Statistical Computing
Platform: x86_64-pc-linux-gnu (64-bit)

R is free software and comes with ABSOLUTELY NO WARRANTY.
You are welcome to redistribute it under certain conditions.
Type 'license()' or 'licence()' for distribution details.

R is a collaborative project with many contributors.
Type 'contributors()' for more information and
'citation()' on how to cite R or R packages in publications.

Type 'demo()' for some demos, 'help()' for on-line help, or
'help.start()' for an HTML browser interface to help.
Type 'q()' to quit R.

> BiocGenerics:::testPackage("UniProt.ws")

Attaching package: 'BiocGenerics'

The following objects are masked from 'package:stats':

    IQR, mad, sd, var, xtabs

The following objects are masked from 'package:base':

    Filter, Find, Map, Position, Reduce, anyDuplicated, append,
    as.data.frame, basename, cbind, colnames, dirname, do.call,
    duplicated, eval, evalq, get, grep, grepl, intersect, is.unsorted,
    lapply, mapply, match, mget, order, paste, pmax, pmax.int, pmin,
    pmin.int, rank, rbind, rownames, sapply, setdiff, sort, table,
    tapply, union, unique, unsplit, which.max, which.min

Getting mapping data for P31946 ... and PDB_ID
Getting mapping data for P31946 ... and HGNC_ID
Getting extra data for P31946, P62258, Q04917
'select()' returned 1:many mapping between keys and columns
Getting mapping data for 1 ... and ACC
Getting mapping data for P04217 ... and PDB_ID
Getting mapping data for P04217 ... and HGNC_ID
Getting extra data for P04217, V9HWD8, P01023... (8 total)
'select()' returned 1:many mapping between keys and columns
Getting extra data for P31946, P62258, Q04917
'select()' returned 1:1 mapping between keys and columns
Getting mapping data for 1 ... and ACC
Getting mapping data for P04217 ... and PDB_ID
Getting extra data for P04217, V9HWD8, P01023... (8 total)
'select()' returned 1:many mapping between keys and columns
Getting extra data for Q96NG5, Q6ZN19, Q9UI25... (100 total)
'select()' returned 1:1 mapping between keys and columns
Getting mapping data for P31946 ... and P_ENTREZGENEID
'select()' returned 1:1 mapping between keys and columns
Getting mapping data for P31946 ... and P_ENTREZGENEID
Getting extra data for P31946, P62258, Q04917
'select()' returned 1:1 mapping between keys and columns
GENEID and ENTREZ_GENE are the same.
  returning only GENEID in results.
Getting mapping data for P31946 ... and P_ENTREZGENEID
Getting extra data for P31946, P62258, Q04917
'select()' returned 1:1 mapping between keys and columns
Getting mapping data for P31946 ... and P_ENTREZGENEID
Getting extra data for P31946, P62258, Q04917
'select()' returned 1:1 mapping between keys and columns
Getting extra data for P04217, P30443
Getting extra data for P13368, P20806, Q9UM73... (5 total)
Getting extra data for P13368, P20806, Q9UM73... (5 total)
Getting mapping data for P13368 ... and P_REFSEQ_AC
Getting mapping data for 1 ... and ACC
Getting mapping data for P04217 ... and GENENAME


RUNIT TEST PROTOCOL -- Thu Jan 20 10:03:49 2022 
*********************************************** 
Number of test functions: 21 
Number of errors: 0 
Number of failures: 0 

 
1 Test Suite : 
UniProt.ws RUnit Tests - 21 test functions, 0 errors, 0 failures
Number of test functions: 21 
Number of errors: 0 
Number of failures: 0 
> 
> proc.time()
   user  system elapsed 
  8.585   0.782 142.029 

Example timings

UniProt.ws.Rcheck/UniProt.ws-Ex.timings

nameusersystemelapsed
UniProtWS-class 2.686 0.31863.905
colsAndKeytypes 0.331 0.03925.564
utilities1.5530.0922.858