Back to Multiple platform build/check report for BioC 3.14
[A]BCDEFGHIJKLMNOPQRSTUVWXYZ

This page was generated on 2022-01-26 13:07:38 -0500 (Wed, 26 Jan 2022).

HostnameOSArch (*)R versionInstalled pkgs
nebbiolo2Linux (Ubuntu 20.04.4 LTS)x86_644.1.2 (2021-11-01) -- "Bird Hippie" 4329
tokay2Windows Server 2012 R2 Standardx644.1.2 (2021-11-01) -- "Bird Hippie" 4080
machv2macOS 10.14.6 Mojavex86_644.1.2 (2021-11-01) -- "Bird Hippie" 4141
Click on any hostname to see more info about the system (e.g. compilers)      (*) as reported by 'uname -p', except on Windows and Mac OS X

CHECK results for artMS on machv2


To the developers/maintainers of the artMS package:
- Please allow up to 24 hours (and sometimes 48 hours) for your latest push to git@git.bioconductor.org:packages/artMS.git to
reflect on this report. See How and When does the builder pull? When will my changes propagate? here for more information.
- Make sure to use the following settings in order to reproduce any error or warning you see on this page.

raw results

Package 84/2083HostnameOS / ArchINSTALLBUILDCHECKBUILD BIN
artMS 1.12.0  (landing page)
David Jimenez-Morales
Snapshot Date: 2022-01-25 01:55:07 -0500 (Tue, 25 Jan 2022)
git_url: https://git.bioconductor.org/packages/artMS
git_branch: RELEASE_3_14
git_last_commit: 58efc32
git_last_commit_date: 2021-10-26 12:47:58 -0500 (Tue, 26 Oct 2021)
nebbiolo2Linux (Ubuntu 20.04.4 LTS) / x86_64  OK    OK    OK  UNNEEDED, same version is already published
tokay2Windows Server 2012 R2 Standard / x64  OK    OK    OK    OK  UNNEEDED, same version is already published
machv2macOS 10.14.6 Mojave / x86_64  OK    OK    OK    OK  UNNEEDED, same version is already published

Summary

Package: artMS
Version: 1.12.0
Command: /Library/Frameworks/R.framework/Resources/bin/R CMD check --install=check:artMS.install-out.txt --library=/Library/Frameworks/R.framework/Resources/library --no-vignettes --timings artMS_1.12.0.tar.gz
StartedAt: 2022-01-25 10:12:02 -0500 (Tue, 25 Jan 2022)
EndedAt: 2022-01-25 10:16:28 -0500 (Tue, 25 Jan 2022)
EllapsedTime: 265.2 seconds
RetCode: 0
Status:   OK  
CheckDir: artMS.Rcheck
Warnings: 0

Command output

##############################################################################
##############################################################################
###
### Running command:
###
###   /Library/Frameworks/R.framework/Resources/bin/R CMD check --install=check:artMS.install-out.txt --library=/Library/Frameworks/R.framework/Resources/library --no-vignettes --timings artMS_1.12.0.tar.gz
###
##############################################################################
##############################################################################


* using log directory ‘/Users/biocbuild/bbs-3.14-bioc/meat/artMS.Rcheck’
* using R version 4.1.2 (2021-11-01)
* using platform: x86_64-apple-darwin17.0 (64-bit)
* using session charset: UTF-8
* using option ‘--no-vignettes’
* checking for file ‘artMS/DESCRIPTION’ ... OK
* checking extension type ... Package
* this is package ‘artMS’ version ‘1.12.0’
* package encoding: UTF-8
* checking package namespace information ... OK
* checking package dependencies ... OK
* checking if this is a source package ... OK
* checking if there is a namespace ... OK
* checking for hidden files and directories ... OK
* checking for portable file names ... OK
* checking for sufficient/correct file permissions ... OK
* checking whether package ‘artMS’ can be installed ... OK
* checking installed package size ... OK
* checking package directory ... OK
* checking ‘build’ directory ... OK
* checking DESCRIPTION meta-information ... OK
* checking top-level files ... OK
* checking for left-over files ... OK
* checking index information ... OK
* checking package subdirectories ... OK
* checking R files for non-ASCII characters ... OK
* checking R files for syntax errors ... OK
* checking whether the package can be loaded ... OK
* checking whether the package can be loaded with stated dependencies ... OK
* checking whether the package can be unloaded cleanly ... OK
* checking whether the namespace can be loaded with stated dependencies ... OK
* checking whether the namespace can be unloaded cleanly ... OK
* checking dependencies in R code ... OK
* checking S3 generic/method consistency ... OK
* checking replacement functions ... OK
* checking foreign function calls ... OK
* checking R code for possible problems ... OK
* checking Rd files ... OK
* checking Rd metadata ... OK
* checking Rd cross-references ... OK
* checking for missing documentation entries ... OK
* checking for code/documentation mismatches ... OK
* checking Rd \usage sections ... OK
* checking Rd contents ... OK
* checking for unstated dependencies in examples ... OK
* checking contents of ‘data’ directory ... OK
* checking data for non-ASCII characters ... OK
* checking LazyData ... OK
* checking data for ASCII and uncompressed saves ... OK
* checking files in ‘vignettes’ ... OK
* checking examples ... OK
* checking for unstated dependencies in ‘tests’ ... OK
* checking tests ...
  Running ‘testthat.R’
 OK
* checking for unstated dependencies in vignettes ... OK
* checking package vignettes in ‘inst/doc’ ... OK
* checking running R code from vignettes ... SKIPPED
* checking re-building of vignette outputs ... SKIPPED
* checking PDF version of manual ... OK
* DONE

Status: OK


Installation output

artMS.Rcheck/00install.out

##############################################################################
##############################################################################
###
### Running command:
###
###   /Library/Frameworks/R.framework/Resources/bin/R CMD INSTALL artMS
###
##############################################################################
##############################################################################


* installing to library ‘/Library/Frameworks/R.framework/Versions/4.1/Resources/library’
* installing *source* package ‘artMS’ ...
** using staged installation
** R
** data
*** moving datasets to lazyload DB
** inst
** byte-compile and prepare package for lazy loading
** help
*** installing help indices
** building package indices
** installing vignettes
** testing if installed package can be loaded from temporary location
** testing if installed package can be loaded from final location
** testing if installed package keeps a record of temporary installation path
* DONE (artMS)

Tests output

artMS.Rcheck/tests/testthat.Rout


R version 4.1.2 (2021-11-01) -- "Bird Hippie"
Copyright (C) 2021 The R Foundation for Statistical Computing
Platform: x86_64-apple-darwin17.0 (64-bit)

R is free software and comes with ABSOLUTELY NO WARRANTY.
You are welcome to redistribute it under certain conditions.
Type 'license()' or 'licence()' for distribution details.

R is a collaborative project with many contributors.
Type 'contributors()' for more information and
'citation()' on how to cite R or R packages in publications.

Type 'demo()' for some demos, 'help()' for on-line help, or
'help.start()' for an HTML browser interface to help.
Type 'q()' to quit R.

> library(testthat)
> library(artMS)

> 
> test_check("artMS")
[ FAIL 0 | WARN 0 | SKIP 0 | PASS 8 ]
> 
> proc.time()
   user  system elapsed 
 13.951   0.663  14.617 

Example timings

artMS.Rcheck/artMS-Ex.timings

nameusersystemelapsed
artmsAnalysisQuantifications0.0080.0010.009
artmsAnnotateSpecie0.0100.0020.013
artmsAnnotationUniprot3.1430.5443.690
artmsAvgIntensityRT0.3620.0110.374
artmsChangeColumnName0.0010.0000.001
artmsConvertMetabolomics0.0010.0000.001
artmsDataPlots000
artmsEnrichLog2fc0.0000.0010.000
artmsEnrichProfiler0.0000.0000.001
artmsEvidenceToSAINTq0.0020.0000.002
artmsEvidenceToSaintExpress0.0010.0000.002
artmsFilterEvidenceContaminants0.0180.0010.019
artmsGeneratePhSiteExtended0.0000.0000.001
artmsIsEvidenceNewVersion0.0040.0010.005
artmsIsSpeciesSupported0.1110.0030.113
artmsLeaveOnlyUniprotEntryID0.0010.0000.002
artmsMapUniprot2Entrez0.3760.0070.382
artmsMergeEvidenceAndKeys0.0310.0010.031
artmsMsstatsSummary0.0010.0000.002
artmsPhosfateOutput0.0010.0000.000
artmsPhotonOutput0.0010.0000.000
artmsPlotHeatmapQuant0.8440.0180.863
artmsProtein2SiteConversion0.0020.0010.002
artmsQualityControlEvidenceBasic1.2090.0321.243
artmsQualityControlEvidenceExtended0.0070.0000.007
artmsQualityControlMetabolomics0.0020.0010.002
artmsQualityControlSummaryExtended0.0020.0000.002
artmsQuantification2.6870.0802.770
artmsResultsWide0.7820.0120.794
artmsSILACtoLong0.0000.0010.001
artmsSpectralCounts0.0770.0040.081
artmsVolcanoPlot0.3750.0140.390
artmsWriteConfigYamlFile0.0010.0000.001