Back to Multiple platform build/check report for BioC 3.14
[A]BCDEFGHIJKLMNOPQRSTUVWXYZ

This page was generated on 2022-01-14 13:04:53 -0500 (Fri, 14 Jan 2022).

HostnameOSArch (*)R versionInstalled pkgs
nebbiolo2Linux (Ubuntu 20.04.4 LTS)x86_644.1.2 (2021-11-01) -- "Bird Hippie" 4327
tokay2Windows Server 2012 R2 Standardx644.1.2 (2021-11-01) -- "Bird Hippie" 4076
machv2macOS 10.14.6 Mojavex86_644.1.2 (2021-11-01) -- "Bird Hippie" 4137
Click on any hostname to see more info about the system (e.g. compilers)      (*) as reported by 'uname -p', except on Windows and Mac OS X

CHECK results for attract on nebbiolo2


To the developers/maintainers of the attract package:
- Please allow up to 24 hours (and sometimes 48 hours) for your latest push to git@git.bioconductor.org:packages/attract.git to
reflect on this report. See How and When does the builder pull? When will my changes propagate? here for more information.
- Make sure to use the following settings in order to reproduce any error or warning you see on this page.

raw results

Package 97/2083HostnameOS / ArchINSTALLBUILDCHECKBUILD BIN
attract 1.46.0  (landing page)
Samuel Zimmerman
Snapshot Date: 2022-01-13 01:55:04 -0500 (Thu, 13 Jan 2022)
git_url: https://git.bioconductor.org/packages/attract
git_branch: RELEASE_3_14
git_last_commit: 8500b7d
git_last_commit_date: 2021-10-26 11:56:18 -0500 (Tue, 26 Oct 2021)
nebbiolo2Linux (Ubuntu 20.04.4 LTS) / x86_64  OK    OK    OK  UNNEEDED, same version is already published
tokay2Windows Server 2012 R2 Standard / x64  OK    OK    OK    OK  UNNEEDED, same version is already published
machv2macOS 10.14.6 Mojave / x86_64  OK    OK    OK    OK  UNNEEDED, same version is already published

Summary

Package: attract
Version: 1.46.0
Command: /home/biocbuild/bbs-3.14-bioc/R/bin/R CMD check --install=check:attract.install-out.txt --library=/home/biocbuild/bbs-3.14-bioc/R/library --no-vignettes --timings attract_1.46.0.tar.gz
StartedAt: 2022-01-13 06:22:52 -0500 (Thu, 13 Jan 2022)
EndedAt: 2022-01-13 06:28:34 -0500 (Thu, 13 Jan 2022)
EllapsedTime: 342.5 seconds
RetCode: 0
Status:   OK  
CheckDir: attract.Rcheck
Warnings: 0

Command output

##############################################################################
##############################################################################
###
### Running command:
###
###   /home/biocbuild/bbs-3.14-bioc/R/bin/R CMD check --install=check:attract.install-out.txt --library=/home/biocbuild/bbs-3.14-bioc/R/library --no-vignettes --timings attract_1.46.0.tar.gz
###
##############################################################################
##############################################################################


* using log directory ‘/home/biocbuild/bbs-3.14-bioc/meat/attract.Rcheck’
* using R version 4.1.2 (2021-11-01)
* using platform: x86_64-pc-linux-gnu (64-bit)
* using session charset: UTF-8
* using option ‘--no-vignettes’
* checking for file ‘attract/DESCRIPTION’ ... OK
* checking extension type ... Package
* this is package ‘attract’ version ‘1.46.0’
* checking package namespace information ... OK
* checking package dependencies ... OK
* checking if this is a source package ... OK
* checking if there is a namespace ... OK
* checking for hidden files and directories ... OK
* checking for portable file names ... OK
* checking for sufficient/correct file permissions ... OK
* checking whether package ‘attract’ can be installed ... OK
* checking installed package size ... OK
* checking package directory ... OK
* checking ‘build’ directory ... OK
* checking DESCRIPTION meta-information ... OK
* checking top-level files ... OK
* checking for left-over files ... OK
* checking index information ... OK
* checking package subdirectories ... OK
* checking R files for non-ASCII characters ... OK
* checking R files for syntax errors ... OK
* checking whether the package can be loaded ... OK
* checking whether the package can be loaded with stated dependencies ... OK
* checking whether the package can be unloaded cleanly ... OK
* checking whether the namespace can be loaded with stated dependencies ... OK
* checking whether the namespace can be unloaded cleanly ... OK
* checking dependencies in R code ... OK
* checking S3 generic/method consistency ... OK
* checking replacement functions ... OK
* checking foreign function calls ... OK
* checking R code for possible problems ... NOTE
plotsynexprs: warning in axis(1, at = tickMarks, lab = tickLabels):
  partial argument match of 'lab' to 'labels'
removeFlatGenes: warning in topTable(fit2, coef =
  (1:(length(my.contrasts))), adjust = "fdr", n = nrow(dat.fr)):
  partial argument match of 'n' to 'number'
removeFlatGenes: warning in topTable(fit2, coef =
  (1:(length(my.contrasts))), adjust = "fdr", n = nrow(dat.fr)):
  partial argument match of 'adjust' to 'adjust.method'
* checking Rd files ... OK
* checking Rd metadata ... OK
* checking Rd cross-references ... OK
* checking for missing documentation entries ... OK
* checking for code/documentation mismatches ... OK
* checking Rd \usage sections ... OK
* checking Rd contents ... OK
* checking for unstated dependencies in examples ... OK
* checking contents of ‘data’ directory ... OK
* checking data for non-ASCII characters ... OK
* checking data for ASCII and uncompressed saves ... OK
* checking files in ‘vignettes’ ... OK
* checking examples ... OK
Examples with CPU (user + system) or elapsed time > 5s
                   user system elapsed
calcFuncSynexprs 88.810  2.764  93.262
findAttractors   50.433  1.092  53.095
findCorrPartners  8.436  0.152   9.842
plotsynexprs      4.896  0.400   7.097
findSynexprs      4.709  0.116   6.039
* checking for unstated dependencies in vignettes ... OK
* checking package vignettes in ‘inst/doc’ ... OK
* checking running R code from vignettes ... SKIPPED
* checking re-building of vignette outputs ... SKIPPED
* checking PDF version of manual ... OK
* DONE

Status: 1 NOTE
See
  ‘/home/biocbuild/bbs-3.14-bioc/meat/attract.Rcheck/00check.log’
for details.



Installation output

attract.Rcheck/00install.out

##############################################################################
##############################################################################
###
### Running command:
###
###   /home/biocbuild/bbs-3.14-bioc/R/bin/R CMD INSTALL attract
###
##############################################################################
##############################################################################


* installing to library ‘/home/biocbuild/bbs-3.14-bioc/R/library’
* installing *source* package ‘attract’ ...
** using staged installation
** R
** data
** inst
** byte-compile and prepare package for lazy loading
** help
*** installing help indices
** building package indices
** installing vignettes
** testing if installed package can be loaded from temporary location
** testing if installed package can be loaded from final location
** testing if installed package keeps a record of temporary installation path
* DONE (attract)

Tests output


Example timings

attract.Rcheck/attract-Ex.timings

nameusersystemelapsed
AttractorModuleSet-class000
SynExpressionSet-class0.0010.0000.001
attract-package000
buildCorMatrix000
buildKeggIncidenceMatrix000
calcFuncSynexprs88.810 2.76493.262
calcInform000
calcModfstat0.0010.0000.000
calcRss000
exprs.dat0.1350.0080.143
filterDataSet0.2880.0000.287
findAttractors50.433 1.09253.095
findCorrPartners8.4360.1529.842
findOnepwaySynexprs000
findSynexprs4.7090.1166.039
flagPwayExists000
getCustomGenes000
getPwayGenes000
loring.eset0.1330.0240.157
plotsynexprs4.8960.4007.097
removeFlatGenes0.1440.0040.148
samp.info0.0010.0000.001
subset.loring.eset0.0680.0080.076