Back to Multiple platform build/check report for BioC 3.14
A[B]CDEFGHIJKLMNOPQRSTUVWXYZ

This page was generated on 2022-01-17 13:05:58 -0500 (Mon, 17 Jan 2022).

HostnameOSArch (*)R versionInstalled pkgs
nebbiolo2Linux (Ubuntu 20.04.4 LTS)x86_644.1.2 (2021-11-01) -- "Bird Hippie" 4328
tokay2Windows Server 2012 R2 Standardx644.1.2 (2021-11-01) -- "Bird Hippie" 4077
machv2macOS 10.14.6 Mojavex86_644.1.2 (2021-11-01) -- "Bird Hippie" 4138
Click on any hostname to see more info about the system (e.g. compilers)      (*) as reported by 'uname -p', except on Windows and Mac OS X

BUILD results for biomaRt on tokay2


To the developers/maintainers of the biomaRt package:
- Please allow up to 24 hours (and sometimes 48 hours) for your latest push to git@git.bioconductor.org:packages/biomaRt.git to
reflect on this report. See How and When does the builder pull? When will my changes propagate? here for more information.
- Make sure to use the following settings in order to reproduce any error or warning you see on this page.

raw results

Package 182/2083HostnameOS / ArchINSTALLBUILDCHECKBUILD BIN
biomaRt 2.50.2  (landing page)
Mike Smith
Snapshot Date: 2022-01-16 01:55:05 -0500 (Sun, 16 Jan 2022)
git_url: https://git.bioconductor.org/packages/biomaRt
git_branch: RELEASE_3_14
git_last_commit: 9633bbd
git_last_commit_date: 2022-01-12 04:46:27 -0500 (Wed, 12 Jan 2022)
nebbiolo2Linux (Ubuntu 20.04.4 LTS) / x86_64  OK    OK    OK  UNNEEDED, same version is already published
tokay2Windows Server 2012 R2 Standard / x64  OK    OK    OK    OK  YES
machv2macOS 10.14.6 Mojave / x86_64  OK    OK    OK    OK  YES

Summary

Package: biomaRt
Version: 2.50.2
Command: chmod a+r biomaRt -R && C:\Users\biocbuild\bbs-3.14-bioc\R\bin\R.exe CMD build --keep-empty-dirs --no-resave-data biomaRt
StartedAt: 2022-01-16 08:36:26 -0500 (Sun, 16 Jan 2022)
EndedAt: 2022-01-16 08:41:44 -0500 (Sun, 16 Jan 2022)
EllapsedTime: 317.4 seconds
RetCode: 0
Status:   OK  
PackageFile: biomaRt_2.50.2.tar.gz
PackageFileSize: 650.1 KiB

Command output

##############################################################################
##############################################################################
###
### Running command:
###
###   chmod a+r biomaRt -R && C:\Users\biocbuild\bbs-3.14-bioc\R\bin\R.exe CMD build --keep-empty-dirs --no-resave-data biomaRt
###
##############################################################################
##############################################################################


* checking for file 'biomaRt/DESCRIPTION' ... OK
* preparing 'biomaRt':
* checking DESCRIPTION meta-information ... OK
* installing the package to build vignettes
* creating vignettes ... OK
* checking for LF line-endings in source and make files and shell scripts
* checking for empty or unneeded directories
* building 'biomaRt_2.50.2.tar.gz'