Back to Multiple platform build/check report for BioC 3.14
ABCDEFGHIJKLMNOPQ[R]STUVWXYZ

This page was generated on 2022-01-24 13:06:50 -0500 (Mon, 24 Jan 2022).

HostnameOSArch (*)R versionInstalled pkgs
nebbiolo2Linux (Ubuntu 20.04.4 LTS)x86_644.1.2 (2021-11-01) -- "Bird Hippie" 4329
tokay2Windows Server 2012 R2 Standardx644.1.2 (2021-11-01) -- "Bird Hippie" 4080
machv2macOS 10.14.6 Mojavex86_644.1.2 (2021-11-01) -- "Bird Hippie" 4141
Click on any hostname to see more info about the system (e.g. compilers)      (*) as reported by 'uname -p', except on Windows and Mac OS X

CHECK results for rCGH on tokay2


To the developers/maintainers of the rCGH package:
- Please allow up to 24 hours (and sometimes 48 hours) for your latest push to git@git.bioconductor.org:packages/rCGH.git to
reflect on this report. See How and When does the builder pull? When will my changes propagate? here for more information.
- Make sure to use the following settings in order to reproduce any error or warning you see on this page.

raw results

Package 1544/2083HostnameOS / ArchINSTALLBUILDCHECKBUILD BIN
rCGH 1.24.0  (landing page)
Frederic Commo
Snapshot Date: 2022-01-23 01:55:04 -0500 (Sun, 23 Jan 2022)
git_url: https://git.bioconductor.org/packages/rCGH
git_branch: RELEASE_3_14
git_last_commit: ee2a9d3
git_last_commit_date: 2021-10-26 12:21:28 -0500 (Tue, 26 Oct 2021)
nebbiolo2Linux (Ubuntu 20.04.4 LTS) / x86_64  OK    OK    OK  UNNEEDED, same version is already published
tokay2Windows Server 2012 R2 Standard / x64  OK    OK    OK    OK  UNNEEDED, same version is already published
machv2macOS 10.14.6 Mojave / x86_64  OK    OK    OK    OK  UNNEEDED, same version is already published

Summary

Package: rCGH
Version: 1.24.0
Command: C:\Users\biocbuild\bbs-3.14-bioc\R\bin\R.exe CMD check --force-multiarch --install=check:rCGH.install-out.txt --library=C:\Users\biocbuild\bbs-3.14-bioc\R\library --no-vignettes --timings rCGH_1.24.0.tar.gz
StartedAt: 2022-01-24 00:52:38 -0500 (Mon, 24 Jan 2022)
EndedAt: 2022-01-24 01:03:12 -0500 (Mon, 24 Jan 2022)
EllapsedTime: 633.8 seconds
RetCode: 0
Status:   OK  
CheckDir: rCGH.Rcheck
Warnings: 0

Command output

##############################################################################
##############################################################################
###
### Running command:
###
###   C:\Users\biocbuild\bbs-3.14-bioc\R\bin\R.exe CMD check --force-multiarch --install=check:rCGH.install-out.txt --library=C:\Users\biocbuild\bbs-3.14-bioc\R\library --no-vignettes --timings rCGH_1.24.0.tar.gz
###
##############################################################################
##############################################################################


* using log directory 'C:/Users/biocbuild/bbs-3.14-bioc/meat/rCGH.Rcheck'
* using R version 4.1.2 (2021-11-01)
* using platform: x86_64-w64-mingw32 (64-bit)
* using session charset: ISO8859-1
* using option '--no-vignettes'
* checking for file 'rCGH/DESCRIPTION' ... OK
* checking extension type ... Package
* this is package 'rCGH' version '1.24.0'
* checking package namespace information ... OK
* checking package dependencies ... OK
* checking if this is a source package ... OK
* checking if there is a namespace ... OK
* checking for hidden files and directories ... OK
* checking for portable file names ... OK
* checking whether package 'rCGH' can be installed ... OK
* checking installed package size ... NOTE
  installed size is  5.2Mb
  sub-directories of 1Mb or more:
    data      2.8Mb
    extdata   1.2Mb
* checking package directory ... OK
* checking 'build' directory ... OK
* checking DESCRIPTION meta-information ... OK
* checking top-level files ... OK
* checking for left-over files ... OK
* checking index information ... OK
* checking package subdirectories ... OK
* checking R files for non-ASCII characters ... OK
* checking R files for syntax errors ... OK
* loading checks for arch 'i386'
** checking whether the package can be loaded ... OK
** checking whether the package can be loaded with stated dependencies ... OK
** checking whether the package can be unloaded cleanly ... OK
** checking whether the namespace can be loaded with stated dependencies ... OK
** checking whether the namespace can be unloaded cleanly ... OK
* loading checks for arch 'x64'
** checking whether the package can be loaded ... OK
** checking whether the package can be loaded with stated dependencies ... OK
** checking whether the package can be unloaded cleanly ... OK
** checking whether the namespace can be loaded with stated dependencies ... OK
** checking whether the namespace can be unloaded cleanly ... OK
* checking dependencies in R code ... OK
* checking S3 generic/method consistency ... OK
* checking replacement functions ... OK
* checking foreign function calls ... OK
* checking R code for possible problems ... OK
* checking Rd files ... OK
* checking Rd metadata ... OK
* checking Rd cross-references ... OK
* checking for missing documentation entries ... OK
* checking for code/documentation mismatches ... OK
* checking Rd \usage sections ... OK
* checking Rd contents ... OK
* checking for unstated dependencies in examples ... OK
* checking contents of 'data' directory ... OK
* checking data for non-ASCII characters ... OK
* checking LazyData ... OK
* checking data for ASCII and uncompressed saves ... OK
* checking installed files from 'inst/doc' ... OK
* checking files in 'vignettes' ... NOTE
The following directory looks like a leftover from 'knitr':
  'figure'
Please remove from your package.
* checking examples ...
** running examples for arch 'i386' ... OK
Examples with CPU (user + system) or elapsed time > 5s
              user system elapsed
byGeneTable  13.06   0.28   13.42
multiplot    12.03   0.12   12.16
plotProfile  11.66   0.08   11.74
rCGH-package  8.94   0.00    8.94
recenter      8.88   0.03    8.91
plotDensity   8.50   0.03    8.53
plotLOH       8.39   0.03    8.42
EMnormalize   8.25   0.12    8.39
segmentCGH    8.31   0.00    8.31
view          7.84   0.00    7.84
adjustSignal  5.83   0.38    6.20
** running examples for arch 'x64' ... OK
Examples with CPU (user + system) or elapsed time > 5s
              user system elapsed
byGeneTable  11.91   0.12   12.03
plotProfile  11.57   0.00   11.58
multiplot    11.30   0.05   11.34
recenter      9.22   0.00    9.22
plotLOH       8.66   0.06    8.71
rCGH-package  8.60   0.08    8.67
plotDensity   8.62   0.05    8.68
EMnormalize   7.50   0.02    7.51
view          7.25   0.00    7.25
segmentCGH    7.12   0.01    7.14
adjustSignal  6.34   0.00    6.35
* checking for unstated dependencies in 'tests' ... OK
* checking tests ...
** running tests for arch 'i386' ...
  Running 'runTests.R'
 OK
** running tests for arch 'x64' ...
  Running 'runTests.R'
 OK
* checking for unstated dependencies in vignettes ... OK
* checking package vignettes in 'inst/doc' ... OK
* checking running R code from vignettes ... SKIPPED
* checking re-building of vignette outputs ... SKIPPED
* checking PDF version of manual ... OK
* DONE

Status: 2 NOTEs
See
  'C:/Users/biocbuild/bbs-3.14-bioc/meat/rCGH.Rcheck/00check.log'
for details.



Installation output

rCGH.Rcheck/00install.out

##############################################################################
##############################################################################
###
### Running command:
###
###   C:\cygwin\bin\curl.exe -O http://155.52.207.166/BBS/3.14/bioc/src/contrib/rCGH_1.24.0.tar.gz && rm -rf rCGH.buildbin-libdir && mkdir rCGH.buildbin-libdir && C:\Users\biocbuild\bbs-3.14-bioc\R\bin\R.exe CMD INSTALL --merge-multiarch --build --library=rCGH.buildbin-libdir rCGH_1.24.0.tar.gz && C:\Users\biocbuild\bbs-3.14-bioc\R\bin\R.exe CMD INSTALL rCGH_1.24.0.zip && rm rCGH_1.24.0.tar.gz rCGH_1.24.0.zip
###
##############################################################################
##############################################################################


  % Total    % Received % Xferd  Average Speed   Time    Time     Time  Current
                                 Dload  Upload   Total   Spent    Left  Speed

  0     0    0     0    0     0      0      0 --:--:-- --:--:-- --:--:--     0
  0     0    0     0    0     0      0      0 --:--:-- --:--:-- --:--:--     0
100 3768k  100 3768k    0     0  4285k      0 --:--:-- --:--:-- --:--:-- 4286k

install for i386

* installing *source* package 'rCGH' ...
** using staged installation
** R
** data
*** moving datasets to lazyload DB
** inst
** byte-compile and prepare package for lazy loading
** help
*** installing help indices
  converting help for package 'rCGH'
    finding HTML links ... done
    AllAccessors                            html  
    EMnormalize                             html  
    adjustSignal                            html  
    agilentDB                               html  
    byGeneTable                             html  
    hg18                                    html  
    hg19                                    html  
    hg38                                    html  
    multiplot                               html  
    plotDensity                             html  
    plotLOH                                 html  
    plotProfile                             html  
    rCGH-Agilent-class                      html  
    rCGH-SNP6-class                         html  
    rCGH-class                              html  
    rCGH-cytoScan-class                     html  
    rCGH-generic-class                      html  
    rCGH-oncoScan-class                     html  
    rCGH-package                            html  
    readAffyCytoScan                        html  
    readAffyOncoScan                        html  
    readAffySNP6                            html  
    readAgilent                             html  
    readGeneric                             html  
    recenter                                html  
    segmentCGH                              html  
    setInfo                                 html  
    show-methods                            html  
    view                                    html  
** building package indices
** installing vignettes
** testing if installed package can be loaded from temporary location
** testing if installed package can be loaded from final location
** testing if installed package keeps a record of temporary installation path

install for x64

* installing *source* package 'rCGH' ...
** testing if installed package can be loaded
* MD5 sums
packaged installation of 'rCGH' as rCGH_1.24.0.zip
* DONE (rCGH)
* installing to library 'C:/Users/biocbuild/bbs-3.14-bioc/R/library'
package 'rCGH' successfully unpacked and MD5 sums checked

Tests output

rCGH.Rcheck/tests_i386/runTests.Rout


R version 4.1.2 (2021-11-01) -- "Bird Hippie"
Copyright (C) 2021 The R Foundation for Statistical Computing
Platform: i386-w64-mingw32/i386 (32-bit)

R is free software and comes with ABSOLUTELY NO WARRANTY.
You are welcome to redistribute it under certain conditions.
Type 'license()' or 'licence()' for distribution details.

R is a collaborative project with many contributors.
Type 'contributors()' for more information and
'citation()' on how to cite R or R packages in publications.

Type 'demo()' for some demos, 'help()' for on-line help, or
'help.start()' for an HTML browser interface to help.
Type 'q()' to quit R.

> BiocGenerics:::testPackage("rCGH")

	********************************************************
	Current version: 1.24.0
	This version may contain important changes.
	Use news(Version == '1.24.0', package = 'rCGH').
	********************************************************

SNP probes will be used.
Reading information...
Reading values...
Adding presettings...
Genome build: hg19
Log2Ratios QCs:
	dLRs: 0.162
	MAD: 0.128

Scaling...
Signal filtering...
Modeling allelic Difference...
Computing LRR segmentation using UndoSD: 0.179
Merging segments shorter than 10Kb.
Number of segments: 25
Merging peaks closer than 0.1 ...
Gaussian mixture estimation:
n.peaks =  3

Group parameters:
Grp 1:
prop: 0.504,	mean: -0.061,	Sd: 0.149,	peak height: 1.344
Grp 2:
prop: 0.481,	mean: 0.861,	Sd: 0.149,	peak height: 1.284
Grp 3:
prop: 0.015,	mean: 2.04,	Sd: 0.149,	peak height: 0.041

Correction value:  -0.061
Use plotDensity() to visualize the LRR densities.
  403 genes were dropped because they have exons located on both strands
  of the same reference sequence or on more than one reference sequence,
  so cannot be represented by a single genomic range.
  Use 'single.strand.genes.only=FALSE' to get all the genes in a
  GRangesList object, or use suppressMessages() to suppress this message.
Creating byGene table...
SNP probes will be used.
Reading information...
Reading values...
Adding presettings...
Genome build: hg19
SNP probes will be used.
Reading information...
Reading values...
Adding presettings...
Genome build: hg19


RUNIT TEST PROTOCOL -- Mon Jan 24 01:02:34 2022 
*********************************************** 
Number of test functions: 11 
Number of errors: 0 
Number of failures: 0 

 
1 Test Suite : 
rCGH RUnit Tests - 11 test functions, 0 errors, 0 failures
Number of test functions: 11 
Number of errors: 0 
Number of failures: 0 
> 
> proc.time()
   user  system elapsed 
  25.67    1.18   27.53 

rCGH.Rcheck/tests_x64/runTests.Rout


R version 4.1.2 (2021-11-01) -- "Bird Hippie"
Copyright (C) 2021 The R Foundation for Statistical Computing
Platform: x86_64-w64-mingw32/x64 (64-bit)

R is free software and comes with ABSOLUTELY NO WARRANTY.
You are welcome to redistribute it under certain conditions.
Type 'license()' or 'licence()' for distribution details.

R is a collaborative project with many contributors.
Type 'contributors()' for more information and
'citation()' on how to cite R or R packages in publications.

Type 'demo()' for some demos, 'help()' for on-line help, or
'help.start()' for an HTML browser interface to help.
Type 'q()' to quit R.

> BiocGenerics:::testPackage("rCGH")

	********************************************************
	Current version: 1.24.0
	This version may contain important changes.
	Use news(Version == '1.24.0', package = 'rCGH').
	********************************************************

SNP probes will be used.
Reading information...
Reading values...
Adding presettings...
Genome build: hg19
Log2Ratios QCs:
	dLRs: 0.162
	MAD: 0.128

Scaling...
Signal filtering...
Modeling allelic Difference...
Computing LRR segmentation using UndoSD: 0.179
Merging segments shorter than 10Kb.
Number of segments: 25
Merging peaks closer than 0.1 ...
Gaussian mixture estimation:
n.peaks =  3

Group parameters:
Grp 1:
prop: 0.504,	mean: -0.061,	Sd: 0.149,	peak height: 1.344
Grp 2:
prop: 0.481,	mean: 0.861,	Sd: 0.149,	peak height: 1.284
Grp 3:
prop: 0.015,	mean: 2.04,	Sd: 0.149,	peak height: 0.041

Correction value:  -0.061
Use plotDensity() to visualize the LRR densities.
  403 genes were dropped because they have exons located on both strands
  of the same reference sequence or on more than one reference sequence,
  so cannot be represented by a single genomic range.
  Use 'single.strand.genes.only=FALSE' to get all the genes in a
  GRangesList object, or use suppressMessages() to suppress this message.
Creating byGene table...
SNP probes will be used.
Reading information...
Reading values...
Adding presettings...
Genome build: hg19
SNP probes will be used.
Reading information...
Reading values...
Adding presettings...
Genome build: hg19


RUNIT TEST PROTOCOL -- Mon Jan 24 01:03:02 2022 
*********************************************** 
Number of test functions: 11 
Number of errors: 0 
Number of failures: 0 

 
1 Test Suite : 
rCGH RUnit Tests - 11 test functions, 0 errors, 0 failures
Number of test functions: 11 
Number of errors: 0 
Number of failures: 0 
> 
> proc.time()
   user  system elapsed 
  26.76    0.59   27.36 

Example timings

rCGH.Rcheck/examples_i386/rCGH-Ex.timings

nameusersystemelapsed
AllAccessors0.740.040.83
EMnormalize8.250.128.39
adjustSignal5.830.386.20
byGeneTable13.06 0.2813.42
hg18000
hg19000
hg38000
multiplot12.03 0.1212.16
plotDensity8.500.038.53
plotLOH8.390.038.42
plotProfile11.66 0.0811.74
rCGH-Agilent-class000
rCGH-SNP6-class000
rCGH-class000
rCGH-cytoScan-class000
rCGH-generic-class000
rCGH-oncoScan-class000
rCGH-package8.940.008.94
readAffyCytoScan0.40.00.4
readAffyOncoScan0.020.000.03
readAffySNP60.480.020.53
readAgilent0.520.030.55
readGeneric0.010.000.11
recenter8.880.038.91
segmentCGH8.310.008.31
setInfo0.550.000.55
view7.840.007.84

rCGH.Rcheck/examples_x64/rCGH-Ex.timings

nameusersystemelapsed
AllAccessors0.630.010.64
EMnormalize7.500.027.51
adjustSignal6.340.006.35
byGeneTable11.91 0.1212.03
hg18000
hg19000
hg38000
multiplot11.30 0.0511.34
plotDensity8.620.058.68
plotLOH8.660.068.71
plotProfile11.57 0.0011.58
rCGH-Agilent-class000
rCGH-SNP6-class000
rCGH-class000
rCGH-cytoScan-class000
rCGH-generic-class000
rCGH-oncoScan-class000
rCGH-package8.600.088.67
readAffyCytoScan0.420.000.43
readAffyOncoScan0.090.000.09
readAffySNP60.350.010.36
readAgilent0.450.030.49
readGeneric0.020.000.01
recenter9.220.009.22
segmentCGH7.120.017.14
setInfo0.320.000.33
view7.250.007.25