Back to Multiple platform build/check report for BioC 3.14
ABCDEFGHIJKLMN[O]PQRSTUVWXYZ

This page was generated on 2022-01-26 13:08:28 -0500 (Wed, 26 Jan 2022).

HostnameOSArch (*)R versionInstalled pkgs
nebbiolo2Linux (Ubuntu 20.04.4 LTS)x86_644.1.2 (2021-11-01) -- "Bird Hippie" 4329
tokay2Windows Server 2012 R2 Standardx644.1.2 (2021-11-01) -- "Bird Hippie" 4080
machv2macOS 10.14.6 Mojavex86_644.1.2 (2021-11-01) -- "Bird Hippie" 4141
Click on any hostname to see more info about the system (e.g. compilers)      (*) as reported by 'uname -p', except on Windows and Mac OS X

CHECK results for ontoProc on machv2


To the developers/maintainers of the ontoProc package:
- Please allow up to 24 hours (and sometimes 48 hours) for your latest push to git@git.bioconductor.org:packages/ontoProc.git to
reflect on this report. See How and When does the builder pull? When will my changes propagate? here for more information.
- Make sure to use the following settings in order to reproduce any error or warning you see on this page.

raw results

Package 1337/2083HostnameOS / ArchINSTALLBUILDCHECKBUILD BIN
ontoProc 1.16.0  (landing page)
VJ Carey
Snapshot Date: 2022-01-25 01:55:07 -0500 (Tue, 25 Jan 2022)
git_url: https://git.bioconductor.org/packages/ontoProc
git_branch: RELEASE_3_14
git_last_commit: 45a31ef
git_last_commit_date: 2021-10-26 12:39:25 -0500 (Tue, 26 Oct 2021)
nebbiolo2Linux (Ubuntu 20.04.4 LTS) / x86_64  OK    OK    OK  UNNEEDED, same version is already published
tokay2Windows Server 2012 R2 Standard / x64  OK    OK    OK    OK  UNNEEDED, same version is already published
machv2macOS 10.14.6 Mojave / x86_64  OK    OK    OK    OK  UNNEEDED, same version is already published

Summary

Package: ontoProc
Version: 1.16.0
Command: /Library/Frameworks/R.framework/Resources/bin/R CMD check --install=check:ontoProc.install-out.txt --library=/Library/Frameworks/R.framework/Resources/library --no-vignettes --timings ontoProc_1.16.0.tar.gz
StartedAt: 2022-01-25 16:01:00 -0500 (Tue, 25 Jan 2022)
EndedAt: 2022-01-25 16:11:04 -0500 (Tue, 25 Jan 2022)
EllapsedTime: 604.4 seconds
RetCode: 0
Status:   OK  
CheckDir: ontoProc.Rcheck
Warnings: 0

Command output

##############################################################################
##############################################################################
###
### Running command:
###
###   /Library/Frameworks/R.framework/Resources/bin/R CMD check --install=check:ontoProc.install-out.txt --library=/Library/Frameworks/R.framework/Resources/library --no-vignettes --timings ontoProc_1.16.0.tar.gz
###
##############################################################################
##############################################################################


* using log directory ‘/Users/biocbuild/bbs-3.14-bioc/meat/ontoProc.Rcheck’
* using R version 4.1.2 (2021-11-01)
* using platform: x86_64-apple-darwin17.0 (64-bit)
* using session charset: UTF-8
* using option ‘--no-vignettes’
* checking for file ‘ontoProc/DESCRIPTION’ ... OK
* this is package ‘ontoProc’ version ‘1.16.0’
* package encoding: UTF-8
* checking package namespace information ... OK
* checking package dependencies ... OK
* checking if this is a source package ... OK
* checking if there is a namespace ... OK
* checking for hidden files and directories ... OK
* checking for portable file names ... OK
* checking for sufficient/correct file permissions ... OK
* checking whether package ‘ontoProc’ can be installed ... OK
* checking installed package size ... NOTE
  installed size is  7.2Mb
  sub-directories of 1Mb or more:
    app       1.9Mb
    data      2.0Mb
    ontoRda   2.8Mb
* checking package directory ... OK
* checking ‘build’ directory ... OK
* checking DESCRIPTION meta-information ... OK
* checking top-level files ... OK
* checking for left-over files ... OK
* checking index information ... OK
* checking package subdirectories ... OK
* checking R files for non-ASCII characters ... OK
* checking R files for syntax errors ... OK
* checking whether the package can be loaded ... OK
* checking whether the package can be loaded with stated dependencies ... OK
* checking whether the package can be unloaded cleanly ... OK
* checking whether the namespace can be loaded with stated dependencies ... OK
* checking whether the namespace can be unloaded cleanly ... OK
* checking dependencies in R code ... OK
* checking S3 generic/method consistency ... OK
* checking replacement functions ... OK
* checking foreign function calls ... OK
* checking R code for possible problems ... NOTE
CLfeat : prupdate: no visible binding for global variable ‘PRID’
CLfeat : prupdate: no visible binding for global variable ‘SYMBOL’
bind_formal_tags: no visible global function definition for ‘colData’
bind_formal_tags: no visible global function definition for ‘colData<-’
common_classes: no visible global function definition for ‘colData’
connect_classes: no visible global function definition for ‘colData’
ctmarks: no visible binding for '<<-' assignment to ‘pr’
ctmarks: no visible binding for '<<-' assignment to ‘go’
ctmarks : server: no visible binding for global variable ‘text’
ldfToTerm: no visible binding for global variable ‘PROSYM’
subset_descendants: no visible global function definition for ‘colData’
sym2CellOnto: no visible binding for global variable ‘SYMBOL’
Undefined global functions or variables:
  PRID PROSYM SYMBOL colData colData<- text
Consider adding
  importFrom("graphics", "text")
to your NAMESPACE file.
* checking Rd files ... OK
* checking Rd metadata ... OK
* checking Rd cross-references ... OK
* checking for missing documentation entries ... OK
* checking for code/documentation mismatches ... OK
* checking Rd \usage sections ... OK
* checking Rd contents ... OK
* checking for unstated dependencies in examples ... OK
* checking contents of ‘data’ directory ... OK
* checking data for non-ASCII characters ... NOTE
  Note: found 162 marked UTF-8 strings
* checking LazyData ... OK
* checking data for ASCII and uncompressed saves ... OK
* checking files in ‘vignettes’ ... OK
* checking examples ... OK
Examples with CPU (user + system) or elapsed time > 5s
                      user system elapsed
getCellOnto         41.271  1.448  44.534
siblings_TAG        34.933  1.100  38.008
CLfeats             33.936  1.321  37.322
common_classes      31.998  1.269  35.167
fastGrep            28.355  0.593  29.535
getLeavesFromTerm   24.019  0.627  25.284
sym2CellOnto        17.339  0.419  18.403
TermSet-class       11.035  0.387  12.048
secLevGen           10.114  0.319  11.075
nomenCheckup         8.898  0.383   9.884
cleanCLOnames        8.086  0.357   9.161
findCommonAncestors  6.159  0.133   6.295
onto_plot2           4.822  0.198   5.025
* checking for unstated dependencies in ‘tests’ ... OK
* checking tests ...
  Running ‘test.R’
 OK
* checking for unstated dependencies in vignettes ... OK
* checking package vignettes in ‘inst/doc’ ... OK
* checking running R code from vignettes ... SKIPPED
* checking re-building of vignette outputs ... SKIPPED
* checking PDF version of manual ... OK
* DONE

Status: 3 NOTEs
See
  ‘/Users/biocbuild/bbs-3.14-bioc/meat/ontoProc.Rcheck/00check.log’
for details.



Installation output

ontoProc.Rcheck/00install.out

##############################################################################
##############################################################################
###
### Running command:
###
###   /Library/Frameworks/R.framework/Resources/bin/R CMD INSTALL ontoProc
###
##############################################################################
##############################################################################


* installing to library ‘/Library/Frameworks/R.framework/Versions/4.1/Resources/library’
* installing *source* package ‘ontoProc’ ...
** using staged installation
** R
** data
*** moving datasets to lazyload DB
** inst
** byte-compile and prepare package for lazy loading
** help
*** installing help indices
** building package indices
** installing vignettes
** testing if installed package can be loaded from temporary location
** testing if installed package can be loaded from final location
** testing if installed package keeps a record of temporary installation path
* DONE (ontoProc)

Tests output

ontoProc.Rcheck/tests/test.Rout


R version 4.1.2 (2021-11-01) -- "Bird Hippie"
Copyright (C) 2021 The R Foundation for Statistical Computing
Platform: x86_64-apple-darwin17.0 (64-bit)

R is free software and comes with ABSOLUTELY NO WARRANTY.
You are welcome to redistribute it under certain conditions.
Type 'license()' or 'licence()' for distribution details.

R is a collaborative project with many contributors.
Type 'contributors()' for more information and
'citation()' on how to cite R or R packages in publications.

Type 'demo()' for some demos, 'help()' for on-line help, or
'help.start()' for an HTML browser interface to help.
Type 'q()' to quit R.

> 
> library(ontoProc)
Loading required package: ontologyIndex
> library(testthat)
> 
> test_check("ontoProc")
[ FAIL 0 | WARN 0 | SKIP 0 | PASS 8 ]
> 
> 
> proc.time()
   user  system elapsed 
 96.556   3.383 119.382 

Example timings

ontoProc.Rcheck/ontoProc-Ex.timings

nameusersystemelapsed
CLfeats33.936 1.32137.322
PROSYM0.0020.0010.004
TermSet-class11.035 0.38712.048
allGOterms0.0670.0030.071
cellTypeToGO2.7120.1882.902
cleanCLOnames8.0860.3579.161
common_classes31.998 1.26935.167
cyclicSigset0.0120.0010.013
demoApp0.0000.0000.001
dropStop0.0050.0020.007
fastGrep28.355 0.59329.535
findCommonAncestors6.1590.1336.295
getCellOnto41.271 1.44844.534
getLeavesFromTerm24.019 0.62725.284
humrna0.0080.0020.010
ldfToTerms0.2720.0040.277
liberalMap2.8790.0262.907
makeSelectInput0.0000.0010.001
make_graphNEL_from_ontology_plot3.5160.0473.567
mapOneNaive2.8930.0332.936
minicorpus0.0010.0010.003
nomenCheckup8.8980.3839.884
onto_plot24.8220.1985.025
onto_roots0.0000.0000.001
packDesc20190.0050.0010.006
recognizedPredicates0.0000.0000.001
secLevGen10.114 0.31911.075
selectFromMap3.2240.0273.256
seur3kTab0.0040.0010.005
siblings_TAG34.933 1.10038.008
stopWords0.0010.0020.004
sym2CellOnto17.339 0.41918.403