Back to Multiple platform build/check report for BioC 3.14
ABCDEFGHIJKLMNOPQ[R]STUVWXYZ

This page was generated on 2022-01-19 13:05:52 -0500 (Wed, 19 Jan 2022).

HostnameOSArch (*)R versionInstalled pkgs
nebbiolo2Linux (Ubuntu 20.04.4 LTS)x86_644.1.2 (2021-11-01) -- "Bird Hippie" 4328
tokay2Windows Server 2012 R2 Standardx644.1.2 (2021-11-01) -- "Bird Hippie" 4077
machv2macOS 10.14.6 Mojavex86_644.1.2 (2021-11-01) -- "Bird Hippie" 4138
Click on any hostname to see more info about the system (e.g. compilers)      (*) as reported by 'uname -p', except on Windows and Mac OS X

INSTALL results for REDseq on nebbiolo2


To the developers/maintainers of the REDseq package:
- Please allow up to 24 hours (and sometimes 48 hours) for your latest push to git@git.bioconductor.org:packages/REDseq.git to
reflect on this report. See How and When does the builder pull? When will my changes propagate? here for more information.
- Make sure to use the following settings in order to reproduce any error or warning you see on this page.

raw results

Package 1570/2083HostnameOS / ArchINSTALLBUILDCHECKBUILD BIN
REDseq 1.40.0  (landing page)
Lihua Julie Zhu
Snapshot Date: 2022-01-18 01:55:07 -0500 (Tue, 18 Jan 2022)
git_url: https://git.bioconductor.org/packages/REDseq
git_branch: RELEASE_3_14
git_last_commit: a5a0e6d
git_last_commit_date: 2021-10-26 11:59:14 -0500 (Tue, 26 Oct 2021)
nebbiolo2Linux (Ubuntu 20.04.4 LTS) / x86_64  OK    OK    OK  UNNEEDED, same version is already published
tokay2Windows Server 2012 R2 Standard / x64  OK    OK    OK    OK  UNNEEDED, same version is already published
machv2macOS 10.14.6 Mojave / x86_64  OK    OK    OK    OK  UNNEEDED, same version is already published

Summary

Package: REDseq
Version: 1.40.0
Command: /home/biocbuild/bbs-3.14-bioc/R/bin/R CMD INSTALL REDseq
StartedAt: 2022-01-18 03:30:00 -0500 (Tue, 18 Jan 2022)
EndedAt: 2022-01-18 03:30:37 -0500 (Tue, 18 Jan 2022)
EllapsedTime: 36.7 seconds
RetCode: 0
Status:   OK  

Command output

##############################################################################
##############################################################################
###
### Running command:
###
###   /home/biocbuild/bbs-3.14-bioc/R/bin/R CMD INSTALL REDseq
###
##############################################################################
##############################################################################


* installing to library ‘/home/biocbuild/bbs-3.14-bioc/R/library’
* installing *source* package ‘REDseq’ ...
** using staged installation
** R
** data
** inst
** byte-compile and prepare package for lazy loading
No methods found in package 'IRanges' for requests: '%in%', 'rep.int' when loading 'REDseq'
** help
*** installing help indices
** building package indices
** installing vignettes
** testing if installed package can be loaded from temporary location
No methods found in package 'IRanges' for requests: '%in%', 'rep.int' when loading 'REDseq'
** testing if installed package can be loaded from final location
No methods found in package 'IRanges' for requests: '%in%', 'rep.int' when loading 'REDseq'
** testing if installed package keeps a record of temporary installation path
* DONE (REDseq)