Back to Multiple platform build/check report for BioC 3.14
ABCDEFGHIJ[K]LMNOPQRSTUVWXYZ

This page was generated on 2022-01-17 13:06:28 -0500 (Mon, 17 Jan 2022).

HostnameOSArch (*)R versionInstalled pkgs
nebbiolo2Linux (Ubuntu 20.04.4 LTS)x86_644.1.2 (2021-11-01) -- "Bird Hippie" 4328
tokay2Windows Server 2012 R2 Standardx644.1.2 (2021-11-01) -- "Bird Hippie" 4077
machv2macOS 10.14.6 Mojavex86_644.1.2 (2021-11-01) -- "Bird Hippie" 4138
Click on any hostname to see more info about the system (e.g. compilers)      (*) as reported by 'uname -p', except on Windows and Mac OS X

INSTALL results for KEGGprofile on tokay2


To the developers/maintainers of the KEGGprofile package:
- Please allow up to 24 hours (and sometimes 48 hours) for your latest push to git@git.bioconductor.org:packages/KEGGprofile.git to
reflect on this report. See How and When does the builder pull? When will my changes propagate? here for more information.
- Make sure to use the following settings in order to reproduce any error or warning you see on this page.

raw results

Package 982/2083HostnameOS / ArchINSTALLBUILDCHECKBUILD BIN
KEGGprofile 1.36.0  (landing page)
Shilin Zhao
Snapshot Date: 2022-01-16 01:55:05 -0500 (Sun, 16 Jan 2022)
git_url: https://git.bioconductor.org/packages/KEGGprofile
git_branch: RELEASE_3_14
git_last_commit: d524b1f
git_last_commit_date: 2021-10-26 12:03:39 -0500 (Tue, 26 Oct 2021)
nebbiolo2Linux (Ubuntu 20.04.4 LTS) / x86_64  ERROR    ERROR  skipped
tokay2Windows Server 2012 R2 Standard / x64  ERROR    ERROR  skippedskipped
machv2macOS 10.14.6 Mojave / x86_64  ERROR    ERROR  skippedskipped

Summary

Package: KEGGprofile
Version: 1.36.0
Command: C:\cygwin\bin\curl.exe -O http://155.52.207.166/BBS/3.14/bioc/src/contrib/KEGGprofile_1.36.0.tar.gz && rm -rf KEGGprofile.buildbin-libdir && mkdir KEGGprofile.buildbin-libdir && C:\Users\biocbuild\bbs-3.14-bioc\R\bin\R.exe CMD INSTALL --merge-multiarch --build --library=KEGGprofile.buildbin-libdir KEGGprofile_1.36.0.tar.gz && C:\Users\biocbuild\bbs-3.14-bioc\R\bin\R.exe CMD INSTALL KEGGprofile_1.36.0.zip && rm KEGGprofile_1.36.0.tar.gz KEGGprofile_1.36.0.zip
StartedAt: 2022-01-16 08:02:35 -0500 (Sun, 16 Jan 2022)
EndedAt: 2022-01-16 08:02:36 -0500 (Sun, 16 Jan 2022)
EllapsedTime: 1.3 seconds
RetCode: 1
Status:   ERROR  

Command output

##############################################################################
##############################################################################
###
### Running command:
###
###   C:\cygwin\bin\curl.exe -O http://155.52.207.166/BBS/3.14/bioc/src/contrib/KEGGprofile_1.36.0.tar.gz && rm -rf KEGGprofile.buildbin-libdir && mkdir KEGGprofile.buildbin-libdir && C:\Users\biocbuild\bbs-3.14-bioc\R\bin\R.exe CMD INSTALL --merge-multiarch --build --library=KEGGprofile.buildbin-libdir KEGGprofile_1.36.0.tar.gz && C:\Users\biocbuild\bbs-3.14-bioc\R\bin\R.exe CMD INSTALL KEGGprofile_1.36.0.zip && rm KEGGprofile_1.36.0.tar.gz KEGGprofile_1.36.0.zip
###
##############################################################################
##############################################################################


  % Total    % Received % Xferd  Average Speed   Time    Time     Time  Current
                                 Dload  Upload   Total   Spent    Left  Speed

  0     0    0     0    0     0      0      0 --:--:-- --:--:-- --:--:--     0
 32  314k   32  101k    0     0   766k      0 --:--:-- --:--:-- --:--:--  769k
100  314k  100  314k    0     0  1952k      0 --:--:-- --:--:-- --:--:-- 1953k

install for i386

ERROR: dependency 'KEGG.db' is not available for package 'KEGGprofile'
* removing 'C:/Users/biocbuild/bbs-3.14-bioc/meat/KEGGprofile.buildbin-libdir/KEGGprofile'