Back to Multiple platform build/check report for BioC 3.14
[A]BCDEFGHIJKLMNOPQRSTUVWXYZ

This page was generated on 2022-01-24 13:04:48 -0500 (Mon, 24 Jan 2022).

HostnameOSArch (*)R versionInstalled pkgs
nebbiolo2Linux (Ubuntu 20.04.4 LTS)x86_644.1.2 (2021-11-01) -- "Bird Hippie" 4329
tokay2Windows Server 2012 R2 Standardx644.1.2 (2021-11-01) -- "Bird Hippie" 4080
machv2macOS 10.14.6 Mojavex86_644.1.2 (2021-11-01) -- "Bird Hippie" 4141
Click on any hostname to see more info about the system (e.g. compilers)      (*) as reported by 'uname -p', except on Windows and Mac OS X

CHECK results for ASpli on nebbiolo2


To the developers/maintainers of the ASpli package:
- Please allow up to 24 hours (and sometimes 48 hours) for your latest push to git@git.bioconductor.org:packages/ASpli.git to
reflect on this report. See How and When does the builder pull? When will my changes propagate? here for more information.
- Make sure to use the following settings in order to reproduce any error or warning you see on this page.

raw results

Package 90/2083HostnameOS / ArchINSTALLBUILDCHECKBUILD BIN
ASpli 2.4.0  (landing page)
Estefania Mancini
Snapshot Date: 2022-01-23 01:55:04 -0500 (Sun, 23 Jan 2022)
git_url: https://git.bioconductor.org/packages/ASpli
git_branch: RELEASE_3_14
git_last_commit: 9dad6f1
git_last_commit_date: 2021-10-26 12:29:18 -0500 (Tue, 26 Oct 2021)
nebbiolo2Linux (Ubuntu 20.04.4 LTS) / x86_64  OK    OK    OK  UNNEEDED, same version is already published
tokay2Windows Server 2012 R2 Standard / x64  OK    OK    OK    OK  UNNEEDED, same version is already published
machv2macOS 10.14.6 Mojave / x86_64  OK    OK    OK    OK  UNNEEDED, same version is already published

Summary

Package: ASpli
Version: 2.4.0
Command: /home/biocbuild/bbs-3.14-bioc/R/bin/R CMD check --install=check:ASpli.install-out.txt --library=/home/biocbuild/bbs-3.14-bioc/R/library --no-vignettes --timings ASpli_2.4.0.tar.gz
StartedAt: 2022-01-23 06:32:13 -0500 (Sun, 23 Jan 2022)
EndedAt: 2022-01-23 06:49:06 -0500 (Sun, 23 Jan 2022)
EllapsedTime: 1013.2 seconds
RetCode: 0
Status:   OK  
CheckDir: ASpli.Rcheck
Warnings: 0

Command output

##############################################################################
##############################################################################
###
### Running command:
###
###   /home/biocbuild/bbs-3.14-bioc/R/bin/R CMD check --install=check:ASpli.install-out.txt --library=/home/biocbuild/bbs-3.14-bioc/R/library --no-vignettes --timings ASpli_2.4.0.tar.gz
###
##############################################################################
##############################################################################


* using log directory ‘/home/biocbuild/bbs-3.14-bioc/meat/ASpli.Rcheck’
* using R version 4.1.2 (2021-11-01)
* using platform: x86_64-pc-linux-gnu (64-bit)
* using session charset: UTF-8
* using option ‘--no-vignettes’
* checking for file ‘ASpli/DESCRIPTION’ ... OK
* checking extension type ... Package
* this is package ‘ASpli’ version ‘2.4.0’
* checking package namespace information ... OK
* checking package dependencies ... OK
* checking if this is a source package ... OK
* checking if there is a namespace ... OK
* checking for hidden files and directories ... OK
* checking for portable file names ... OK
* checking for sufficient/correct file permissions ... OK
* checking whether package ‘ASpli’ can be installed ... OK
* checking installed package size ... OK
* checking package directory ... OK
* checking ‘build’ directory ... OK
* checking DESCRIPTION meta-information ... OK
* checking top-level files ... OK
* checking for left-over files ... OK
* checking index information ... OK
* checking package subdirectories ... OK
* checking R files for non-ASCII characters ... OK
* checking R files for syntax errors ... OK
* checking whether the package can be loaded ... OK
* checking whether the package can be loaded with stated dependencies ... OK
* checking whether the package can be unloaded cleanly ... OK
* checking whether the namespace can be loaded with stated dependencies ... OK
* checking whether the namespace can be unloaded cleanly ... OK
* checking dependencies in R code ... OK
* checking S3 generic/method consistency ... OK
* checking replacement functions ... OK
* checking foreign function calls ... OK
* checking R code for possible problems ... OK
* checking Rd files ... OK
* checking Rd metadata ... OK
* checking Rd cross-references ... OK
* checking for missing documentation entries ... OK
* checking for code/documentation mismatches ... OK
* checking Rd \usage sections ... OK
* checking Rd contents ... OK
* checking for unstated dependencies in examples ... OK
* checking installed files from ‘inst/doc’ ... OK
* checking files in ‘vignettes’ ... OK
* checking examples ... OK
Examples with CPU (user + system) or elapsed time > 5s
                           user system elapsed
ASpli-package           133.820  0.668 134.310
integrateSignals         81.756  0.344  82.011
jCounts-methods          75.638  0.192  75.740
splicingReport           75.411  0.232  75.556
jDUreport                75.135  0.368  75.415
exportIntegratedSignals  74.581  0.312  74.813
exportSplicingReports    73.781  0.380  74.067
gbDUreport-method        63.921  0.208  64.033
gbCounts                 62.869  0.220  62.996
* checking for unstated dependencies in vignettes ... OK
* checking package vignettes in ‘inst/doc’ ... OK
* checking running R code from vignettes ... SKIPPED
* checking re-building of vignette outputs ... SKIPPED
* checking PDF version of manual ... OK
* DONE

Status: OK


Installation output

ASpli.Rcheck/00install.out

##############################################################################
##############################################################################
###
### Running command:
###
###   /home/biocbuild/bbs-3.14-bioc/R/bin/R CMD INSTALL ASpli
###
##############################################################################
##############################################################################


* installing to library ‘/home/biocbuild/bbs-3.14-bioc/R/library’
* installing *source* package ‘ASpli’ ...
** using staged installation
** R
** inst
** byte-compile and prepare package for lazy loading
** help
*** installing help indices
** building package indices
** installing vignettes
** testing if installed package can be loaded from temporary location
** testing if installed package can be loaded from final location
** testing if installed package keeps a record of temporary installation path
* DONE (ASpli)

Tests output


Example timings

ASpli.Rcheck/ASpli-Ex.timings

nameusersystemelapsed
ASpli-package133.820 0.668134.310
DUreport000
DUreport.norm000
DUreport.offset000
DUreportBinSplice-method000
acc_AS0.0010.0000.000
acc_DU000
acc_counts0.0010.0000.000
acc_features0.2810.0000.281
binGenome4.3650.0644.429
containsJunctions-function000
example_data000
exportIntegratedSignals74.581 0.31274.813
exportSplicingReports73.781 0.38074.067
filterDU-method0.0010.0000.000
filterSignals000
gbCounts62.869 0.22062.996
gbDUreport-method63.921 0.20864.033
getConditions-function000
integrateSignals81.756 0.34482.011
jCounts-methods75.638 0.19275.740
jDUreport75.135 0.36875.415
junctionDUreport000
loadBAM0.0010.0000.001
mergeBinDUAS-method000
plotBins000
plotGenomicRegions0.0010.0000.001
rds000
splicingReport75.411 0.23275.556
subset-methods000