Back to Multiple platform build/check report for BioC 3.14
AB[C]DEFGHIJKLMNOPQRSTUVWXYZ

This page was generated on 2022-01-24 13:04:08 -0500 (Mon, 24 Jan 2022).

HostnameOSArch (*)R versionInstalled pkgs
nebbiolo2Linux (Ubuntu 20.04.4 LTS)x86_644.1.2 (2021-11-01) -- "Bird Hippie" 4329
tokay2Windows Server 2012 R2 Standardx644.1.2 (2021-11-01) -- "Bird Hippie" 4080
machv2macOS 10.14.6 Mojavex86_644.1.2 (2021-11-01) -- "Bird Hippie" 4141
Click on any hostname to see more info about the system (e.g. compilers)      (*) as reported by 'uname -p', except on Windows and Mac OS X

All results for package Category


To the developers/maintainers of the Category package:
- Please allow up to 24 hours (and sometimes 48 hours) for your latest push to git@git.bioconductor.org:packages/Category.git to
reflect on this report. See How and When does the builder pull? When will my changes propagate? here for more information.
- Make sure to use the following settings in order to reproduce any error or warning you see on this page.

raw results

Package 250/2083HostnameOS / ArchINSTALLBUILDCHECKBUILD BIN
Category 2.60.0  (landing page)
Bioconductor Package Maintainer
Snapshot Date: 2022-01-23 01:55:04 -0500 (Sun, 23 Jan 2022)
git_url: https://git.bioconductor.org/packages/Category
git_branch: RELEASE_3_14
git_last_commit: 55210d8
git_last_commit_date: 2021-10-26 11:48:11 -0500 (Tue, 26 Oct 2021)
nebbiolo2Linux (Ubuntu 20.04.4 LTS) / x86_64  OK    OK    OK  UNNEEDED, same version is already published
tokay2Windows Server 2012 R2 Standard / x64  OK    OK    OK    OK  UNNEEDED, same version is already published
machv2macOS 10.14.6 Mojave / x86_64  OK    OK    OK    OK  UNNEEDED, same version is already published

Results for Bioconductor software packages that depend directly on package Category

QUICK STATSOS / ArchINSTALLBUILDCHECKBUILD BIN
nebbiolo2Linux (Ubuntu 20.04.4 LTS) / x86_64
0011
0011
0029
tokay2Windows Server 2012 R2 Standard / x64
0011
0110
0028
0010
machv2macOS 10.14.6 Mojave / x86_64
0011
0011
0029
0011
Package 1/11HostnameOS / ArchINSTALLBUILDCHECKBUILD BIN
categoryCompare 1.38.0  (landing page)
Robert M. Flight
git_last_commit: 13d544a
git_last_commit_date: 2021-10-26 12:03:05 -0500
nebbiolo2Linux (Ubuntu 20.04.4 LTS) / x86_64  OK    OK    OK  UNNEEDED, same version is already published
tokay2Windows Server 2012 R2 Standard / x64  OK    OK    OK    OK  UNNEEDED, same version is already published
machv2macOS 10.14.6 Mojave / x86_64  OK    OK    OK    OK  UNNEEDED, same version is already published
Package 2/11HostnameOS / ArchINSTALLBUILDCHECKBUILD BIN
cellHTS2 2.58.0  (landing page)
Joseph Barry
git_last_commit: 5e1ff80
git_last_commit_date: 2021-10-26 11:51:17 -0500
nebbiolo2Linux (Ubuntu 20.04.4 LTS) / x86_64  OK    OK    OK  UNNEEDED, same version is already published
tokay2Windows Server 2012 R2 Standard / x64  OK    OK    OK    OK  UNNEEDED, same version is already published
machv2macOS 10.14.6 Mojave / x86_64  OK    OK    OK    OK  UNNEEDED, same version is already published
Package 3/11HostnameOS / ArchINSTALLBUILDCHECKBUILD BIN
GmicR 1.8.0  (landing page)
Richard Virgen-Slane
git_last_commit: f795e9d
git_last_commit_date: 2021-10-26 12:54:44 -0500
nebbiolo2Linux (Ubuntu 20.04.4 LTS) / x86_64  OK    OK    WARNINGS  UNNEEDED, same version is already published
tokay2Windows Server 2012 R2 Standard / x64  OK    OK    WARNINGS    OK  UNNEEDED, same version is already published
machv2macOS 10.14.6 Mojave / x86_64  OK    OK    WARNINGS    OK  UNNEEDED, same version is already published
Package 4/11HostnameOS / ArchINSTALLBUILDCHECKBUILD BIN
GOstats 2.60.0  (landing page)
Bioconductor Package Maintainer
git_last_commit: a20055c
git_last_commit_date: 2021-10-26 11:47:01 -0500
nebbiolo2Linux (Ubuntu 20.04.4 LTS) / x86_64  OK    OK    OK  UNNEEDED, same version is already published
tokay2Windows Server 2012 R2 Standard / x64  OK    OK    OK    OK  UNNEEDED, same version is already published
machv2macOS 10.14.6 Mojave / x86_64  OK    OK    OK    OK  UNNEEDED, same version is already published
Package 5/11HostnameOS / ArchINSTALLBUILDCHECKBUILD BIN
interactiveDisplay 1.32.0  (landing page)
Bioconductor Package Maintainer
git_last_commit: 2851932
git_last_commit_date: 2021-10-26 12:10:45 -0500
nebbiolo2Linux (Ubuntu 20.04.4 LTS) / x86_64  OK    OK    OK  UNNEEDED, same version is already published
tokay2Windows Server 2012 R2 Standard / x64  OK    OK    OK    OK  UNNEEDED, same version is already published
machv2macOS 10.14.6 Mojave / x86_64  OK    OK    OK    OK  UNNEEDED, same version is already published
Package 6/11HostnameOS / ArchINSTALLBUILDCHECKBUILD BIN
meshr 2.0.2  (landing page)
Koki Tsuyuzaki
git_last_commit: 269c2e7
git_last_commit_date: 2021-12-16 01:23:47 -0500
nebbiolo2Linux (Ubuntu 20.04.4 LTS) / x86_64  OK    OK    OK  UNNEEDED, same version is already published
tokay2Windows Server 2012 R2 Standard / x64  OK    OK    OK    OK  UNNEEDED, same version is already published
machv2macOS 10.14.6 Mojave / x86_64  OK    OK    OK    OK  UNNEEDED, same version is already published
Package 7/11HostnameOS / ArchINSTALLBUILDCHECKBUILD BIN
miRLAB 1.24.0  (landing page)
Vu Viet Hoang Pham
git_last_commit: 023c639
git_last_commit_date: 2021-10-26 12:21:38 -0500
nebbiolo2Linux (Ubuntu 20.04.4 LTS) / x86_64  OK    OK    OK  UNNEEDED, same version is already published
tokay2Windows Server 2012 R2 Standard / x64  OK    OK    OK    OK  UNNEEDED, same version is already published
machv2macOS 10.14.6 Mojave / x86_64  OK    OK    OK    OK  UNNEEDED, same version is already published
Package 8/11HostnameOS / ArchINSTALLBUILDCHECKBUILD BIN
phenoTest 1.42.0  (landing page)
Evarist Planet
git_last_commit: 28925db
git_last_commit_date: 2021-10-26 11:57:57 -0500
nebbiolo2Linux (Ubuntu 20.04.4 LTS) / x86_64  OK    OK    WARNINGS  UNNEEDED, same version is already published
tokay2Windows Server 2012 R2 Standard / x64  OK    OK    WARNINGS    OK  UNNEEDED, same version is already published
machv2macOS 10.14.6 Mojave / x86_64  OK    OK    WARNINGS    OK  UNNEEDED, same version is already published
Package 9/11HostnameOS / ArchINSTALLBUILDCHECKBUILD BIN
ppiStats 1.60.0  (landing page)
Bioconductor Package Maintainer
git_last_commit: 2b0ed01
git_last_commit_date: 2021-10-26 11:50:28 -0500
nebbiolo2Linux (Ubuntu 20.04.4 LTS) / x86_64  OK    OK    OK  UNNEEDED, same version is already published
tokay2Windows Server 2012 R2 Standard / x64  OK    ERROR  skippedskipped
machv2macOS 10.14.6 Mojave / x86_64  OK    OK    OK    OK  UNNEEDED, same version is already published
Package 10/11HostnameOS / ArchINSTALLBUILDCHECKBUILD BIN
ReportingTools 2.34.0  (landing page)
Jason A. Hackney , Gabriel Becker
git_last_commit: fb5aef0
git_last_commit_date: 2021-10-26 12:04:45 -0500
nebbiolo2Linux (Ubuntu 20.04.4 LTS) / x86_64  OK    OK    OK  UNNEEDED, same version is already published
tokay2Windows Server 2012 R2 Standard / x64  OK    OK    OK    OK  UNNEEDED, same version is already published
machv2macOS 10.14.6 Mojave / x86_64  OK    OK    OK    OK  UNNEEDED, same version is already published
Package 11/11HostnameOS / ArchINSTALLBUILDCHECKBUILD BIN
scTensor 2.4.1  (landing page)
Koki Tsuyuzaki
git_last_commit: e0462fa
git_last_commit_date: 2021-12-16 01:21:43 -0500
nebbiolo2Linux (Ubuntu 20.04.4 LTS) / x86_64  OK    OK    OK  UNNEEDED, same version is already published
tokay2Windows Server 2012 R2 Standard / x64  OK    OK    OK    OK  UNNEEDED, same version is already published
machv2macOS 10.14.6 Mojave / x86_64  OK    OK    OK    OK  UNNEEDED, same version is already published