Back to Multiple platform build/check report for BioC 3.14
ABCDEFGHIJKLMNOPQR[S]TUVWXYZ

This page was generated on 2022-01-14 13:07:07 -0500 (Fri, 14 Jan 2022).

HostnameOSArch (*)R versionInstalled pkgs
nebbiolo2Linux (Ubuntu 20.04.4 LTS)x86_644.1.2 (2021-11-01) -- "Bird Hippie" 4327
tokay2Windows Server 2012 R2 Standardx644.1.2 (2021-11-01) -- "Bird Hippie" 4076
machv2macOS 10.14.6 Mojavex86_644.1.2 (2021-11-01) -- "Bird Hippie" 4137
Click on any hostname to see more info about the system (e.g. compilers)      (*) as reported by 'uname -p', except on Windows and Mac OS X

CHECK results for SBGNview on tokay2


To the developers/maintainers of the SBGNview package:
- Please allow up to 24 hours (and sometimes 48 hours) for your latest push to git@git.bioconductor.org:packages/SBGNview.git to
reflect on this report. See How and When does the builder pull? When will my changes propagate? here for more information.
- Make sure to use the following settings in order to reproduce any error or warning you see on this page.

raw results

Package 1697/2083HostnameOS / ArchINSTALLBUILDCHECKBUILD BIN
SBGNview 1.8.0  (landing page)
Weijun Luo
Snapshot Date: 2022-01-13 01:55:04 -0500 (Thu, 13 Jan 2022)
git_url: https://git.bioconductor.org/packages/SBGNview
git_branch: RELEASE_3_14
git_last_commit: 1a402c7
git_last_commit_date: 2021-10-26 12:52:48 -0500 (Tue, 26 Oct 2021)
nebbiolo2Linux (Ubuntu 20.04.4 LTS) / x86_64  OK    OK    OK  UNNEEDED, same version is already published
tokay2Windows Server 2012 R2 Standard / x64  OK    OK    OK    OK  UNNEEDED, same version is already published
machv2macOS 10.14.6 Mojave / x86_64  OK    OK    OK    OK  UNNEEDED, same version is already published

Summary

Package: SBGNview
Version: 1.8.0
Command: C:\Users\biocbuild\bbs-3.14-bioc\R\bin\R.exe CMD check --force-multiarch --install=check:SBGNview.install-out.txt --library=C:\Users\biocbuild\bbs-3.14-bioc\R\library --no-vignettes --timings SBGNview_1.8.0.tar.gz
StartedAt: 2022-01-14 01:40:00 -0500 (Fri, 14 Jan 2022)
EndedAt: 2022-01-14 01:46:46 -0500 (Fri, 14 Jan 2022)
EllapsedTime: 406.2 seconds
RetCode: 0
Status:   OK  
CheckDir: SBGNview.Rcheck
Warnings: 0

Command output

##############################################################################
##############################################################################
###
### Running command:
###
###   C:\Users\biocbuild\bbs-3.14-bioc\R\bin\R.exe CMD check --force-multiarch --install=check:SBGNview.install-out.txt --library=C:\Users\biocbuild\bbs-3.14-bioc\R\library --no-vignettes --timings SBGNview_1.8.0.tar.gz
###
##############################################################################
##############################################################################


* using log directory 'C:/Users/biocbuild/bbs-3.14-bioc/meat/SBGNview.Rcheck'
* using R version 4.1.2 (2021-11-01)
* using platform: x86_64-w64-mingw32 (64-bit)
* using session charset: ISO8859-1
* using option '--no-vignettes'
* checking for file 'SBGNview/DESCRIPTION' ... OK
* this is package 'SBGNview' version '1.8.0'
* package encoding: UTF-8
* checking package namespace information ... OK
* checking package dependencies ... OK
* checking if this is a source package ... OK
* checking if there is a namespace ... OK
* checking for hidden files and directories ... OK
* checking for portable file names ... OK
* checking whether package 'SBGNview' can be installed ... OK
* checking installed package size ... OK
* checking package directory ... OK
* checking 'build' directory ... OK
* checking DESCRIPTION meta-information ... OK
* checking top-level files ... OK
* checking for left-over files ... OK
* checking index information ... OK
* checking package subdirectories ... OK
* checking R files for non-ASCII characters ... OK
* checking R files for syntax errors ... OK
* loading checks for arch 'i386'
** checking whether the package can be loaded ... OK
** checking whether the package can be loaded with stated dependencies ... OK
** checking whether the package can be unloaded cleanly ... OK
** checking whether the namespace can be loaded with stated dependencies ... OK
** checking whether the namespace can be unloaded cleanly ... OK
* loading checks for arch 'x64'
** checking whether the package can be loaded ... OK
** checking whether the package can be loaded with stated dependencies ... OK
** checking whether the package can be unloaded cleanly ... OK
** checking whether the namespace can be loaded with stated dependencies ... OK
** checking whether the namespace can be unloaded cleanly ... OK
* checking dependencies in R code ... NOTE
Namespace in Imports field not imported from: 'bookdown'
  All declared Imports should be used.
* checking S3 generic/method consistency ... OK
* checking replacement functions ... OK
* checking foreign function calls ... OK
* checking R code for possible problems ... NOTE
File 'SBGNview/R/zzz.R':
  .onLoad calls:
    packageStartupMessage(disclaimer)

See section 'Good practice' in '?.onAttach'.

generate.cpd.mapping.table: no visible binding for global variable
  'cpd.simtypes'
generate.ko.mapping.list: no visible binding for global variable 'korg'
loadMappingTable: no visible binding for global variable 'korg'
mapping.ko.to.arbitrary.id.type: no visible binding for global variable
  'gene.idtype.list'
mapping.ko.to.arbitrary.id.type: no visible binding for global variable
  'korg'
mol.sum.multiple.mapping: no visible binding for global variable 'IQR'
Undefined global functions or variables:
  IQR cpd.simtypes gene.idtype.list korg
Consider adding
  importFrom("stats", "IQR")
to your NAMESPACE file.
* checking Rd files ... OK
* checking Rd metadata ... OK
* checking Rd cross-references ... OK
* checking for missing documentation entries ... OK
* checking for code/documentation mismatches ... OK
* checking Rd \usage sections ... OK
* checking Rd contents ... OK
* checking for unstated dependencies in examples ... OK
* checking contents of 'data' directory ... OK
* checking data for non-ASCII characters ... OK
* checking data for ASCII and uncompressed saves ... OK
* checking files in 'vignettes' ... OK
* checking examples ...
** running examples for arch 'i386' ... OK
Examples with CPU (user + system) or elapsed time > 5s
                  user system elapsed
SBGNview         20.02   1.50   22.25
sbgnNodes        10.52   0.20   11.23
print.SBGNview    7.88   0.43    8.34
downloadSbgnFile  7.78   0.20    7.99
** running examples for arch 'x64' ... OK
Examples with CPU (user + system) or elapsed time > 5s
                  user system elapsed
SBGNview         16.44   0.62   17.23
sbgnNodes         8.72   0.28    9.00
print.SBGNview    7.27   0.16    7.47
downloadSbgnFile  6.37   0.23    6.61
* checking for unstated dependencies in 'tests' ... OK
* checking tests ...
** running tests for arch 'i386' ...
  Running 'testthat.R'
 OK
** running tests for arch 'x64' ...
  Running 'testthat.R'
 OK
* checking for unstated dependencies in vignettes ... OK
* checking package vignettes in 'inst/doc' ... OK
* checking running R code from vignettes ... SKIPPED
* checking re-building of vignette outputs ... SKIPPED
* checking PDF version of manual ... OK
* DONE

Status: 2 NOTEs
See
  'C:/Users/biocbuild/bbs-3.14-bioc/meat/SBGNview.Rcheck/00check.log'
for details.



Installation output

SBGNview.Rcheck/00install.out

##############################################################################
##############################################################################
###
### Running command:
###
###   C:\cygwin\bin\curl.exe -O http://155.52.207.166/BBS/3.14/bioc/src/contrib/SBGNview_1.8.0.tar.gz && rm -rf SBGNview.buildbin-libdir && mkdir SBGNview.buildbin-libdir && C:\Users\biocbuild\bbs-3.14-bioc\R\bin\R.exe CMD INSTALL --merge-multiarch --build --library=SBGNview.buildbin-libdir SBGNview_1.8.0.tar.gz && C:\Users\biocbuild\bbs-3.14-bioc\R\bin\R.exe CMD INSTALL SBGNview_1.8.0.zip && rm SBGNview_1.8.0.tar.gz SBGNview_1.8.0.zip
###
##############################################################################
##############################################################################


  % Total    % Received % Xferd  Average Speed   Time    Time     Time  Current
                                 Dload  Upload   Total   Spent    Left  Speed

  0     0    0     0    0     0      0      0 --:--:-- --:--:-- --:--:--     0
100 1660k  100 1660k    0     0  2680k      0 --:--:-- --:--:-- --:--:-- 2687k

install for i386

* installing *source* package 'SBGNview' ...
** using staged installation
** R
** data
** inst
** byte-compile and prepare package for lazy loading
** help
*** installing help indices
  converting help for package 'SBGNview'
    finding HTML links ... done
    SBGNhub.id.mapping.tables               html  
    SBGNview                                html  
    arc-class                               html  
    changeDataId                            html  
    changeIds                               html  
    downloadSbgnFile                        html  
    findPathways                            html  
    glyph-class                             html  
    highlightArcs                           html  
    highlightNodes                          html  
    highlightPath                           html  
    loadMappingTable                        html  
    mapped.ids                              html  
    outputFile-set                          html  
    outputFile                              html  
    pathways.info                           html  
    pathways.stats                          html  
    plus-.SBGNview                          html  
    print.SBGNview                          html  
    renderSbgn                              html  
    sbgn.gsets                              html  
    sbgnNodes                               html  
    spline.arc-class                        html  
** building package indices
** installing vignettes
** testing if installed package can be loaded from temporary location
** testing if installed package can be loaded from final location
** testing if installed package keeps a record of temporary installation path

install for x64

* installing *source* package 'SBGNview' ...
** testing if installed package can be loaded
* MD5 sums
packaged installation of 'SBGNview' as SBGNview_1.8.0.zip
* DONE (SBGNview)
* installing to library 'C:/Users/biocbuild/bbs-3.14-bioc/R/library'
package 'SBGNview' successfully unpacked and MD5 sums checked

Tests output

SBGNview.Rcheck/tests_i386/testthat.Rout


R version 4.1.2 (2021-11-01) -- "Bird Hippie"
Copyright (C) 2021 The R Foundation for Statistical Computing
Platform: i386-w64-mingw32/i386 (32-bit)

R is free software and comes with ABSOLUTELY NO WARRANTY.
You are welcome to redistribute it under certain conditions.
Type 'license()' or 'licence()' for distribution details.

R is a collaborative project with many contributors.
Type 'contributors()' for more information and
'citation()' on how to cite R or R packages in publications.

Type 'demo()' for some demos, 'help()' for on-line help, or
'help.start()' for an HTML browser interface to help.
Type 'q()' to quit R.

> library(testthat)
> library(SBGNview)
Loading required package: pathview

##############################################################################
Pathview is an open source software package distributed under GNU General
Public License version 3 (GPLv3). Details of GPLv3 is available at
http://www.gnu.org/licenses/gpl-3.0.html. Particullary, users are required to
formally cite the original Pathview paper (not just mention it) in publications
or products. For details, do citation("pathview") within R.

The pathview downloads and uses KEGG data. Non-academic uses may require a KEGG
license agreement (details at http://www.kegg.jp/kegg/legal.html).
##############################################################################
Loading required package: SBGNview.data
##############################################################################
SBGNview is an open source software package distributed under GNU General
Public License version 3 (GPLv3). Details of GPLv3 is available at
http://www.gnu.org/licenses/gpl-3.0.html.

Users are required to formally cite the SBGNview paper and Pathview paper (not
just mention them) in publications or products. For details, do
'citation("SBGNview"); citation("Pathview")' within R.
##############################################################################
> 
> test_check("SBGNview")
trying URL 'https://raw.githubusercontent.com/datapplab/SBGNhub/master/data/id.mapping.unique.pair.name/compound.name_metacyc.SBGN.RData'
Content type 'application/octet-stream' length 1795999 bytes (1.7 MB)
==================================================
downloaded 1.7 MB

trying URL 'https://raw.githubusercontent.com/datapplab/SBGNhub/master/data/id.mapping.unique.pair.name/kegg_metacyc.SBGN.RData'
Content type 'application/octet-stream' length 171925 bytes (167 KB)
==================================================
downloaded 167 KB

trying URL 'https://raw.githubusercontent.com/datapplab/SBGNhub/master/data/id.mapping.unique.pair.name/kegg_pathway.id.RData'
Content type 'application/octet-stream' length 195623 bytes (191 KB)
==================================================
downloaded 191 KB

[ FAIL 0 | WARN 1 | SKIP 0 | PASS 14 ]
> 
> proc.time()
   user  system elapsed 
  26.09    2.43   29.29 

SBGNview.Rcheck/tests_x64/testthat.Rout


R version 4.1.2 (2021-11-01) -- "Bird Hippie"
Copyright (C) 2021 The R Foundation for Statistical Computing
Platform: x86_64-w64-mingw32/x64 (64-bit)

R is free software and comes with ABSOLUTELY NO WARRANTY.
You are welcome to redistribute it under certain conditions.
Type 'license()' or 'licence()' for distribution details.

R is a collaborative project with many contributors.
Type 'contributors()' for more information and
'citation()' on how to cite R or R packages in publications.

Type 'demo()' for some demos, 'help()' for on-line help, or
'help.start()' for an HTML browser interface to help.
Type 'q()' to quit R.

> library(testthat)
> library(SBGNview)
Loading required package: pathview

##############################################################################
Pathview is an open source software package distributed under GNU General
Public License version 3 (GPLv3). Details of GPLv3 is available at
http://www.gnu.org/licenses/gpl-3.0.html. Particullary, users are required to
formally cite the original Pathview paper (not just mention it) in publications
or products. For details, do citation("pathview") within R.

The pathview downloads and uses KEGG data. Non-academic uses may require a KEGG
license agreement (details at http://www.kegg.jp/kegg/legal.html).
##############################################################################
Loading required package: SBGNview.data
##############################################################################
SBGNview is an open source software package distributed under GNU General
Public License version 3 (GPLv3). Details of GPLv3 is available at
http://www.gnu.org/licenses/gpl-3.0.html.

Users are required to formally cite the SBGNview paper and Pathview paper (not
just mention them) in publications or products. For details, do
'citation("SBGNview"); citation("Pathview")' within R.
##############################################################################
> 
> test_check("SBGNview")
trying URL 'https://raw.githubusercontent.com/datapplab/SBGNhub/master/data/id.mapping.unique.pair.name/compound.name_metacyc.SBGN.RData'
Content type 'application/octet-stream' length 1795999 bytes (1.7 MB)
==================================================
downloaded 1.7 MB

trying URL 'https://raw.githubusercontent.com/datapplab/SBGNhub/master/data/id.mapping.unique.pair.name/kegg_metacyc.SBGN.RData'
Content type 'application/octet-stream' length 171925 bytes (167 KB)
==================================================
downloaded 167 KB

trying URL 'https://raw.githubusercontent.com/datapplab/SBGNhub/master/data/id.mapping.unique.pair.name/kegg_pathway.id.RData'
Content type 'application/octet-stream' length 195623 bytes (191 KB)
==================================================
downloaded 191 KB

[ FAIL 0 | WARN 1 | SKIP 0 | PASS 14 ]
> 
> proc.time()
   user  system elapsed 
  26.28    0.98   27.45 

Example timings

SBGNview.Rcheck/examples_i386/SBGNview-Ex.timings

nameusersystemelapsed
SBGNview20.02 1.5022.25
changeDataId0.000.040.03
changeIds1.090.031.12
downloadSbgnFile7.780.207.99
findPathways0.050.000.04
highlightArcs000
highlightNodes000
highlightPath000
loadMappingTable0.870.030.91
outputFile-set000
outputFile000
plus-.SBGNview000
print.SBGNview7.880.438.34
renderSbgn000
sbgn.gsets1.700.322.16
sbgnNodes10.52 0.2011.23

SBGNview.Rcheck/examples_x64/SBGNview-Ex.timings

nameusersystemelapsed
SBGNview16.44 0.6217.23
changeDataId0.010.020.04
changeIds0.910.020.92
downloadSbgnFile6.370.236.61
findPathways0.060.000.07
highlightArcs000
highlightNodes000
highlightPath000
loadMappingTable0.890.030.92
outputFile-set000
outputFile000
plus-.SBGNview000
print.SBGNview7.270.167.47
renderSbgn000
sbgn.gsets1.400.081.49
sbgnNodes8.720.289.00