Back to Multiple platform build/check report for BioC 3.14
[A]BCDEFGHIJKLMNOPQRSTUVWXYZ

This page was generated on 2022-01-17 13:05:53 -0500 (Mon, 17 Jan 2022).

HostnameOSArch (*)R versionInstalled pkgs
nebbiolo2Linux (Ubuntu 20.04.4 LTS)x86_644.1.2 (2021-11-01) -- "Bird Hippie" 4328
tokay2Windows Server 2012 R2 Standardx644.1.2 (2021-11-01) -- "Bird Hippie" 4077
machv2macOS 10.14.6 Mojavex86_644.1.2 (2021-11-01) -- "Bird Hippie" 4138
Click on any hostname to see more info about the system (e.g. compilers)      (*) as reported by 'uname -p', except on Windows and Mac OS X

INSTALL results for AnnotationHubData on tokay2


To the developers/maintainers of the AnnotationHubData package:
- Please allow up to 24 hours (and sometimes 48 hours) for your latest push to git@git.bioconductor.org:packages/AnnotationHubData.git to
reflect on this report. See How and When does the builder pull? When will my changes propagate? here for more information.
- Make sure to use the following settings in order to reproduce any error or warning you see on this page.

raw results

Package 64/2083HostnameOS / ArchINSTALLBUILDCHECKBUILD BIN
AnnotationHubData 1.24.1  (landing page)
Bioconductor Package Maintainer
Snapshot Date: 2022-01-16 01:55:05 -0500 (Sun, 16 Jan 2022)
git_url: https://git.bioconductor.org/packages/AnnotationHubData
git_branch: RELEASE_3_14
git_last_commit: c665598
git_last_commit_date: 2021-11-24 12:54:20 -0500 (Wed, 24 Nov 2021)
nebbiolo2Linux (Ubuntu 20.04.4 LTS) / x86_64  OK    OK    ERROR  
tokay2Windows Server 2012 R2 Standard / x64  OK    OK    ERROR    OK  
machv2macOS 10.14.6 Mojave / x86_64  OK    OK    ERROR    OK  

Summary

Package: AnnotationHubData
Version: 1.24.1
Command: C:\cygwin\bin\curl.exe -O http://155.52.207.166/BBS/3.14/bioc/src/contrib/AnnotationHubData_1.24.1.tar.gz && rm -rf AnnotationHubData.buildbin-libdir && mkdir AnnotationHubData.buildbin-libdir && C:\Users\biocbuild\bbs-3.14-bioc\R\bin\R.exe CMD INSTALL --merge-multiarch --build --library=AnnotationHubData.buildbin-libdir AnnotationHubData_1.24.1.tar.gz && C:\Users\biocbuild\bbs-3.14-bioc\R\bin\R.exe CMD INSTALL AnnotationHubData_1.24.1.zip && rm AnnotationHubData_1.24.1.tar.gz AnnotationHubData_1.24.1.zip
StartedAt: 2022-01-16 06:17:11 -0500 (Sun, 16 Jan 2022)
EndedAt: 2022-01-16 06:18:43 -0500 (Sun, 16 Jan 2022)
EllapsedTime: 92.1 seconds
RetCode: 0
Status:   OK  

Command output

##############################################################################
##############################################################################
###
### Running command:
###
###   C:\cygwin\bin\curl.exe -O http://155.52.207.166/BBS/3.14/bioc/src/contrib/AnnotationHubData_1.24.1.tar.gz && rm -rf AnnotationHubData.buildbin-libdir && mkdir AnnotationHubData.buildbin-libdir && C:\Users\biocbuild\bbs-3.14-bioc\R\bin\R.exe CMD INSTALL --merge-multiarch --build --library=AnnotationHubData.buildbin-libdir AnnotationHubData_1.24.1.tar.gz && C:\Users\biocbuild\bbs-3.14-bioc\R\bin\R.exe CMD INSTALL AnnotationHubData_1.24.1.zip && rm AnnotationHubData_1.24.1.tar.gz AnnotationHubData_1.24.1.zip
###
##############################################################################
##############################################################################


  % Total    % Received % Xferd  Average Speed   Time    Time     Time  Current
                                 Dload  Upload   Total   Spent    Left  Speed

  0     0    0     0    0     0      0      0 --:--:-- --:--:-- --:--:--     0
100  183k  100  183k    0     0  1160k      0 --:--:-- --:--:-- --:--:-- 1169k

install for i386

* installing *source* package 'AnnotationHubData' ...
** using staged installation
** R
** inst
** byte-compile and prepare package for lazy loading
** help
*** installing help indices
  converting help for package 'AnnotationHubData'
    finding HTML links ... done
    AnnotationHubData-package               html  
    AnnotationHubMetadata-class             html  
    ImportPreparer-class                    html  
    flog                                    html  
    makeAnnotationHubMetadata               html  
    makeEnsemblFasta                        html  
    makeGencodeFasta                        html  
    makeStandardOrgDbs                      html  
    updateResources                         html  
    upload_to_S3                            html  
    validationFunctions                     html  
** building package indices
** installing vignettes
** testing if installed package can be loaded from temporary location
** testing if installed package can be loaded from final location
** testing if installed package keeps a record of temporary installation path

install for x64

* installing *source* package 'AnnotationHubData' ...
** testing if installed package can be loaded
* MD5 sums
packaged installation of 'AnnotationHubData' as AnnotationHubData_1.24.1.zip
* DONE (AnnotationHubData)
* installing to library 'C:/Users/biocbuild/bbs-3.14-bioc/R/library'
package 'AnnotationHubData' successfully unpacked and MD5 sums checked