Back to Multiple platform build/check report for BioC 3.14
[A]BCDEFGHIJKLMNOPQRSTUVWXYZ

This page was generated on 2022-01-14 13:06:01 -0500 (Fri, 14 Jan 2022).

HostnameOSArch (*)R versionInstalled pkgs
nebbiolo2Linux (Ubuntu 20.04.4 LTS)x86_644.1.2 (2021-11-01) -- "Bird Hippie" 4327
tokay2Windows Server 2012 R2 Standardx644.1.2 (2021-11-01) -- "Bird Hippie" 4076
machv2macOS 10.14.6 Mojavex86_644.1.2 (2021-11-01) -- "Bird Hippie" 4137
Click on any hostname to see more info about the system (e.g. compilers)      (*) as reported by 'uname -p', except on Windows and Mac OS X

CHECK results for attract on tokay2


To the developers/maintainers of the attract package:
- Please allow up to 24 hours (and sometimes 48 hours) for your latest push to git@git.bioconductor.org:packages/attract.git to
reflect on this report. See How and When does the builder pull? When will my changes propagate? here for more information.
- Make sure to use the following settings in order to reproduce any error or warning you see on this page.

raw results

Package 97/2083HostnameOS / ArchINSTALLBUILDCHECKBUILD BIN
attract 1.46.0  (landing page)
Samuel Zimmerman
Snapshot Date: 2022-01-13 01:55:04 -0500 (Thu, 13 Jan 2022)
git_url: https://git.bioconductor.org/packages/attract
git_branch: RELEASE_3_14
git_last_commit: 8500b7d
git_last_commit_date: 2021-10-26 11:56:18 -0500 (Tue, 26 Oct 2021)
nebbiolo2Linux (Ubuntu 20.04.4 LTS) / x86_64  OK    OK    OK  UNNEEDED, same version is already published
tokay2Windows Server 2012 R2 Standard / x64  OK    OK    OK    OK  UNNEEDED, same version is already published
machv2macOS 10.14.6 Mojave / x86_64  OK    OK    OK    OK  UNNEEDED, same version is already published

Summary

Package: attract
Version: 1.46.0
Command: C:\Users\biocbuild\bbs-3.14-bioc\R\bin\R.exe CMD check --force-multiarch --install=check:attract.install-out.txt --library=C:\Users\biocbuild\bbs-3.14-bioc\R\library --no-vignettes --timings attract_1.46.0.tar.gz
StartedAt: 2022-01-13 15:35:25 -0500 (Thu, 13 Jan 2022)
EndedAt: 2022-01-13 15:43:42 -0500 (Thu, 13 Jan 2022)
EllapsedTime: 496.6 seconds
RetCode: 0
Status:   OK  
CheckDir: attract.Rcheck
Warnings: 0

Command output

##############################################################################
##############################################################################
###
### Running command:
###
###   C:\Users\biocbuild\bbs-3.14-bioc\R\bin\R.exe CMD check --force-multiarch --install=check:attract.install-out.txt --library=C:\Users\biocbuild\bbs-3.14-bioc\R\library --no-vignettes --timings attract_1.46.0.tar.gz
###
##############################################################################
##############################################################################


* using log directory 'C:/Users/biocbuild/bbs-3.14-bioc/meat/attract.Rcheck'
* using R version 4.1.2 (2021-11-01)
* using platform: x86_64-w64-mingw32 (64-bit)
* using session charset: ISO8859-1
* using option '--no-vignettes'
* checking for file 'attract/DESCRIPTION' ... OK
* checking extension type ... Package
* this is package 'attract' version '1.46.0'
* checking package namespace information ... OK
* checking package dependencies ... OK
* checking if this is a source package ... OK
* checking if there is a namespace ... OK
* checking for hidden files and directories ... OK
* checking for portable file names ... OK
* checking whether package 'attract' can be installed ... OK
* checking installed package size ... OK
* checking package directory ... OK
* checking 'build' directory ... OK
* checking DESCRIPTION meta-information ... OK
* checking top-level files ... OK
* checking for left-over files ... OK
* checking index information ... OK
* checking package subdirectories ... OK
* checking R files for non-ASCII characters ... OK
* checking R files for syntax errors ... OK
* loading checks for arch 'i386'
** checking whether the package can be loaded ... OK
** checking whether the package can be loaded with stated dependencies ... OK
** checking whether the package can be unloaded cleanly ... OK
** checking whether the namespace can be loaded with stated dependencies ... OK
** checking whether the namespace can be unloaded cleanly ... OK
* loading checks for arch 'x64'
** checking whether the package can be loaded ... OK
** checking whether the package can be loaded with stated dependencies ... OK
** checking whether the package can be unloaded cleanly ... OK
** checking whether the namespace can be loaded with stated dependencies ... OK
** checking whether the namespace can be unloaded cleanly ... OK
* checking dependencies in R code ... OK
* checking S3 generic/method consistency ... OK
* checking replacement functions ... OK
* checking foreign function calls ... OK
* checking R code for possible problems ... NOTE
plotsynexprs: warning in axis(1, at = tickMarks, lab = tickLabels):
  partial argument match of 'lab' to 'labels'
removeFlatGenes: warning in topTable(fit2, coef =
  (1:(length(my.contrasts))), adjust = "fdr", n = nrow(dat.fr)):
  partial argument match of 'n' to 'number'
removeFlatGenes: warning in topTable(fit2, coef =
  (1:(length(my.contrasts))), adjust = "fdr", n = nrow(dat.fr)):
  partial argument match of 'adjust' to 'adjust.method'
* checking Rd files ... OK
* checking Rd metadata ... OK
* checking Rd cross-references ... OK
* checking for missing documentation entries ... OK
* checking for code/documentation mismatches ... OK
* checking Rd \usage sections ... OK
* checking Rd contents ... OK
* checking for unstated dependencies in examples ... OK
* checking contents of 'data' directory ... OK
* checking data for non-ASCII characters ... OK
* checking data for ASCII and uncompressed saves ... OK
* checking files in 'vignettes' ... OK
* checking examples ...
** running examples for arch 'i386' ... OK
Examples with CPU (user + system) or elapsed time > 5s
                  user system elapsed
calcFuncSynexprs 75.72   3.61   80.99
findAttractors   42.19   1.80   46.39
findCorrPartners  5.90   0.23    7.32
findSynexprs      4.46   0.00    5.64
plotsynexprs      4.35   0.03    5.34
** running examples for arch 'x64' ... OK
Examples with CPU (user + system) or elapsed time > 5s
                  user system elapsed
calcFuncSynexprs 78.16   2.95   82.48
findAttractors   42.30   2.05   45.70
findCorrPartners  5.79   0.17    6.94
findSynexprs      5.19   0.00    6.14
plotsynexprs      4.92   0.01    5.90
* checking for unstated dependencies in vignettes ... OK
* checking package vignettes in 'inst/doc' ... OK
* checking running R code from vignettes ... SKIPPED
* checking re-building of vignette outputs ... SKIPPED
* checking PDF version of manual ... OK
* DONE

Status: 1 NOTE
See
  'C:/Users/biocbuild/bbs-3.14-bioc/meat/attract.Rcheck/00check.log'
for details.



Installation output

attract.Rcheck/00install.out

##############################################################################
##############################################################################
###
### Running command:
###
###   C:\cygwin\bin\curl.exe -O http://155.52.207.166/BBS/3.14/bioc/src/contrib/attract_1.46.0.tar.gz && rm -rf attract.buildbin-libdir && mkdir attract.buildbin-libdir && C:\Users\biocbuild\bbs-3.14-bioc\R\bin\R.exe CMD INSTALL --merge-multiarch --build --library=attract.buildbin-libdir attract_1.46.0.tar.gz && C:\Users\biocbuild\bbs-3.14-bioc\R\bin\R.exe CMD INSTALL attract_1.46.0.zip && rm attract_1.46.0.tar.gz attract_1.46.0.zip
###
##############################################################################
##############################################################################


  % Total    % Received % Xferd  Average Speed   Time    Time     Time  Current
                                 Dload  Upload   Total   Spent    Left  Speed

  0     0    0     0    0     0      0      0 --:--:-- --:--:-- --:--:--     0
  7 4204k    7  297k    0     0  1430k      0  0:00:02 --:--:--  0:00:02 1432k
 98 4204k   98 4147k    0     0  3479k      0  0:00:01  0:00:01 --:--:-- 3479k
100 4204k  100 4204k    0     0  3510k      0  0:00:01  0:00:01 --:--:-- 3509k

install for i386

* installing *source* package 'attract' ...
** using staged installation
** R
** data
** inst
** byte-compile and prepare package for lazy loading
** help
*** installing help indices
  converting help for package 'attract'
    finding HTML links ... done
    AttractorModuleSet-class                html  
    SynExpressionSet-class                  html  
    attract-package                         html  
    buildCorMatrix                          html  
    buildCustomIncidenceMatrix              html  
    buildKeggIncidenceMatrix                html  
    calcFuncSynexprs                        html  
    calcInform                              html  
    calcModfstat                            html  
    calcRss                                 html  
    exprs.dat                               html  
    filterDataSet                           html  
    findAttractors                          html  
    findCorrPartners                        html  
    findOnepwaySynexprs                     html  
    findSynexprs                            html  
    flagPwayExists                          html  
    getCustomGenes                          html  
    getPwayGenes                            html  
    loring.eset                             html  
    plotsynexprs                            html  
    removeFlatGenes                         html  
    samp.info                               html  
    subset.loring.eset                      html  
** building package indices
** installing vignettes
** testing if installed package can be loaded from temporary location
** testing if installed package can be loaded from final location
** testing if installed package keeps a record of temporary installation path

install for x64

* installing *source* package 'attract' ...
** testing if installed package can be loaded
* MD5 sums
packaged installation of 'attract' as attract_1.46.0.zip
* DONE (attract)
* installing to library 'C:/Users/biocbuild/bbs-3.14-bioc/R/library'
package 'attract' successfully unpacked and MD5 sums checked

Tests output


Example timings

attract.Rcheck/examples_i386/attract-Ex.timings

nameusersystemelapsed
AttractorModuleSet-class000
SynExpressionSet-class000
attract-package000
buildCorMatrix000
buildKeggIncidenceMatrix000
calcFuncSynexprs75.72 3.6180.99
calcInform000
calcModfstat000
calcRss000
exprs.dat0.190.000.19
filterDataSet0.280.010.29
findAttractors42.19 1.8046.39
findCorrPartners5.900.237.32
findOnepwaySynexprs000
findSynexprs4.460.005.64
flagPwayExists000
getCustomGenes000
getPwayGenes000
loring.eset0.230.000.24
plotsynexprs4.350.035.34
removeFlatGenes0.210.020.23
samp.info0.000.010.02
subset.loring.eset0.130.000.12

attract.Rcheck/examples_x64/attract-Ex.timings

nameusersystemelapsed
AttractorModuleSet-class000
SynExpressionSet-class000
attract-package000
buildCorMatrix000
buildKeggIncidenceMatrix000
calcFuncSynexprs78.16 2.9582.48
calcInform000
calcModfstat000
calcRss000
exprs.dat0.140.000.14
filterDataSet0.230.000.24
findAttractors42.30 2.0545.70
findCorrPartners5.790.176.94
findOnepwaySynexprs000
findSynexprs5.190.006.14
flagPwayExists000
getCustomGenes000
getPwayGenes000
loring.eset0.130.050.17
plotsynexprs4.920.015.90
removeFlatGenes0.190.000.19
samp.info0.000.020.02
subset.loring.eset0.090.000.09