Back to Multiple platform build/check report for BioC 3.14
ABCDEFGHIJ[K]LMNOPQRSTUVWXYZ

This page was generated on 2022-01-19 13:08:15 -0500 (Wed, 19 Jan 2022).

HostnameOSArch (*)R versionInstalled pkgs
nebbiolo2Linux (Ubuntu 20.04.4 LTS)x86_644.1.2 (2021-11-01) -- "Bird Hippie" 4328
tokay2Windows Server 2012 R2 Standardx644.1.2 (2021-11-01) -- "Bird Hippie" 4077
machv2macOS 10.14.6 Mojavex86_644.1.2 (2021-11-01) -- "Bird Hippie" 4138
Click on any hostname to see more info about the system (e.g. compilers)      (*) as reported by 'uname -p', except on Windows and Mac OS X

INSTALL results for KEGGprofile on machv2


To the developers/maintainers of the KEGGprofile package:
- Please allow up to 24 hours (and sometimes 48 hours) for your latest push to git@git.bioconductor.org:packages/KEGGprofile.git to
reflect on this report. See How and When does the builder pull? When will my changes propagate? here for more information.
- Make sure to use the following settings in order to reproduce any error or warning you see on this page.

raw results

Package 982/2083HostnameOS / ArchINSTALLBUILDCHECKBUILD BIN
KEGGprofile 1.36.0  (landing page)
Shilin Zhao
Snapshot Date: 2022-01-18 01:55:07 -0500 (Tue, 18 Jan 2022)
git_url: https://git.bioconductor.org/packages/KEGGprofile
git_branch: RELEASE_3_14
git_last_commit: d524b1f
git_last_commit_date: 2021-10-26 12:03:39 -0500 (Tue, 26 Oct 2021)
nebbiolo2Linux (Ubuntu 20.04.4 LTS) / x86_64  ERROR    ERROR  skipped
tokay2Windows Server 2012 R2 Standard / x64  ERROR    ERROR  skippedskipped
machv2macOS 10.14.6 Mojave / x86_64  ERROR    ERROR  skippedskipped

Summary

Package: KEGGprofile
Version: 1.36.0
Command: /Library/Frameworks/R.framework/Resources/bin/R CMD INSTALL KEGGprofile
StartedAt: 2022-01-18 04:25:41 -0500 (Tue, 18 Jan 2022)
EndedAt: 2022-01-18 04:25:41 -0500 (Tue, 18 Jan 2022)
EllapsedTime: 0.3 seconds
RetCode: 1
Status:   ERROR  

Command output

##############################################################################
##############################################################################
###
### Running command:
###
###   /Library/Frameworks/R.framework/Resources/bin/R CMD INSTALL KEGGprofile
###
##############################################################################
##############################################################################


* installing to library ‘/Library/Frameworks/R.framework/Versions/4.1/Resources/library’
ERROR: dependency ‘KEGG.db’ is not available for package ‘KEGGprofile’
* removing ‘/Library/Frameworks/R.framework/Versions/4.1/Resources/library/KEGGprofile’