Back to Multiple platform build/check report for BioC 3.14
[A]BCDEFGHIJKLMNOPQRSTUVWXYZ

This page was generated on 2021-11-24 15:04:21 -0500 (Wed, 24 Nov 2021).

All results for package AnnotationForge

To the developers/maintainers of the AnnotationForge package:
- Please allow up to 24 hours (and sometimes 48 hours) for your latest push to git@git.bioconductor.org:packages/AnnotationForge.git to
reflect on this report. See How and When does the builder pull? When will my changes propagate? here for more information.
- Make sure to use the following settings in order to reproduce any error or warning you see on this page.

raw results

Package 62/2083HostnameOS / ArchINSTALLBUILDCHECKBUILD BIN
AnnotationForge 1.36.0  (landing page)
Bioconductor Package Maintainer
Snapshot Date: 2021-11-23 04:15:06 -0500 (Tue, 23 Nov 2021)
git_url: https://git.bioconductor.org/packages/AnnotationForge
git_branch: RELEASE_3_14
git_last_commit: 523b5f0
git_last_commit_date: 2021-10-26 12:03:32 -0500 (Tue, 26 Oct 2021)
nebbiolo2Linux (Ubuntu 20.04.3 LTS) / x86_64  OK    OK    OK  UNNEEDED, same version is already published
tokay2Windows Server 2012 R2 Standard / x64  OK    OK    OK    OK  UNNEEDED, same version is already published
machv2macOS 10.14.6 Mojave / x86_64  OK    OK    OK    OK  UNNEEDED, same version is already published

Results for Bioconductor software packages that depend directly on package AnnotationForge

QUICK STATSOS / ArchINSTALLBUILDCHECKBUILD BIN
nebbiolo2Linux (Ubuntu 20.04.3 LTS) / x86_64
003
003
0021
tokay2Windows Server 2012 R2 Standard / x64
003
003
0021
003
machv2macOS 10.14.6 Mojave / x86_64
003
003
0021
003
Package 1/3HostnameOS / ArchINSTALLBUILDCHECKBUILD BIN
AnnotationHubData 1.24.0  (landing page)
Bioconductor Package Maintainer
git_last_commit: ee4eb9b
git_last_commit_date: 2021-10-26 12:22:19 -0500
nebbiolo2Linux (Ubuntu 20.04.3 LTS) / x86_64  OK    OK    WARNINGS  UNNEEDED, same version is already published
tokay2Windows Server 2012 R2 Standard / x64  OK    OK    WARNINGS    OK  UNNEEDED, same version is already published
machv2macOS 10.14.6 Mojave / x86_64  OK    OK    WARNINGS    OK  UNNEEDED, same version is already published
Package 2/3HostnameOS / ArchINSTALLBUILDCHECKBUILD BIN
GOstats 2.60.0  (landing page)
Bioconductor Package Maintainer
git_last_commit: a20055c
git_last_commit_date: 2021-10-26 11:47:01 -0500
nebbiolo2Linux (Ubuntu 20.04.3 LTS) / x86_64  OK    OK    OK  UNNEEDED, same version is already published
tokay2Windows Server 2012 R2 Standard / x64  OK    OK    OK    OK  UNNEEDED, same version is already published
machv2macOS 10.14.6 Mojave / x86_64  OK    OK    OK    OK  UNNEEDED, same version is already published
Package 3/3HostnameOS / ArchINSTALLBUILDCHECKBUILD BIN
ViSEAGO 1.8.0  (landing page)
Aurelien Brionne
git_last_commit: c5fd4b9
git_last_commit_date: 2021-10-26 12:52:59 -0500
nebbiolo2Linux (Ubuntu 20.04.3 LTS) / x86_64  OK    OK    WARNINGS  UNNEEDED, same version is already published
tokay2Windows Server 2012 R2 Standard / x64  OK    OK    WARNINGS    OK  UNNEEDED, same version is already published
machv2macOS 10.14.6 Mojave / x86_64  OK    OK    WARNINGS    OK  UNNEEDED, same version is already published