Back to Multiple platform build/check report for BioC 3.14
ABCDEFGHIJKL[M]NOPQRSTUVWXYZ

This page was generated on 2022-01-17 13:06:33 -0500 (Mon, 17 Jan 2022).

HostnameOSArch (*)R versionInstalled pkgs
nebbiolo2Linux (Ubuntu 20.04.4 LTS)x86_644.1.2 (2021-11-01) -- "Bird Hippie" 4328
tokay2Windows Server 2012 R2 Standardx644.1.2 (2021-11-01) -- "Bird Hippie" 4077
machv2macOS 10.14.6 Mojavex86_644.1.2 (2021-11-01) -- "Bird Hippie" 4138
Click on any hostname to see more info about the system (e.g. compilers)      (*) as reported by 'uname -p', except on Windows and Mac OS X

INSTALL results for MetaboSignal on tokay2


To the developers/maintainers of the MetaboSignal package:
- Please allow up to 24 hours (and sometimes 48 hours) for your latest push to git@git.bioconductor.org:packages/MetaboSignal.git to
reflect on this report. See How and When does the builder pull? When will my changes propagate? here for more information.
- Make sure to use the following settings in order to reproduce any error or warning you see on this page.

raw results

Package 1094/2083HostnameOS / ArchINSTALLBUILDCHECKBUILD BIN
MetaboSignal 1.24.0  (landing page)
Andrea Rodriguez-Martinez
Snapshot Date: 2022-01-16 01:55:05 -0500 (Sun, 16 Jan 2022)
git_url: https://git.bioconductor.org/packages/MetaboSignal
git_branch: RELEASE_3_14
git_last_commit: 4e4f9da
git_last_commit_date: 2021-10-26 12:29:51 -0500 (Tue, 26 Oct 2021)
nebbiolo2Linux (Ubuntu 20.04.4 LTS) / x86_64  OK    OK    OK  UNNEEDED, same version is already published
tokay2Windows Server 2012 R2 Standard / x64  OK    OK    OK    OK  UNNEEDED, same version is already published
machv2macOS 10.14.6 Mojave / x86_64  OK    OK    OK    OK  UNNEEDED, same version is already published

Summary

Package: MetaboSignal
Version: 1.24.0
Command: C:\cygwin\bin\curl.exe -O http://155.52.207.166/BBS/3.14/bioc/src/contrib/MetaboSignal_1.24.0.tar.gz && rm -rf MetaboSignal.buildbin-libdir && mkdir MetaboSignal.buildbin-libdir && C:\Users\biocbuild\bbs-3.14-bioc\R\bin\R.exe CMD INSTALL --merge-multiarch --build --library=MetaboSignal.buildbin-libdir MetaboSignal_1.24.0.tar.gz && C:\Users\biocbuild\bbs-3.14-bioc\R\bin\R.exe CMD INSTALL MetaboSignal_1.24.0.zip && rm MetaboSignal_1.24.0.tar.gz MetaboSignal_1.24.0.zip
StartedAt: 2022-01-16 07:24:48 -0500 (Sun, 16 Jan 2022)
EndedAt: 2022-01-16 07:26:39 -0500 (Sun, 16 Jan 2022)
EllapsedTime: 110.4 seconds
RetCode: 0
Status:   OK  

Command output

##############################################################################
##############################################################################
###
### Running command:
###
###   C:\cygwin\bin\curl.exe -O http://155.52.207.166/BBS/3.14/bioc/src/contrib/MetaboSignal_1.24.0.tar.gz && rm -rf MetaboSignal.buildbin-libdir && mkdir MetaboSignal.buildbin-libdir && C:\Users\biocbuild\bbs-3.14-bioc\R\bin\R.exe CMD INSTALL --merge-multiarch --build --library=MetaboSignal.buildbin-libdir MetaboSignal_1.24.0.tar.gz && C:\Users\biocbuild\bbs-3.14-bioc\R\bin\R.exe CMD INSTALL MetaboSignal_1.24.0.zip && rm MetaboSignal_1.24.0.tar.gz MetaboSignal_1.24.0.zip
###
##############################################################################
##############################################################################


  % Total    % Received % Xferd  Average Speed   Time    Time     Time  Current
                                 Dload  Upload   Total   Spent    Left  Speed

  0     0    0     0    0     0      0      0 --:--:-- --:--:-- --:--:--     0
 55 2634k   55 1455k    0     0  5575k      0 --:--:-- --:--:-- --:--:-- 5575k
100 2634k  100 2634k    0     0  7783k      0 --:--:-- --:--:-- --:--:-- 7793k

install for i386

* installing *source* package 'MetaboSignal' ...
** using staged installation
** R
** data
*** moving datasets to lazyload DB
** inst
** byte-compile and prepare package for lazy loading
** help
*** installing help indices
  converting help for package 'MetaboSignal'
    finding HTML links ... done
    MS2_mergeNetworks                       html  
    MS2_ppiNetwork                          html  
    MS_changeNames                          html  
    MS_convertGene                          html  
    MS_distances                            html  
    MS_exportCytoscape                      html  
    MS_findMappedNodes                      html  
    MS_getPathIds                           html  
    MS_keggFinder                           html  
    MS_keggNetwork                          html  
    MS_nodeBW                               html  
    MS_reactionNetwork                      html  
    MS_removeDrugs                          html  
    MS_removeNode                           html  
    MS_replaceNode                          html  
    MS_shortestPaths                        html  
    MS_shortestPathsNetwork                 html  
    MS_tissueFilter                         html  
    MS_topologyFilter                       html  
    MetaboSignal_table                      html  
    directionality_reactions                html  
    hpaNormalTissue                         html  
    keggNet_example                         html  
    kegg_pathways                           html  
    mergedNet_example                       html  
    ppiNet_example                          html  
    regulatory_interactions                 html  
** building package indices
** installing vignettes
   'MetaboSignal.Rmd' using 'UTF-8' 
   'MetaboSignal2.Rmd' using 'UTF-8' 
** testing if installed package can be loaded from temporary location
** testing if installed package can be loaded from final location
** testing if installed package keeps a record of temporary installation path

install for x64

* installing *source* package 'MetaboSignal' ...
** testing if installed package can be loaded
* MD5 sums
packaged installation of 'MetaboSignal' as MetaboSignal_1.24.0.zip
* DONE (MetaboSignal)
* installing to library 'C:/Users/biocbuild/bbs-3.14-bioc/R/library'
package 'MetaboSignal' successfully unpacked and MD5 sums checked