This page was generated on 2019-04-16 12:14:50 -0400 (Tue, 16 Apr 2019).
malbec1 |
Linux (Ubuntu 16.04.6 LTS) / x86_64 | | | | | |
[merida1] |
OS X 10.11.6 El Capitan / x86_64 | | | | | |
|
|
| |
a4 1.30.0 | Tobias Verbeke | OK | OK | OK | OK |  |
a4Base 1.30.0 | Tobias Verbeke | OK | OK | OK | OK |  |
a4Classif 1.30.0 | Tobias Verbeke | OK | OK | OK | OK |  |
a4Core 1.30.0 | Tobias Verbeke | OK | OK | OK | OK |  |
a4Preproc 1.30.0 | Tobias Verbeke | OK | OK | OK | OK |  |
a4Reporting 1.30.0 | Tobias Verbeke , Willem Ligtenberg | OK | OK | OK | OK |  |
ABAEnrichment 1.12.0 | Steffi Grote | OK | OK | OK | OK |  |
ABarray 1.50.0 | Yongming Andrew Sun | OK | OK | OK | OK |  |
abseqR 1.0.0 | JiaHong Fong | OK | OK | OK | OK |  |
ABSSeq 1.36.0 | Wentao Yang | OK | OK | OK | OK |  |
acde 1.12.0 | Juan Pablo Acosta | OK | OK | OK | OK |  |
ACE 1.0.0 | Jos B Poell | OK | OK | OK | OK |  |
aCGH 1.60.0 | Peter Dimitrov | OK | OK | OK | OK |  |
ACME 2.38.0 | Sean Davis | OK | OK | OK | OK |  |
ADaCGH2 2.22.0 | Ramon Diaz-Uriarte | OK | OK | OK | OK |  |
adaptest 1.2.0 | Weixin Cai | OK | OK | OK | OK |  |
adSplit 1.52.0 | Claudio Lottaz | OK | OK | OK | OK |  |
AffiXcan 1.0.0 | Alessandro Lussana | OK | OK | OK | OK |  |
affxparser 1.54.0 | Kasper Daniel Hansen | OK | OK | WARNINGS | OK |  |
affy 1.60.0 | Rafael A. Irizarry | OK | OK | WARNINGS | OK |  |
affycomp 1.58.0 | Rafael A. Irizarry | OK | OK | OK | OK |  |
AffyCompatible 1.42.0 | Martin Morgan | OK | OK | OK | OK |  |
affyContam 1.40.0 | V. Carey | OK | OK | OK | OK |  |
affycoretools 1.54.0 | James W. MacDonald | OK | OK | OK | OK |  |
AffyExpress 1.48.0 | Xuejun Arthur Li | OK | OK | OK | OK |  |
affyILM 1.34.0 | Myriam Kroll and Fabrice Berger | OK | OK | OK | OK |  |
affyio 1.52.0 | Ben Bolstad | OK | OK | OK | OK |  |
affylmGUI 1.56.0 | Gordon Smyth | OK | OK | OK | OK |  |
affyPara 1.42.0 | Markus Schmidberger | OK | OK | OK | OK |  |
affypdnn 1.56.0 | Laurent Gautier | OK | OK | OK | OK |  |
affyPLM 1.58.0 | Ben Bolstad | OK | OK | OK | OK |  |
affyQCReport 1.60.0 | Craig Parman | OK | OK | OK | OK |  |
AffyRNADegradation 1.28.0 | Mario Fasold | OK | OK | OK | OK |  |
AGDEX 1.30.0 | Cuilan lani Gao | OK | OK | OK | OK |  |
agilp 3.14.0 | Benny Chain | OK | OK | OK | OK |  |
AgiMicroRna 2.32.0 | Pedro Lopez-Romero | OK | OK | OK | OK |  |
AIMS 1.14.1 | Eric R Paquet | OK | OK | OK | OK |  |
ALDEx2 1.14.1 | Greg Gloor | OK | OK | OK | OK |  |
AllelicImbalance 1.20.0 | Jesper R Gadin | OK | OK | OK | OK |  |
alpine 1.8.0 | Michael Love | OK | OK | OK | OK |  |
alsace 1.18.0 | Ron Wehrens | OK | OK | OK | OK |  |
altcdfenvs 2.44.0 | Laurent Gautier | OK | OK | OK | OK |  |
AMOUNTAIN 1.8.0 | Dong Li | OK | OK | OK | OK |  |
amplican 1.4.1 | Eivind Valen | OK | OK | OK | OK |  |
ampliQueso 1.20.0 | Michal Okoniewski | OK | OK | WARNINGS | OK |  |
AnalysisPageServer 1.16.0 | Brad Friedman | OK | OK | OK | OK |  |
anamiR 1.10.0 | Ti-Tai Wang | OK | ERROR | skipped | skipped | |
Anaquin 2.6.1 | Ted Wong | OK | OK | OK | OK |  |
AneuFinder 1.10.2 | Aaron Taudt | OK | OK | OK | OK |  |
ANF 1.4.0 | Tianle Ma | OK | OK | OK | OK |  |
annaffy 1.54.0 | Colin A. Smith | OK | OK | OK | OK |  |
annmap 1.24.0 | Chris Wirth | OK | OK | WARNINGS | OK |  |
annotate 1.60.1 | Bioconductor Package Maintainer | OK | OK | OK | OK |  |
AnnotationDbi 1.44.0 | Bioconductor Package Maintainer | OK | OK | OK | OK |  |
AnnotationFilter 1.6.0 | Bioconductor Package Maintainer | OK | OK | OK | OK |  |
AnnotationForge 1.24.0 | Bioconductor Package Maintainer | OK | OK | OK | OK |  |
AnnotationFuncs 1.32.0 | Stefan McKinnon Edwards | OK | OK | OK | OK |  |
AnnotationHub 2.14.5 | Bioconductor Package Maintainer | OK | OK | WARNINGS | OK |  |
AnnotationHubData 1.12.0 | Bioconductor Package Maintainer | OK | OK | OK | OK |  |
annotationTools 1.56.0 | Alexandre Kuhn | OK | OK | OK | OK |  |
annotatr 1.8.0 | Raymond G. Cavalcante | OK | OK | OK | OK |  |
anota 1.30.0 | Ola Larsson | OK | OK | OK | OK |  |
anota2seq 1.4.2 | Christian Oertlin , Julie Lorent | OK | OK | OK | OK |  |
antiProfiles 1.22.0 | Hector Corrada Bravo | OK | OK | OK | OK |  |
apComplex 2.48.1 | Denise Scholtens | OK | OK | OK | OK |  |
apeglm 1.4.2 | Anqi Zhu | OK | OK | OK | OK |  |
appreci8R 1.0.0 | Sarah Sandmann | OK | OK | OK | OK |  |
aroma.light 3.12.0 | Henrik Bengtsson | OK | OK | OK | OK |  |
ArrayExpress 1.42.0 | Suhaib Mohammed | OK | OK | OK | OK |  |
ArrayExpressHTS 1.32.1 | Angela Goncalves , Andrew Tikhonov | OK | OK | OK | OK |  |
arrayMvout 1.40.0 | V. Carey | OK | OK | OK | OK |  |
arrayQuality 1.60.0 | Agnes Paquet | OK | OK | WARNINGS | OK |  |
arrayQualityMetrics 3.38.0 | Mike Smith | OK | OK | OK | OK |  |
ArrayTools 1.42.0 | Arthur Li | OK | OK | OK | OK |  |
ArrayTV 1.20.0 | Eitan Halper-Stromberg | OK | OK | OK | OK |  |
ARRmNormalization 1.22.0 | Jean-Philippe Fortin | OK | OK | OK | OK |  |
artMS 1.0.12 | David Jimenez-Morales | OK | OK | OK | OK |  |
ASAFE 1.8.0 | Qian Zhang | OK | OK | OK | OK |  |
ASEB 1.26.0 | Likun Wang | OK | OK | OK | OK |  |
ASGSCA 1.16.0 | Hela Romdhani | OK | OK | OK | OK |  |
ASICS 1.2.0 | Gaëlle Lefort | OK | OK | OK | OK |  |
ASpli 1.8.1 | Estefania Mancini | OK | OK | OK | OK |  |
AssessORF 1.0.2 | Deepank Korandla | OK | OK | OK | OK |  |
ASSET 2.0.0 | Samsiddhi Bhattacharjee | OK | OK | WARNINGS | OK |  |
ASSIGN 1.18.0 | Ying Shen , W. Evan Johnson | OK | OK | OK | OK |  |
ATACseqQC 1.6.4 | Jianhong Ou | OK | ERROR | skipped | skipped | |
attract 1.34.1 | Samuel Zimmerman | OK | OK | OK | OK |  |
AUCell 1.4.1 | Sara Aibar | OK | OK | OK | OK |  |
|
| |
BaalChIP 1.8.0 | Ines de Santiago | OK | OK | WARNINGS | OK |  |
BAC 1.42.0 | Raphael Gottardo | OK | OK | OK | OK |  |
bacon 1.10.1 | Maarten van Iterson | OK | OK | OK | OK |  |
BADER 1.20.1 | Andreas Neudecker | OK | OK | OK | OK |  |
BadRegionFinder 1.10.0 | Sarah Sandmann | OK | OK | OK | OK |  |
BAGS 2.22.0 | Alejandro Quiroz-Zarate | OK | OK | OK | OK |  |
ballgown 2.14.1 | Jack Fu | OK | OK | OK | OK |  |
bamsignals 1.14.0 | Alessandro Mammana | OK | OK | OK | OK |  |
banocc 1.6.1 | George Weingart | OK | OK | OK | OK |  |
basecallQC 1.6.0 | Thomas Carroll | OK | OK | OK | OK |  |
BaseSpaceR 1.26.0 | Jared O'Connell | OK | OK | OK | OK |  |
Basic4Cseq 1.18.1 | Carolin Walter | OK | OK | OK | OK |  |
BASiCS 1.4.7 | Catalina A. Vallejos , Nils Eling | OK | OK | OK | OK |  |
BasicSTARRseq 1.10.0 | Annika Buerger | OK | OK | OK | OK |  |
BatchQC 1.10.1 | Solaiappan Manimaran | OK | OK | OK | OK |  |
BayesKnockdown 1.8.0 | William Chad Young | OK | OK | OK | OK |  |
BayesPeak 1.34.0 | Jonathan Cairns | OK | OK | OK | OK |  |
bayNorm 1.0.9 | Wenhao Tang | OK | OK | OK | OK |  |
baySeq 2.16.0 | Thomas J. Hardcastle | OK | OK | OK | OK |  |
BBCAnalyzer 1.12.0 | Sarah Sandmann | OK | OK | OK | OK |  |
BCRANK 1.44.0 | Adam Ameur | OK | OK | OK | OK |  |
bcSeq | | ERROR (Bad DESCRIPTION file) |
BDMMAcorrect 1.0.1 | ZHENWEI DAI | OK | OK | OK | OK |  |
beachmat 1.4.0 | Aaron Lun | OK | OK | OK | OK |  |
beadarray 2.32.0 | Mark Dunning | OK | OK | OK | OK |  |
beadarraySNP 1.48.0 | Jan Oosting | OK | OK | OK | OK |  |
BeadDataPackR 1.34.0 | Mike Smith | OK | OK | OK | OK |  |
BEARscc 1.2.1 | Benjamin Schuster-Boeckler | OK | OK | OK | OK |  |
BEAT 1.20.1 | Kemal Akman | OK | OK | OK | OK |  |
BEclear 1.14.0 | David Rasp | OK | OK | OK | OK |  |
bgafun 1.44.0 | Iain Wallace | OK | OK | OK | OK |  |
BgeeDB 2.8.0 | Julien Wollbrett , Julien Roux , Andrea Komljenovic , Frederic Bastian | OK | OK | OK | OK |  |
BGmix 1.42.0 | Alex Lewin | OK | OK | OK | OK |  |
bgx 1.48.1 | Ernest Turro | ERROR | ERROR | skipped | skipped | |
BHC 1.34.0 | Rich Savage | OK | OK | OK | OK |  |
BicARE 1.40.0 | Pierre Gestraud | OK | OK | OK | OK |  |
BiFET 1.2.1 | Ahrim Youn | OK | OK | OK | OK |  |
BiGGR 1.18.0 | Anand K. Gavai | OK | OK | OK | OK |  |
bigmelon 1.8.0 | Tyler J. Gorrie-Stone | OK | OK | OK | OK |  |
bigmemoryExtras 1.30.0 | Peter M. Haverty | OK | OK | WARNINGS | OK |  |
bioassayR 1.20.1 | Tyler Backman | OK | OK | OK | OK |  |
Biobase 2.42.0 | Bioconductor Package Maintainer | OK | OK | OK | OK |  |
biobroom 1.14.0 | John D. Storey and Andrew J. Bass | OK | OK | OK | OK |  |
bioCancer 1.10.11 | Karim Mezhoud | OK | OK | OK | OK |  |
BiocCaseStudies 1.44.0 | Bioconductor Package Maintainer | OK | OK | OK | OK |  |
BiocCheck 1.18.0 | Bioconductor Package Maintainer | OK | OK | OK | OK |  |
BiocFileCache 1.6.0 | Lori Shepherd | OK | OK | OK | OK |  |
BiocGenerics 0.28.0 | Bioconductor Package Maintainer | OK | OK | WARNINGS | OK |  |
biocGraph 1.44.0 | Florian Hahne | OK | OK | OK | OK |  |
BiocInstaller 1.32.1 | Bioconductor Package Maintainer | OK | OK | WARNINGS | OK |  |
BiocNeighbors 1.0.0 | Aaron Lun | OK | OK | OK | OK |  |
BiocOncoTK 1.2.1 | VJ Carey | OK | OK | OK | OK |  |
BioCor 1.6.1 | LluÃs Revilla Sancho | OK | OK | OK | OK |  |
BiocParallel 1.16.6 | Bioconductor Package Maintainer | OK | OK | ERROR | OK | |
BiocPkgTools 1.0.3 | Sean Davis | OK | ERROR | skipped | skipped | |
BiocSklearn 1.4.0 | VJ Carey | OK | OK | OK | OK |  |
BiocStyle 2.10.0 | Bioconductor Package Maintainer | OK | OK | OK | OK |  |
BiocVersion 3.8.0 | Bioconductor Package Maintainer | OK | OK | WARNINGS | OK |  |
biocViews 1.50.10 | Bioconductor Package Maintainer | OK | OK | WARNINGS | OK |  |
BiocWorkflowTools 1.8.0 | Mike Smith | OK | OK | WARNINGS | OK |  |
bioDist 1.54.0 | Bioconductor Package Maintainer | OK | OK | OK | OK |  |
biomaRt 2.38.0 | Mike Smith | OK | OK | OK | OK |  |
biomformat 1.10.1 | Paul J. McMurdie | OK | OK | OK | OK |  |
BioMVCClass 1.50.0 | Elizabeth Whalen | OK | OK | OK | OK |  |
biomvRCNS 1.22.0 | Yang Du | OK | OK | OK | OK |  |
BioNet 1.42.0 | Marcus Dittrich | OK | OK | OK | OK |  |
BioNetStat 1.2.2 | Vinicius Jardim | OK | OK | OK | OK |  |
BioQC 1.10.0 | Jitao David Zhang | OK | OK | OK | OK |  |
BioSeqClass 1.40.0 | Li Hong | OK | OK | OK | OK |  |
biosigner 1.10.0 | Philippe Rinaudo , Etienne Thevenot | OK | OK | OK | OK |  |
Biostrings 2.50.2 | H. Pagès | OK | OK | WARNINGS | OK |  |
biosvd 2.18.0 | Anneleen Daemen , Matthew Brauer | OK | OK | OK | OK |  |
biotmle 1.6.0 | Nima Hejazi | OK | OK | OK | OK |  |
biovizBase 1.30.1 | Michael Lawrence | OK | OK | WARNINGS | OK |  |
BiRewire 3.14.0 | Andrea Gobbi | OK | OK | OK | OK |  |
birta 1.26.0 | Benedikt Zacher | OK | OK | OK | OK |  |
birte 1.18.0 | Holger Froehlich | OK | OK | OK | OK |  |
BiSeq 1.22.0 | Katja Hebestreit | OK | OK | OK | OK |  |
BitSeq 1.26.1 | Antti Honkela , Panagiotis Papastamoulis | OK | OK | WARNINGS | OK |  |
blima 1.16.0 | Vojtěch Kulvait | OK | OK | WARNINGS | OK |  |
BLMA 1.6.0 | Tin Nguyen | OK | OK | OK | OK |  |
bnbc 1.4.0 | Kipper Fletez-Brant | OK | OK | OK | OK |  |
BPRMeth 1.8.1 | Chantriolnt-Andreas Kapourani | OK | OK | OK | OK |  |
BRAIN 1.28.1 | Piotr Dittwald | OK | OK | WARNINGS | OK |  |
brainImageR 1.0.0 | Sara B Linker | OK | OK | OK | OK |  |
BrainStars 1.26.0 | Itoshi NIKAIDO | OK | OK | OK | OK |  |
branchpointer 1.8.0 | Beth Signal | OK | OK | OK | OK |  |
breakpointR 1.0.0 | David Porubsky | OK | OK | OK | OK |  |
bridge 1.46.0 | Raphael Gottardo | OK | OK | OK | OK |  |
BridgeDbR 1.16.1 | Egon Willighagen | OK | OK | OK | OK |  |
BrowserViz 2.4.0 | Paul Shannon | OK | OK | OK | OK |  |
BSgenome 1.50.0 | H. Pagès | OK | OK | WARNINGS | OK |  |
bsseq 1.18.0 | Kasper Daniel Hansen | OK | OK | OK | OK |  |
BubbleTree 2.12.0 | Todd Creasy , Wei Zhu | OK | OK | OK | OK |  |
BufferedMatrix 1.46.0 | Ben Bolstad | OK | OK | OK | OK |  |
BufferedMatrixMethods 1.46.0 | Ben Bolstad | OK | OK | OK | OK |  |
BUMHMM 1.6.2 | Alina Selega | OK | OK | OK | OK |  |
bumphunter 1.24.5 | Rafael A. Irizarry | OK | OK | OK | OK |  |
BUS 1.38.0 | Yuanhua Liu | OK | OK | OK | OK |  |
BUScorrect 1.0.0 | Xiangyu Luo | OK | OK | OK | OK |  |
|
| |
CAFE 1.18.0 | Sander Bollen | OK | OK | WARNINGS | OK |  |
CAGEfightR 1.2.0 | Malte Thodberg | OK | OK | OK | OK |  |
CAGEr 1.24.0 | Vanja Haberle , Charles Plessy | OK | OK | OK | OK |  |
CALIB 1.48.0 | Hui Zhao | OK | OK | WARNINGS | OK |  |
CAMERA 1.38.1 | Steffen Neumann | OK | OK | OK | OK |  |
CAMTHC 1.0.0 | Lulu Chen | OK | OK | OK | OK |  |
canceR 1.16.02 | Karim Mezhoud | OK | OK | OK | OK |  |
cancerclass 1.26.0 | Daniel Kosztyla | OK | OK | WARNINGS | OK |  |
CancerInSilico 2.2.1 | Thomas D. Sherman | OK | OK | WARNINGS | OK |  |
CancerMutationAnalysis 1.24.0 | Simina M. Boca | OK | OK | OK | OK |  |
CancerSubtypes 1.8.0 | Taosheng Xu | OK | OK | OK | OK |  |
CAnD 1.14.0 | Caitlin McHugh | OK | OK | OK | OK |  |
caOmicsV 1.12.1 | Henry Zhang | OK | OK | OK | OK |  |
Cardinal 2.0.4 | Kylie A. Bemis | OK | OK | WARNINGS | OK |  |
casper 2.16.1 | David Rossell | OK | OK | WARNINGS | OK |  |
CATALYST 1.6.7 | Helena L. Crowell | OK | OK | OK | OK |  |
Category 2.48.1 | Bioconductor Package Maintainer | OK | OK | OK | OK |  |
categoryCompare 1.26.0 | Robert M. Flight | OK | OK | OK | OK |  |
CausalR 1.14.1 | Glyn Bradley , Steven Barrett | OK | OK | OK | OK |  |
cbaf 1.4.1 | Arman Shahrisa | OK | OK | OK | OK |  |
ccfindR 1.2.1 | Jun Woo | OK | OK | OK | OK |  |
ccmap 1.8.0 | Alex Pickering | OK | OK | OK | OK |  |
CCPROMISE 1.8.0 | Xueyuan Cao | OK | OK | WARNINGS | OK |  |
ccrepe 1.18.1 | Emma Schwager ,Craig Bielski, George Weingart | OK | OK | OK | OK |  |
celaref 1.0.1 | Sarah Williams | OK | OK | OK | OK |  |
cellbaseR 1.6.1 | Mohammed OE Abdallah | OK | OK | OK | OK |  |
cellGrowth 1.26.1 | Julien Gagneur | OK | OK | OK | OK |  |
cellHTS2 2.46.1 | Joseph Barry | OK | OK | WARNINGS | OK |  |
cellity 1.10.1 | Tomislav Ilicic | OK | OK | OK | OK |  |
CellMapper 1.8.0 | Brad Nelms | OK | OK | WARNINGS | OK |  |
CellNOptR 1.28.1 | A.Gabor | OK | OK | WARNINGS | OK |  |
cellscape 1.6.0 | Maia Smith | OK | OK | WARNINGS | OK |  |
CellScore 1.2.0 | Nancy Mah | OK | OK | OK | OK |  |
CellTrails 1.0.1 | Daniel Ellwanger | OK | OK | OK | OK |  |
cellTree 1.12.1 | David duVerle | OK | OK | OK | OK |  |
CEMiTool 1.6.11 | Helder Nakaya | OK | OK | OK | OK |  |
CexoR 1.20.0 | Pedro Madrigal | OK | OK | OK | OK |  |
CFAssay 1.16.1 | Herbert Braselmann | OK | OK | OK | OK |  |
CGEN 3.18.0 | William Wheeler | OK | OK | OK | OK |  |
CGHbase 1.42.0 | Mark van de Wiel | OK | OK | OK | OK |  |
CGHcall 2.44.0 | Mark van de Wiel | OK | OK | OK | OK |  |
cghMCR 1.40.0 | J. Zhang | OK | OK | WARNINGS | OK |  |
CGHnormaliter 1.36.0 | Bart P.P. van Houte | OK | OK | OK | OK |  |
CGHregions 1.40.0 | Sjoerd Vosse | OK | OK | OK | OK |  |
ChAMP 2.12.4 | Yuan Tian | OK | OK | WARNINGS | OK |  |
CHARGE 1.2.0 | Benjamin Mayne | OK | OK | OK | OK |  |
charm 2.28.0 | Peter Murakami | OK | OK | WARNINGS | OK |  |
ChemmineOB 1.20.0 | Thomas Girke | OK | OK | WARNINGS | OK |  |
ChemmineR 3.34.1 | Thomas Girke | OK | OK | WARNINGS | OK |  |
ChIC 1.2.0 | Carmen Maria Livi | OK | OK | OK | OK |  |
Chicago 1.10.1 | Mikhail Spivakov | OK | OK | OK | OK |  |
chimera 1.24.0 | Raffaele A Calogero | OK | OK | OK | OK |  |
chimeraviz 1.8.5 | Stian LÃ¥gstad | OK | OK | OK | OK |  |
ChIPanalyser 1.4.0 | Patrick C.N. Martin | OK | OK | OK | OK |  |
ChIPComp 1.12.0 | Li Chen | OK | OK | OK | OK |  |
chipenrich 2.6.1 | Raymond G. Cavalcante | OK | OK | OK | OK |  |
ChIPexoQual 1.6.0 | Rene Welch | OK | OK | OK | OK |  |
ChIPpeakAnno 3.16.1 | Lihua Julie Zhu | OK | OK | OK | OK |  |
ChIPQC 1.18.2 | Tom Carroll , Rory Stark | OK | OK | OK | OK |  |
ChIPseeker 1.18.0 | Guangchuang Yu | OK | OK | OK | OK |  |
chipseq 1.32.0 | Bioconductor Package Maintainer | OK | OK | WARNINGS | OK |  |
ChIPseqR 1.36.0 | Peter Humburg | OK | OK | WARNINGS | OK |  |
ChIPSeqSpike 1.2.1 | Nicolas Descostes | OK | OK | OK | OK |  |
ChIPsim 1.36.0 | Peter Humburg | OK | OK | OK | OK |  |
ChIPXpress 1.26.0 | George Wu | OK | OK | OK | OK |  |
chopsticks 1.48.0 | Hin-Tak Leung | OK | OK | WARNINGS | OK |  |
chroGPS 2.0.1 | Oscar Reina | OK | OK | OK | OK |  |
chromDraw 2.12.0 | Jan Janecka | OK | OK | WARNINGS | OK |  |
ChromHeatMap 1.36.0 | Tim F. Rayner | OK | OK | OK | OK |  |
chromPlot 1.10.0 | Karen Y. Orostica | OK | OK | OK | OK |  |
chromstaR 1.8.1 | Aaron Taudt | OK | OK | OK | OK |  |
chromswitch 1.4.1 | Selin Jessa | OK | OK | OK | OK |  |
chromVAR 1.4.1 | Alicia Schep | OK | OK | OK | OK |  |
CHRONOS 1.10.1 | Panos Balomenos | OK | OK | OK | OK |  |
cicero 1.0.15 | Hannah Pliner | OK | OK | OK | OK |  |
CINdex 1.10.0 | Yuriy Gusev | OK | OK | OK | OK |  |
cisPath 1.22.0 | Likun Wang | OK | OK | OK | OK |  |
ClassifyR 2.2.6 | Dario Strbenac | OK | OK | OK | OK |  |
cleanUpdTSeq 1.20.1 | Jianhong Ou ; Lihua Julie Zhu | OK | OK | OK | OK |  |
cleaver 1.20.0 | Sebastian Gibb | OK | OK | OK | OK |  |
clippda 1.32.0 | Stephen Nyangoma | OK | OK | WARNINGS | OK |  |
clipper 1.22.0 | Paolo Martini | OK | OK | OK | OK |  |
Clomial 1.18.1 | Habil Zare | OK | OK | OK | OK |  |
Clonality 1.30.0 | Irina Ostrovnaya | OK | OK | OK | OK |  |
clonotypeR 1.20.0 | Charles Plessy | OK | OK | OK | OK |  |
clst 1.30.0 | Noah Hoffman | OK | OK | WARNINGS | OK |  |
clstutils 1.30.0 | Noah Hoffman | OK | OK | WARNINGS | OK |  |
clustComp 1.10.0 | Aurora Torrente | OK | OK | OK | OK |  |
clusterExperiment 2.2.0 | Elizabeth Purdom | ERROR | ERROR | skipped | skipped | |
ClusterJudge 1.4.0 | Adrian Pasculescu | OK | OK | OK | OK |  |
clusterProfiler 3.10.1 | Guangchuang Yu | OK | OK | WARNINGS | OK |  |
clusterSeq 1.6.0 | Thomas J. Hardcastle | OK | OK | OK | OK |  |
ClusterSignificance 1.10.0 | Jason T Serviss | OK | OK | OK | OK |  |
clusterStab 1.54.0 | James W. MacDonald | OK | OK | OK | OK |  |
CMA 1.40.0 | Christoph Bernau | OK | OK | OK | OK |  |
cn.farms 1.30.0 | Andreas Mitterecker | OK | OK | OK | OK |  |
cn.mops 1.28.0 | Guenter Klambauer | OK | OK | OK | OK |  |
CNAnorm 1.28.0 | Stefano Berri | OK | OK | OK | OK |  |
CNEr 1.18.1 | Ge Tan | OK | OK | OK | OK |  |
CNORdt 1.24.1 | A. MacNamara | OK | OK | OK | OK |  |
CNORfeeder 1.22.1 | F.Eduati | OK | OK | OK | OK |  |
CNORfuzzy 1.24.0 | T. Cokelaer | OK | OK | OK | OK |  |
CNORode 1.24.1 | David Henriques | OK | OK | OK | OK |  |
CNPBayes 1.12.0 | Jacob Carey | OK | OK | OK | OK |  |
CNTools 1.38.0 | J. Zhang | OK | OK | OK | OK |  |
cnvGSA 1.26.0 | Joseph Lugo | OK | OK | OK | OK |  |
CNVPanelizer 1.14.0 | Thomas Wolf | OK | OK | OK | OK |  |
CNVrd2 1.20.0 | Hoang Tan Nguyen | OK | OK | OK | OK |  |
CNVtools 1.76.0 | Chris Barnes | OK | OK | OK | OK |  |
cobindR 1.20.0 | Manuela Benary | OK | OK | WARNINGS | OK |  |
CoCiteStats 1.54.0 | Bioconductor Package Maintainer | OK | OK | OK | OK |  |
COCOA 1.0.2 | John Lawson | OK | OK | OK | OK |  |
codelink 1.50.0 | Diego Diez | OK | OK | OK | OK |  |
CODEX 1.14.1 | Yuchao Jiang | OK | OK | OK | OK |  |
coexnet 1.4.0 | Juan David Henao | OK | OK | OK | OK |  |
CoGAPS 3.2.40 | Elana J. Fertig | OK | OK | OK | OK |  |
cogena 1.16.0 | Zhilong Jia | OK | OK | WARNINGS | OK |  |
coGPS 1.26.0 | Yingying Wei | OK | OK | OK | OK |  |
COHCAP 1.28.1 | Charles Warden | OK | OK | OK | OK |  |
coMET 1.14.0 | Tiphaine Martin | OK | OK | OK | OK |  |
compartmap 1.0.3 | Benjamin Johnson | OK | OK | WARNINGS | OK |  |
COMPASS 1.20.1 | Greg Finak | OK | OK | OK | OK |  |
compcodeR 1.18.1 | Charlotte Soneson | OK | OK | OK | OK |  |
compEpiTools 1.16.0 | Kamal Kishore | OK | OK | OK | OK |  |
CompGO 1.18.0 | Ashley J. Waardenberg | OK | OK | OK | OK |  |
ComplexHeatmap 1.20.0 | Zuguang Gu | OK | OK | OK | OK |  |
condcomp 1.0.1 | Diogo P. P. Branco | OK | ERROR | skipped | skipped | |
CONFESS 1.10.1 | Diana LOW | OK | OK | WARNINGS | OK |  |
consensus 1.0.3 | Tim Peters | OK | OK | OK | OK |  |
ConsensusClusterPlus 1.46.0 | Matt Wilkerson | OK | OK | OK | OK |  |
consensusDE 1.0.6 | Ashley J. Waardenberg | OK | OK | OK | OK |  |
consensusOV 1.4.1 | Benjamin Haibe-Kains | OK | OK | OK | OK |  |
consensusSeekeR 1.10.0 | Astrid Deschenes | OK | OK | OK | OK |  |
contiBAIT 1.10.1 | Kieran O'Neill | OK | OK | OK | OK |  |
conumee 1.16.0 | Volker Hovestadt | OK | OK | OK | OK |  |
convert 1.58.0 | Yee Hwa (Jean) Yang | OK | OK | OK | OK |  |
copa 1.50.0 | James W. MacDonald | OK | OK | OK | OK |  |
copynumber 1.22.0 | Gro Nilsen | OK | OK | OK | OK |  |
CopywriteR 2.14.1 | Oscar Krijgsman | OK | OK | OK | OK |  |
coRdon 1.0.3 | Anamaria Elek | OK | OK | OK | OK |  |
CoRegNet 1.20.0 | Remy Nicolle | OK | OK | WARNINGS | OK |  |
Cormotif 1.28.0 | Yingying Wei | OK | OK | OK | OK |  |
CorMut 1.24.0 | Zhenpeng Li | OK | OK | OK | OK |  |
CORREP 1.48.0 | Dongxiao Zhu | OK | OK | OK | OK |  |
coseq 1.6.1 | Andrea Rau | OK | OK | OK | OK |  |
cosmiq 1.16.1 | David Fischer , Christian Panse | OK | OK | OK | OK |  |
COSNet 1.16.0 | Marco Frasca | OK | OK | OK | OK |  |
CountClust 1.10.1 | Kushal Dey | OK | OK | OK | OK |  |
countsimQC 1.0.1 | Charlotte Soneson | OK | OK | OK | OK |  |
covEB 1.8.1 | C. Pacini | ERROR | ERROR | skipped | skipped | |
CoverageView 1.20.1 | Ernesto Lowy | OK | OK | OK | OK |  |
covRNA 1.8.0 | Lara Urban | OK | OK | OK | OK |  |
cpvSNP 1.14.0 | Caitlin McHugh | OK | OK | OK | OK |  |
cqn 1.28.1 | Kasper Daniel Hansen | OK | OK | OK | OK |  |
CRImage 1.30.0 | Henrik Failmezger , Yinyin Yuan | OK | OK | OK | OK |  |
CRISPRseek 1.22.1 | Lihua Julie Zhu | OK | OK | OK | OK |  |
crisprseekplus 1.8.0 | Alper Kucukural | OK | OK | OK | OK |  |
CrispRVariants 1.10.1 | Helen Lindsay | OK | OK | WARNINGS | OK |  |
crlmm 1.40.0 | Benilton S Carvalho | OK | OK | OK | OK |  |
crossmeta 1.8.0 | Alex Pickering | OK | OK | WARNINGS | OK |  |
CSAR 1.34.0 | Jose M Muino | OK | OK | OK | OK |  |
csaw 1.16.1 | Aaron Lun | OK | OK | OK | OK |  |
CSSP 1.20.0 | Chandler Zuo | OK | OK | OK | OK |  |
ctc 1.56.0 | Antoine Lucas | OK | OK | OK | OK |  |
CTDquerier 1.2.0 | Carles Hernandez-Ferrer | OK | OK | OK | OK |  |
cTRAP 1.0.3 | Nuno Saraiva-Agostinho | OK | OK | OK | OK |  |
ctsGE 1.8.1 | Michal Sharabi-Schwager | OK | OK | OK | OK |  |
cummeRbund 2.24.0 | Loyal A. Goff | OK | OK | OK | OK |  |
customProDB 1.22.1 | Xiaojing Wang | OK | OK | OK | OK |  |
CVE 1.8.0 | Andreas Mock | OK | OK | WARNINGS | OK |  |
cycle 1.36.0 | Matthias Futschik | OK | OK | OK | OK |  |
cydar 1.6.1 | Aaron Lun | OK | OK | ERROR | OK | |
CytoDx 1.2.1 | Zicheng Hu | OK | OK | OK | OK |  |
cytofkit 1.14.0 | Jinmiao Chen , Matthew Myint | OK | ERROR | skipped | skipped | |
cytolib 1.4.1 | Mike Jiang | OK | OK | OK | OK |  |
CytoML 1.8.1 | Mike Jiang | OK | OK | OK | OK |  |
|
| |
dada2 1.10.1 | Benjamin Callahan | OK | OK | ERROR | OK | |
dagLogo 1.20.0 | Jianhong Ou | OK | OK | OK | OK |  |
daMA 1.54.0 | Jobst Landgrebe | OK | OK | OK | OK |  |
DaMiRseq 1.6.2 | Mattia Chiesa | OK | OK | OK | OK |  |
DAPAR 1.14.5 | Samuel Wieczorek | OK | OK | OK | OK |  |
DART 1.30.0 | Charles Shijie Zheng | OK | OK | OK | OK |  |
DBChIP 1.26.0 | Kun Liang | OK | OK | OK | OK |  |
dcGSA 1.10.1 | Jiehuan sun | OK | OK | WARNINGS | OK |  |
DChIPRep 1.12.0 | Bernd Klaus | OK | OK | OK | OK |  |
ddCt 1.38.0 | Jitao David Zhang | OK | OK | OK | OK |  |
ddPCRclust 1.2.0 | Benedikt G. Brink | OK | OK | OK | OK |  |
debrowser 1.10.9 | Alper Kucukural | OK | OK | OK | OK |  |
DECIPHER 2.10.2 | Erik Wright | OK | OK | OK | OK |  |
DEComplexDisease 1.2.0 | Guofeng Meng | OK | OK | OK | OK |  |
DeconRNASeq 1.24.0 | Ting Gong | OK | OK | OK | OK |  |
decontam 1.2.1 | Benjamin Callahan | OK | OK | OK | OK |  |
DEDS 1.56.0 | Yuanyuan Xiao | OK | OK | OK | OK |  |
DeepBlueR 1.8.1 | Felipe Albrecht , Markus List | OK | OK | OK | OK |  |
deepSNV 1.28.0 | Moritz Gerstung | OK | OK | OK | OK |  |
DEFormats 1.10.1 | Andrzej OleÅ› | OK | OK | OK | OK |  |
DEGraph | | ...NOT SUPPORTED... |
DEGreport 1.18.1 | Lorena Pantano | OK | OK | OK | OK |  |
DEGseq 1.36.1 | Likun Wang | OK | OK | OK | OK |  |
DelayedArray 0.8.0 | Hervé Pagès | OK | OK | WARNINGS | OK |  |
DelayedMatrixStats 1.4.0 | Peter Hickey | OK | OK | OK | OK |  |
deltaGseg 1.22.0 | Diana Low | OK | OK | OK | OK |  |
DeMAND 1.12.0 | Jung Hoon Woo , Mariano Alvarez | OK | OK | OK | OK |  |
DEP 1.4.1 | Arne Smits | OK | OK | OK | OK |  |
DEqMS 1.0.1 | Yafeng Zhu | OK | OK | OK | OK |  |
derfinder 1.16.1 | Leonardo Collado-Torres | OK | OK | OK | OK |  |
derfinderHelper 1.16.1 | Leonardo Collado-Torres | OK | OK | OK | OK |  |
derfinderPlot 1.16.1 | Leonardo Collado-Torres | OK | OK | OK | OK |  |
DEScan2 1.2.1 | Dario Righelli | OK | OK | OK | OK |  |
DESeq 1.34.1 | Simon Anders | OK | OK | OK | OK |  |
DESeq2 1.22.2 | Michael Love | OK | OK | OK | OK |  |
DEsingle 1.2.1 | Zhun Miao | OK | OK | OK | OK |  |
destiny 2.12.0 | Philipp Angerer | OK | OK | OK | OK |  |
DEsubs 1.8.1 | Aristidis G. Vrahatis , Panos Balomenos | OK | OK | OK | OK |  |
DEXSeq 1.28.3 | Alejandro Reyes | OK | OK | OK | OK |  |
dexus 1.22.1 | Guenter Klambauer | OK | OK | OK | OK |  |
DFP 1.40.0 | Rodrigo Alvarez-Glez | OK | OK | OK | OK |  |
DiffBind 2.10.0 | Rory Stark | OK | OK | OK | OK |  |
diffcoexp 1.2.0 | Wenbin Wei | OK | OK | OK | OK |  |
diffcyt 1.2.23 | Lukas M. Weber | OK | OK | OK | OK |  |
diffGeneAnalysis 1.64.0 | Choudary Jagarlamudi | OK | OK | OK | OK |  |
diffHic 1.14.0 | Aaron Lun | OK | OK | OK | OK |  |
DiffLogo 2.6.0 | Hendrik Treutler | OK | OK | OK | OK |  |
diffloop 1.10.0 | Caleb Lareau | OK | OK | OK | OK |  |
diffuStats 1.2.0 | Sergio Picart-Armada | OK | OK | OK | OK |  |
diggit 1.14.0 | Mariano J Alvarez | OK | OK | WARNINGS | OK |  |
Director 1.8.0 | Katherine Icay | OK | OK | OK | OK |  |
DirichletMultinomial 1.24.1 | Martin Morgan | OK | OK | OK | OK |  |
discordant 1.6.1 | Charlotte Siska | OK | OK | OK | OK |  |
dks 1.28.0 | Jeffrey T. Leek | OK | OK | OK | OK |  |
DMCHMM 1.4.0 | Farhad Shokoohi | OK | OK | WARNINGS | OK |  |
DMRcaller 1.14.2 | Nicolae Radu Zabet | OK | OK | OK | OK |  |
DMRcate 1.18.0 | Tim Peters | OK | OK | OK | OK |  |
DMRforPairs 1.18.0 | Martin Rijlaarsdam | OK | OK | OK | OK |  |
DMRScan 1.8.0 | Christian M Page | OK | OK | OK | OK |  |
dmrseq 1.2.5 | Keegan Korthauer | OK | OK | OK | OK |  |
DNABarcodes 1.12.0 | Tilo Buschmann | OK | OK | OK | OK |  |
DNAcopy 1.56.0 | Venkatraman E. Seshan | OK | OK | OK | OK |  |
DNAshapeR 1.10.0 | Tsu-Pei Chiu | OK | OK | OK | OK |  |
DominoEffect 1.2.1 | Marija Buljan | OK | OK | OK | OK |  |
doppelgangR 1.10.1 | Levi Waldron | OK | OK | OK | OK |  |
DOQTL 1.18.0 | Daniel Gatti | OK | OK | ERROR | OK | |
Doscheda 1.4.1 | Bruno Contrino | OK | OK | OK | OK |  |
DOSE 3.8.2 | Guangchuang Yu | OK | OK | OK | OK |  |
drawProteins 1.2.0 | Paul Brennan | OK | OK | OK | OK |  |
DRIMSeq 1.10.1 | Malgorzata Nowicka | OK | OK | OK | OK |  |
DriverNet 1.22.0 | Jiarui Ding | OK | OK | OK | OK |  |
DropletUtils 1.2.2 | Aaron Lun | OK | OK | WARNINGS | OK |  |
DrugVsDisease 2.24.2 | j. Saez-Rodriguez | OK | OK | OK | OK |  |
dSimer 1.8.0 | Peng Ni | OK | OK | OK | OK |  |
DSS 2.30.1 | Hao Wu | OK | OK | OK | OK |  |
DTA 2.28.0 | Bjoern Schwalb | OK | OK | OK | OK |  |
dualKS 1.42.0 | Eric J. Kort | OK | OK | OK | OK |  |
DupChecker 1.20.0 | "Quanhu SHENG" | OK | OK | OK | OK |  |
dupRadar 1.12.1 | Sergi Sayols , Holger Klein | OK | OK | OK | OK |  |
dyebias 1.42.0 | Philip Lijnzaad | OK | OK | OK | OK |  |
DynDoc 1.60.0 | Bioconductor Package Maintainer | OK | OK | OK | OK |  |
|
| |
EasyqpcR 1.24.0 | Le Pape Sylvain | OK | OK | OK | OK |  |
easyRNASeq 2.18.4 | Nicolas Delhomme | OK | OK | OK | OK |  |
EBarrays 2.46.0 | Ming Yuan | OK | OK | OK | OK |  |
EBcoexpress 1.26.0 | John A. Dawson | OK | OK | OK | OK |  |
EBImage 4.24.0 | Andrzej OleÅ› | OK | OK | OK | OK |  |
EBSEA 1.10.0 | Arfa Mehmood | OK | OK | OK | OK |  |
EBSeq 1.22.1 | Ning Leng | OK | OK | OK | OK |  |
EBSeqHMM 1.16.1 | Ning Leng | OK | OK | OK | OK |  |
ecolitk 1.54.0 | Laurent Gautier | OK | OK | WARNINGS | OK |  |
EDASeq 2.16.3 | Davide Risso | OK | OK | OK | OK |  |
EDDA 1.20.1 | Chia Kuan Hui Burton , Niranjan Nagarajan | OK | OK | WARNINGS | OK |  |
edge 2.14.0 | John D. Storey , Andrew J. Bass | OK | OK | OK | OK |  |
edgeR 3.24.3 | Yunshun Chen , Aaron Lun , Mark Robinson , Davis McCarthy , Gordon Smyth | OK | OK | OK | OK |  |
eegc 1.8.1 | Xiaoyuan Zhou | OK | OK | WARNINGS | OK |  |
EGAD 1.10.0 | Sara Ballouz | OK | OK | OK | OK |  |
EGSEA 1.10.1 | Monther Alhamdoosh | OK | OK | OK | OK |  |
eiR 1.22.0 | Thomas Girke | OK | OK | OK | OK |  |
eisa 1.34.0 | Gabor Csardi | OK | OK | OK | OK |  |
ELBOW 1.18.1 | Graham Alvare , Xiangli Zhang | OK | OK | OK | OK |  |
ELMER 2.6.3 | Tiago Chedraoui Silva | OK | OK | WARNINGS | OK |  |
EMDomics 2.12.0 | Sadhika Malladi and Daniel Schmolze | OK | OK | OK | OK |  |
EmpiricalBrownsMethod 1.10.0 | David Gibbs | OK | OK | OK | OK |  |
ENCODExplorer 2.8.0 | Charles Joly Beauparlant | OK | OK | OK | OK |  |
EnhancedVolcano 1.0.1 | Kevin Blighe | OK | OK | OK | OK |  |
ENmix 1.18.2 | Zongli Xu | OK | OK | OK | OK |  |
EnrichedHeatmap 1.12.0 | Zuguang Gu | OK | OK | OK | OK |  |
EnrichmentBrowser 2.12.1 | Ludwig Geistlinger | OK | OK | OK | OK |  |
enrichplot 1.2.0 | Guangchuang Yu | OK | OK | OK | OK |  |
ensembldb 2.6.8 | Johannes Rainer | OK | OK | OK | OK |  |
ensemblVEP 1.24.2 | Bioconductor Package Maintainer | OK | OK | OK | OK |  |
ENVISIONQuery 1.30.0 | Alex Lisovich , Roger Day | OK | OK | OK | OK |  |
EpiDISH 1.4.1 | Shijie Charles Zheng | OK | OK | OK | OK |  |
epigenomix 1.22.0 | Hans-Ulrich Klein | OK | OK | OK | OK |  |
epiNEM 1.6.0 | Martin Pirkl | OK | OK | OK | OK |  |
epivizr 2.12.0 | Hector Corrada Bravo | OK | OK | OK | OK |  |
epivizrChart 1.4.0 | Hector Corrada Bravo | OK | OK | OK | OK |  |
epivizrData 1.10.0 | Hector Corrada Bravo | OK | OK | OK | OK |  |
epivizrServer 1.10.0 | Hector Corrada Bravo | OK | OK | OK | OK |  |
epivizrStandalone 1.10.0 | Hector Corrada Bravo | OK | OK | OK | OK |  |
erccdashboard 1.16.1 | Sarah Munro | OK | OK | OK | OK |  |
erma 0.14.0 | VJ Carey | OK | OK | OK | OK |  |
ERSSA 1.0.1 | Zixuan Shao | OK | OK | OK | OK |  |
esATAC 1.4.5 | Zheng Wei | OK | OK | OK | OK |  |
esetVis 1.8.0 | Laure Cougnaud | OK | OK | OK | OK |  |
eudysbiome 1.12.0 | Xiaoyuan Zhou | OK | OK | OK | OK |  |
EventPointer 2.0.1 | Juan Pablo Romero | OK | OK | OK | OK |  |
ExCluster 1.0.1 | R. Matthew Tanner | OK | OK | OK | OK |  |
ExiMiR 2.24.0 | Sylvain Gubian | OK | OK | OK | OK |  |
exomeCopy 1.28.0 | Michael Love | OK | OK | OK | OK |  |
exomePeak 2.16.0 | Lin Zhang , Lian Liu , Jia Meng | OK | OK | OK | OK |  |
ExperimentHub 1.8.0 | Bioconductor Package Maintainer | OK | OK | OK | OK |  |
ExperimentHubData 1.8.0 | Bioconductor Package Maintainer | OK | OK | OK | OK |  |
explorase | | ...NOT SUPPORTED... |
ExpressionAtlas 1.10.0 | Suhaib Mohammed | OK | OK | OK | OK |  |
ExpressionView 1.34.0 | Gabor Csardi | OK | OK | OK | OK |  |
|
| |
fabia 2.28.0 | Sepp Hochreiter | OK | OK | OK | OK |  |
facopy 1.16.0 | David Mosen-Ansorena | ERROR | ERROR | skipped | skipped | |
factDesign 1.58.0 | Denise Scholtens | OK | OK | OK | OK |  |
FamAgg 1.10.4 | Johannes Rainer | OK | OK | OK | OK |  |
farms 1.34.0 | Djork-Arne Clevert | OK | OK | OK | OK |  |
fastLiquidAssociation 1.18.0 | Tina Gunderson | OK | OK | WARNINGS | OK |  |
FastqCleaner 1.0.0 | Leandro Roser | OK | OK | OK | OK |  |
fastseg 1.28.0 | Guenter Klambauer | OK | OK | OK | OK |  |
FCBF 1.0.1 | Tiago Lubiana | OK | OK | OK | OK |  |
fCCAC 1.8.0 | Pedro Madrigal | OK | OK | OK | OK |  |
fCI 1.12.0 | Shaojun Tang | OK | OK | WARNINGS | OK |  |
fdrame 1.54.0 | Effi Kenigsberg | OK | OK | OK | OK |  |
FELLA 1.2.0 | Sergio Picart-Armada | OK | OK | OK | OK |  |
FEM 3.10.0 | Zhen Yang | OK | OK | WARNINGS | OK |  |
ffpe 1.26.0 | Levi Waldron | OK | OK | OK | OK |  |
FGNet 3.16.0 | Sara Aibar | OK | OK | OK | OK |  |
fgsea 1.8.0 | Alexey Sergushichev | OK | OK | OK | OK |  |
FindMyFriends 1.12.0 | Thomas Lin Pedersen | OK | OK | WARNINGS | OK |  |
FISHalyseR 1.16.0 | Karesh Arunakirinathan | OK | OK | WARNINGS | OK |  |
FitHiC 1.8.0 | Ruyu Tan | OK | OK | OK | OK |  |
flagme 1.38.1 | Mark Robinson , Riccardo Romoli | OK | OK | WARNINGS | OK |  |
flipflop 1.20.0 | Elsa Bernard | OK | OK | WARNINGS | OK |  |
flowAI 1.12.7 | Gianni Monaco | OK | OK | OK | OK |  |
flowBeads 1.20.1 | Nikolas Pontikos | OK | OK | OK | OK |  |
flowBin 1.18.1 | Kieran O'Neill | OK | OK | OK | OK |  |
flowcatchR 1.16.0 | Federico Marini | OK | OK | OK | OK |  |
flowCHIC 1.16.1 | Author: Joachim Schumann | OK | OK | OK | OK |  |
flowCL 1.20.1 | Justin Meskas | OK | OK | OK | OK |  |
flowClean 1.20.0 | Kipper Fletez-Brant | OK | OK | WARNINGS | OK |  |
flowClust 3.20.1 | Greg Finak , Mike Jiang | OK | OK | WARNINGS | OK |  |
flowCore 1.48.1 | Mike Jiang | OK | OK | OK | OK |  |
flowCyBar 1.18.1 | Joachim Schumann | OK | OK | OK | OK |  |
flowDensity 1.16.1 | Mehrnoush Malek | OK | OK | WARNINGS | OK |  |
flowFit 1.20.1 | Davide Rambaldi | OK | OK | OK | OK |  |
flowFP 1.40.1 | Herb Holyst | OK | OK | OK | OK |  |
flowMap 1.20.1 | Chiaowen Joyce Hsiao | OK | OK | WARNINGS | OK |  |
flowMatch 1.18.1 | Ariful Azad | OK | OK | OK | OK |  |
flowMeans 1.42.1 | Nima Aghaeepour | OK | OK | WARNINGS | OK |  |
flowMerge 2.30.1 | Greg Finak | OK | OK | WARNINGS | OK |  |
flowPeaks 1.28.1 | Yongchao Ge | OK | OK | OK | OK |  |
flowPloidy 1.8.0 | Tyler Smith | OK | OK | OK | OK |  |
flowPlots 1.30.1 | N. Hawkins | OK | OK | OK | OK |  |
flowQ | | ...NOT SUPPORTED... |
flowQB 2.10.1 | Josef Spidlen | OK | OK | OK | OK |  |
FlowRepositoryR 1.14.1 | Josef Spidlen | OK | OK | OK | OK |  |
FlowSOM 1.14.1 | Sofie Van Gassen | OK | OK | WARNINGS | OK |  |
flowStats 3.40.1 | Greg Finak and Mike Jiang | OK | OK | OK | OK |  |
flowTime 1.6.1 | R. Clay Wright | OK | OK | OK | OK |  |
flowTrans 1.34.1 | Greg Finak | OK | OK | OK | OK |  |
flowType 2.20.1 | Nima Aghaeepour | OK | OK | WARNINGS | OK |  |
flowUtils 1.46.1 | Josef Spidlen | OK | OK | OK | OK |  |
flowViz 1.46.1 | Mike Jiang | OK | OK | OK | OK |  |
flowVS 1.14.1 | Ariful Azad | OK | OK | OK | OK |  |
flowWorkspace 3.30.2 | Greg Finak ,Mike Jiang | OK | OK | WARNINGS | OK |  |
fmcsR 1.24.0 | Thomas Girke | OK | OK | OK | OK |  |
focalCall 1.16.0 | Oscar Krijgsman | OK | OK | OK | OK |  |
FoldGO 1.0.2 | Daniil Wiebe | OK | OK | OK | OK |  |
FourCSeq 1.16.0 | Felix A. Klein | OK | OK | WARNINGS | OK |  |
FRGEpistasis 1.18.0 | Futao Zhang | OK | OK | OK | OK |  |
frma 1.34.0 | Matthew N. McCall | OK | OK | OK | OK |  |
frmaTools 1.34.0 | Matthew N. McCall | OK | OK | OK | OK |  |
FunChIP 1.8.0 | Alice Parodi | OK | OK | WARNINGS | OK |  |
FunciSNP 1.26.0 | Simon G. Coetzee | OK | OK | OK | OK |  |
funtooNorm 1.6.0 | Kathleen Klein | OK | OK | OK | OK |  |
|
| |
GA4GHclient 1.6.0 | Welliton Souza | OK | OK | OK | OK |  |
GA4GHshiny 1.4.0 | Welliton Souza | OK | OK | OK | OK |  |
gaga 2.28.1 | David Rossell | OK | OK | WARNINGS | OK |  |
gage 2.32.1 | Weijun Luo | OK | OK | WARNINGS | OK |  |
gaggle 1.50.0 | Christopher Bare | OK | OK | OK | OK |  |
gaia 2.26.0 | S. Morganella | OK | OK | OK | OK |  |
GAprediction 1.8.1 | Jon Bohlin | OK | OK | OK | OK |  |
garfield 1.10.0 | Valentina Iotchkova | OK | OK | OK | OK |  |
GARS 1.2.0 | Mattia Chiesa | OK | OK | OK | OK |  |
GateFinder 1.2.1 | Nima Aghaeepour | OK | OK | OK | OK |  |
gaucho 1.18.0 | Alex Murison | OK | OK | ERROR | OK | |
gcapc 1.6.0 | Mingxiang Teng | OK | OK | OK | OK |  |
gcatest 1.12.0 | Wei Hao , John D. Storey | OK | OK | OK | OK |  |
gCMAP 1.26.0 | Thomas Sandmann | OK | OK | OK | OK |  |
gCMAPWeb 1.22.0 | Thomas Sandmann | OK | OK | OK | OK |  |
gCrisprTools 1.10.1 | Peter Haverty | OK | OK | OK | OK |  |
gcrma 2.54.0 | Z. Wu | OK | OK | OK | OK |  |
GDCRNATools 1.2.1 | Ruidong Li | OK | OK | OK | OK |  |
GDSArray 1.2.0 | Qian Liu | OK | OK | OK | OK |  |
gdsfmt 1.18.1 | Xiuwen Zheng | OK | OK | OK | OK |  |
geecc 1.16.1 | Markus Boenn | OK | OK | OK | OK |  |
GEM 1.8.0 | Hong Pan | OK | OK | OK | OK |  |
genArise 1.58.0 | IFC Development Team | OK | OK | WARNINGS | OK |  |
genbankr 1.10.0 | Gabriel Becker | OK | OK | OK | OK |  |
GeneAccord 1.0.0 | Ariane L. Moore | OK | OK | OK | OK |  |
GeneAnswers 2.24.0 | Lei Huang and Gang Feng | OK | OK | WARNINGS | OK |  |
geneAttribution 1.8.0 | Arthur Wuster | OK | OK | OK | OK |  |
GeneBreak 1.12.0 | Evert van den Broek | OK | OK | OK | OK |  |
geneClassifiers 1.6.0 | R Kuiper | OK | OK | OK | OK |  |
GeneExpressionSignature 1.28.0 | Yang Cao , Fei Li | OK | OK | OK | OK |  |
genefilter 1.64.0 | Bioconductor Package Maintainer | OK | OK | OK | OK |  |
genefu 2.14.0 | Benjamin Haibe-Kains , Markus Schroeder | OK | OK | WARNINGS | OK |  |
GeneGA 1.32.0 | Zhenpeng Li | OK | OK | OK | OK |  |
GeneGeneInteR 1.8.0 | Mathieu Emily , Magalie Houee-Bigot | OK | OK | OK | OK |  |
GeneMeta 1.54.0 | Bioconductor Package Maintainer | OK | OK | OK | OK |  |
GeneNetworkBuilder 1.24.1 | Jianhong Ou | OK | OK | OK | OK |  |
GeneOverlap 1.18.0 | Li Shen, Mount Sinai | OK | OK | OK | OK |  |
geneplast 1.8.0 | Mauro Castro | OK | OK | OK | OK |  |
geneplotter 1.60.0 | Bioconductor Package Maintainer | OK | OK | OK | OK |  |
geneRecommender 1.54.0 | Greg Hather | OK | OK | OK | OK |  |
GeneRegionScan 1.38.0 | Lasse Folkersen | OK | OK | OK | OK |  |
geneRxCluster 1.18.0 | Charles Berry | OK | OK | OK | OK |  |
GeneSelectMMD 2.26.0 | Weiliang Qiu | OK | OK | WARNINGS | OK |  |
GeneSelector 2.32.0 | Martin Slawski | OK | OK | WARNINGS | OK |  |
GENESIS 2.12.4 | Stephanie M. Gogarten | OK | OK | OK | OK |  |
GeneStructureTools 1.2.1 | Beth Signal | OK | OK | OK | OK |  |
geNetClassifier 1.22.0 | Sara Aibar | OK | OK | OK | OK |  |
GeneticsDesign 1.50.0 | The R Genetics Project | OK | OK | OK | OK |  |
GeneticsPed 1.44.0 | David Henderson | OK | OK | OK | OK |  |
geneXtendeR 1.8.0 | Bohdan Khomtchouk | OK | OK | OK | OK |  |
GENIE3 1.4.3 | Van Anh Huynh-Thu | OK | OK | OK | OK |  |
genoCN 1.34.0 | Wei Sun | OK | OK | OK | OK |  |
GenoGAM 2.0.3 | Georg Stricker | OK | OK | WARNINGS | OK |  |
genomation 1.14.0 | Altuna Akalin , Vedran Franke | OK | OK | OK | OK |  |
GenomeGraphs 1.42.0 | Steffen Durinck | OK | OK | OK | OK |  |
GenomeInfoDb 1.18.2 | Bioconductor Package Maintainer | OK | OK | OK | OK |  |
genomeIntervals 1.38.0 | Julien Gagneur | OK | OK | OK | OK |  |
genomes 3.12.0 | Chris Stubben | OK | OK | OK | OK |  |
GenomicAlignments 1.18.1 | Bioconductor Package Maintainer | OK | OK | WARNINGS | OK |  |
GenomicDataCommons 1.6.0 | Sean Davis | OK | OK | WARNINGS | OK |  |
GenomicFeatures 1.34.8 | Bioconductor Package Maintainer | OK | OK | OK | OK |  |
GenomicFiles 1.18.0 | Bioconductor Package Maintainer | OK | OK | OK | OK |  |
GenomicInteractions 1.16.0 | Liz Ing-Simmons | OK | OK | OK | OK |  |
GenomicRanges 1.34.0 | Bioconductor Package Maintainer | OK | OK | WARNINGS | OK |  |
GenomicScores 1.6.0 | Robert Castelo | OK | ERROR | skipped | skipped | |
GenomicTuples 1.16.0 | Peter Hickey | OK | OK | OK | OK |  |
Genominator 1.36.0 | James Bullard | OK | OK | OK | OK |  |
genoset 1.38.0 | Peter M. Haverty | OK | OK | OK | OK |  |
genotypeeval 1.14.0 | Jennifer Tom | OK | OK | OK | OK |  |
genphen 1.10.3 | Simo Kitanovski | OK | OK | OK | OK |  |
GenRank 1.10.0 | Chakravarthi Kanduri | OK | OK | OK | OK |  |
GenVisR 1.14.2 | Zachary Skidmore | OK | OK | ERROR | OK | |
GEOmetadb 1.44.0 | Jack Zhu | OK | OK | OK | OK |  |
GEOquery 2.50.5 | Sean Davis | OK | OK | OK | OK |  |
GEOsubmission 1.34.0 | Alexandre Kuhn | OK | OK | OK | OK |  |
gep2pep 1.2.0 | Francesco Napolitano | OK | OK | OK | OK |  |
gespeR 1.14.1 | Fabian Schmich | OK | OK | WARNINGS | OK |  |
GEWIST 1.26.0 | Wei Q. Deng | OK | OK | OK | OK |  |
GGBase 3.44.0 | VJ Carey | OK | OK | OK | OK |  |
ggbio 1.30.0 | Michael Lawrence | OK | OK | WARNINGS | OK |  |
ggcyto 1.10.2 | Mike Jiang | OK | OK | OK | OK |  |
GGtools 5.18.0 | VJ Carey | OK | OK | OK | OK |  |
ggtree 1.14.6 | Guangchuang Yu | OK | OK | OK | OK |  |
GIGSEA 1.0.0 | Shijia Zhu | OK | OK | OK | OK |  |
girafe 1.34.0 | J. Toedling | OK | OK | OK | OK |  |
GISPA 1.6.0 | Bhakti Dwivedi | OK | OK | OK | OK |  |
GLAD 2.46.0 | Philippe Hupe | OK | OK | OK | OK |  |
Glimma 1.10.1 | Shian Su | OK | OK | OK | OK |  |
glmSparseNet 1.0.0 | André VerÃssimo | OK | OK | OK | OK |  |
GlobalAncova 4.0.0 | Manuela Hummel | OK | OK | OK | OK |  |
globalSeq 1.10.1 | Armin Rauschenberger | OK | OK | OK | OK |  |
globaltest 5.36.0 | Jelle Goeman | OK | OK | OK | OK |  |
gmapR 1.24.2 | Michael Lawrence | OK | OK | WARNINGS | OK |  |
GMRP 1.10.1 | Yuan-De Tan | OK | OK | WARNINGS | OK |  |
GOexpress 1.16.1 | Kevin Rue-Albrecht | OK | OK | OK | OK |  |
GOfuncR 1.2.0 | Steffi Grote | OK | OK | OK | OK |  |
GOFunction 1.30.0 | Jing Wang | OK | OK | OK | OK |  |
GoogleGenomics 2.4.0 | Siddhartha Bagaria | OK | ERROR | skipped | skipped | |
GOpro 1.8.0 | Lidia Chrabaszcz | OK | OK | WARNINGS | OK |  |
goProfiles 1.44.0 | Alex Sanchez | OK | OK | OK | OK |  |
GOSemSim 2.8.0 | Guangchuang Yu | OK | OK | OK | OK |  |
goseq 1.34.1 | Nadia Davidson , Anthony Hawkins | OK | OK | OK | OK |  |
GOSim 1.20.0 | Holger Froehlich | OK | OK | OK | OK |  |
goSTAG 1.6.1 | Brian D. Bennett | OK | OK | OK | OK |  |
GOstats 2.48.0 | Bioconductor Package Maintainer | OK | OK | OK | OK |  |
GOsummaries 2.18.0 | Raivo Kolde | OK | OK | OK | OK |  |
GOTHiC 1.18.1 | Borbala Mifsud | OK | OK | WARNINGS | OK |  |
goTools 1.56.0 | Agnes Paquet | OK | OK | OK | OK |  |
gpart 1.0.3 | Sun Ah Kim | OK | OK | WARNINGS | OK |  |
gpls 1.54.0 | Bioconductor Package Maintainer | OK | OK | WARNINGS | OK |  |
gprege 1.26.0 | Alfredo Kalaitzis | OK | OK | OK | OK |  |
gQTLBase 1.14.0 | VJ Carey | OK | OK | OK | OK |  |
gQTLstats 1.14.1 | VJ Carey | OK | OK | OK | OK |  |
graph 1.60.0 | Bioconductor Package Maintainer | OK | OK | OK | OK |  |
GraphAlignment 1.46.0 | Joern P. Meier | OK | OK | OK | OK |  |
GraphAT 1.54.0 | Thomas LaFramboise | OK | OK | OK | OK |  |
graphite 1.28.2 | Gabriele Sales | OK | OK | OK | OK |  |
GraphPAC 1.24.0 | Gregory Ryslik | OK | OK | OK | OK |  |
GRENITS 1.34.0 | Edward Morrissey | OK | OK | OK | OK |  |
GreyListChIP 1.14.0 | Gordon Brown | OK | OK | OK | OK |  |
GRmetrics 1.8.1 | Nicholas Clark , Mario Medvedovic | OK | OK | OK | OK |  |
groHMM 1.16.0 | Anusha Nagari , Tulip Nandu , W. Lee Kraus | OK | OK | OK | OK |  |
GRridge 1.6.0 | Mark A. van de Wiel | OK | OK | WARNINGS | OK |  |
GSALightning 1.10.0 | Billy Heung Wing Chang | OK | OK | OK | OK |  |
GSAR 1.16.0 | Yasir Rahmatallah , Galina Glazko | OK | OK | OK | OK |  |
GSCA 2.12.0 | Zhicheng Ji | OK | OK | OK | OK |  |
GSEABase 1.44.0 | Bioconductor Package Maintainer | OK | OK | OK | OK |  |
GSEABenchmarkeR 1.2.1 | Ludwig Geistlinger | OK | OK | TIMEOUT | OK | |
GSEAlm 1.42.0 | Assaf Oron | OK | OK | OK | OK |  |
gsean 1.2.1 | Dongmin Jung | OK | OK | OK | OK |  |
GSReg 1.16.0 | Bahman Afsari , Elana J. Fertig | OK | OK | WARNINGS | OK |  |
GSRI 2.30.0 | Julian Gehring | OK | OK | OK | OK |  |
GSVA 1.30.0 | Justin Guinney | OK | OK | OK | OK |  |
gtrellis 1.14.0 | Zuguang Gu | OK | OK | OK | OK |  |
GUIDEseq 1.12.1 | Lihua Julie Zhu | OK | OK | OK | OK |  |
Guitar 1.20.1 | Jia Meng | OK | OK | OK | OK |  |
Gviz 1.26.5 | Robert Ivanek | OK | OK | OK | OK |  |
gwascat 2.14.0 | VJ Carey | OK | OK | OK | OK |  |
GWASTools 1.28.0 | Stephanie M. Gogarten | OK | OK | OK | OK |  |
gwasurvivr 1.0.0 | Abbas Rizvi | OK | OK | OK | OK |  |
|
| |
h5vc 2.16.0 | Paul Theodor Pyl | OK | OK | OK | OK |  |
hapFabia 1.24.0 | Sepp Hochreiter | OK | OK | OK | OK |  |
Harman 1.10.0 | Jason Ross | OK | OK | OK | OK |  |
Harshlight 1.54.0 | Maurizio Pellegrino | OK | OK | OK | OK |  |
HDF5Array 1.10.1 | Hervé Pagès | OK | OK | OK | OK |  |
HDTD 1.16.0 | Anestis Touloumis | OK | OK | OK | OK |  |
heatmaps 1.6.0 | Malcolm Perry | OK | OK | OK | OK |  |
Heatplus 2.28.0 | Alexander Ploner | OK | OK | OK | OK |  |
HelloRanges 1.8.0 | Michael Lawrence | OK | OK | OK | OK |  |
HELP 1.40.0 | Reid F. Thompson | OK | OK | OK | OK |  |
HEM 1.54.0 | HyungJun Cho | OK | OK | OK | OK |  |
hiAnnotator 1.16.0 | Nirav V Malani | OK | OK | OK | OK |  |
HIBAG 1.18.1 | Xiuwen Zheng | OK | OK | OK | OK |  |
HiCBricks 1.0.0 | Koustav Pal | OK | OK | OK | OK |  |
HiCcompare 1.4.0 | John Stansfield | OK | OK | OK | OK |  |
hicrep 1.6.0 | Tao Yang | OK | OK | OK | OK |  |
hierGWAS 1.12.0 | Laura Buzdugan | OK | OK | OK | OK |  |
hierinf 1.0.0 | Claude Renaux | OK | OK | OK | OK |  |
HilbertCurve 1.12.0 | Zuguang Gu | OK | OK | OK | OK |  |
HilbertVis 1.40.0 | Simon Anders | OK | OK | WARNINGS | OK |  |
HilbertVisGUI | | ...NOT SUPPORTED... |
hipathia 1.4.1 | Marta R. Hidalgo | OK | OK | OK | OK |  |
hiReadsProcessor 1.18.0 | Nirav V Malani | OK | OK | OK | OK |  |
HIREewas 1.0.2 | Xiangyu Luo | OK | OK | OK | OK |  |
HiTC 1.26.0 | Nicolas Servant | OK | OK | OK | OK |  |
hmdbQuery 1.2.0 | VJ Carey | OK | OK | OK | OK |  |
HMMcopy 1.24.0 | Daniel Lai , Sohrab Shah | OK | OK | OK | OK |  |
hopach 2.42.0 | Katherine S. Pollard | OK | OK | OK | OK |  |
HPAanalyze 1.0.0 | Anh Nhat Tran | OK | OK | OK | OK |  |
hpar 1.24.0 | Laurent Gatto | OK | OK | OK | OK |  |
HTqPCR 1.36.0 | Heidi Dvinge | OK | OK | OK | OK |  |
HTSanalyzeR 2.34.1 | Xin Wang | OK | OK | WARNINGS | OK |  |
HTSeqGenie | | ...NOT SUPPORTED... |
htSeqTools 1.30.0 | Oscar Reina | OK | OK | WARNINGS | OK |  |
HTSFilter 1.22.1 | Andrea Rau | OK | OK | OK | OK |  |
HybridMTest 1.26.0 | Demba Fofana | OK | OK | OK | OK |  |
hyperdraw 1.34.0 | Paul Murrell | OK | OK | OK | OK |  |
hypergraph 1.54.0 | Bioconductor Package Maintainer | OK | OK | OK | OK |  |
|
| |
iASeq 1.26.1 | Yingying Wei | OK | OK | OK | OK |  |
iasva 1.0.1 | Donghyung Lee , Anthony Cheng | OK | OK | OK | OK |  |
iBBiG 1.26.0 | Aedin Culhane | OK | OK | OK | OK |  |
ibh 1.30.0 | Kircicegi Korkmaz | OK | OK | OK | OK |  |
iBMQ | | ...NOT SUPPORTED... |
iCARE 1.10.3 | Bill Wheeler | OK | OK | OK | OK |  |
Icens 1.54.0 | Bioconductor Package Maintainer | OK | OK | OK | OK |  |
icetea 1.0.1 | Vivek Bhardwaj | OK | OK | ERROR | OK | |
iCheck 1.12.0 | Weiliang Qiu | OK | OK | WARNINGS | OK |  |
iChip 1.36.0 | Qianxing Mo | OK | OK | OK | OK |  |
iClusterPlus 1.18.0 | Qianxing Mo , Ronglai Shen | OK | OK | WARNINGS | OK |  |
iCNV 1.2.1 | Zilu Zhou | OK | OK | WARNINGS | OK |  |
iCOBRA 1.10.0 | Charlotte Soneson | OK | OK | OK | OK |  |
ideal 1.6.1 | Federico Marini | OK | OK | OK | OK |  |
IdeoViz 1.18.0 | Shraddha Pai | OK | OK | WARNINGS | OK |  |
idiogram 1.58.0 | Karl J. Dykema | OK | OK | OK | OK |  |
IdMappingAnalysis 1.26.0 | Alex Lisovich , Roger Day | OK | OK | OK | OK |  |
IdMappingRetrieval 1.30.0 | Alex Lisovich , Roger Day | OK | OK | OK | OK |  |
iGC 1.12.0 | Liang-Bo Wang | OK | OK | OK | OK |  |
igvR 1.2.0 | Paul Shannon | OK | OK | OK | OK |  |
IHW 1.10.1 | Nikos Ignatiadis | OK | OK | OK | OK |  |
illuminaio 0.24.0 | Kasper Daniel Hansen | OK | OK | OK | OK |  |
imageHTS 1.32.1 | Joseph Barry | OK | OK | OK | OK |  |
IMAS 1.6.1 | Seonggyun Han | OK | OK | OK | OK |  |
Imetagene 1.12.0 | Audrey Lemacon | OK | OK | OK | OK |  |
IMMAN 1.2.0 | Minoo Ashtiani | OK | OK | OK | OK |  |
ImmuneSpaceR 1.10.5 | ImmuneSpace Package Maintainer | OK | OK | OK | OK |  |
immunoClust 1.14.1 | Till Soerensen | OK | OK | OK | OK |  |
IMPCdata 1.18.0 | Jeremy Mason | OK | OK | OK | OK |  |
ImpulseDE 1.8.0 | Jil Sander , Nir Yosef | OK | OK | OK | OK |  |
ImpulseDE2 1.6.1 | David S Fischer | OK | OK | OK | OK |  |
impute 1.56.0 | Balasubramanian Narasimhan | OK | OK | OK | OK |  |
INDEED 1.0.1 | Zhenzhi Li | OK | OK | OK | OK |  |
InPAS 1.14.2 | Jianhong Ou | OK | OK | OK | OK |  |
INPower 1.18.0 | Bill Wheeler | OK | OK | OK | OK |  |
INSPEcT 1.12.2 | Stefano de Pretis | OK | OK | OK | OK |  |
InTAD 1.2.3 | Konstantin Okonechnikov | OK | OK | OK | OK |  |
intansv 1.22.0 | Wen Yao | OK | OK | OK | OK |  |
InteractionSet 1.10.0 | Aaron Lun | OK | OK | OK | OK |  |
interactiveDisplay 1.20.0 | Shawn Balcome | OK | OK | WARNINGS | OK |  |
interactiveDisplayBase 1.20.0 | Shawn Balcome | OK | OK | WARNINGS | OK |  |
IntEREst 1.6.2 | Ali Oghabian , Mikko Frilander | OK | OK | OK | OK |  |
InterMineR 1.4.1 | InterMine Team | OK | OK | OK | OK |  |
IntramiRExploreR 1.4.0 | Surajit Bhattacharya | OK | OK | OK | OK |  |
inveRsion 1.30.0 | Alejandro Caceres | OK | OK | OK | OK |  |
IONiseR 2.6.0 | Mike Smith | OK | OK | OK | OK |  |
iPAC 1.26.0 | Gregory Ryslik | OK | OK | OK | OK |  |
ipdDb 1.0.0 | Steffen Klasberg | OK | OK | OK | OK |  |
IPO 1.8.1 | Thomas Riebenbauer | OK | OK | OK | OK |  |
IPPD 1.30.0 | Martin Slawski | OK | OK | OK | OK |  |
IRanges 2.16.0 | Bioconductor Package Maintainer | OK | OK | WARNINGS | OK |  |
IrisSpatialFeatures 1.6.0 | Daniel Gusenleitner | OK | ERROR | skipped | skipped | |
iSEE 1.2.4 | Charlotte Soneson | OK | OK | OK | OK |  |
iSeq 1.34.0 | Qianxing Mo | OK | OK | OK | OK |  |
isobar 1.28.1 | Florian P Breitwieser | OK | OK | WARNINGS | OK |  |
IsoCorrectoR 1.0.5 | Christian Kohler | OK | OK | OK | OK |  |
IsoformSwitchAnalyzeR 1.4.0 | Kristoffer Vitting-Seerup | OK | OK | WARNINGS | OK |  |
IsoGeneGUI 2.18.0 | Setia Pramana | OK | OK | OK | OK |  |
ISoLDE 1.10.1 | Christelle Reynès | OK | OK | WARNINGS | OK |  |
isomiRs 1.10.1 | Lorena Pantano | OK | OK | OK | OK |  |
ITALICS 2.42.0 | Guillem Rigaill | OK | OK | OK | OK |  |
iterativeBMA 1.40.0 | Ka Yee Yeung | OK | OK | OK | OK |  |
iterativeBMAsurv 1.40.0 | Ka Yee Yeung | OK | OK | OK | OK |  |
iterClust 1.4.0 | Hongxu Ding | OK | OK | OK | OK |  |
iteremoval 1.2.0 | Jiacheng Chuan | OK | OK | OK | OK |  |
IVAS 2.2.1 | Seonggyun Han | OK | OK | WARNINGS | OK |  |
ivygapSE 1.4.0 | VJ Carey | OK | OK | OK | OK |  |
IWTomics 1.6.0 | Marzia A Cremona | OK | OK | WARNINGS | OK |  |
|
| |
joda 1.30.0 | Ewa Szczurek | OK | OK | OK | OK |  |
JunctionSeq 1.12.1 | Stephen Hartley | OK | OK | OK | OK |  |
|
| |
karyoploteR 1.8.8 | Bernat Gel | OK | OK | OK | OK |  |
KCsmart 2.40.0 | Jorma de Ronde | OK | OK | WARNINGS | OK |  |
kebabs 1.16.0 | Ulrich Bodenhofer | OK | OK | OK | OK |  |
KEGGgraph 1.42.0 | Jitao David Zhang | OK | ERROR | skipped | skipped | |
KEGGlincs 1.8.0 | Shana White , Mario Medvedovic | OK | OK | ERROR | OK | |
keggorthology 2.34.0 | VJ Carey | OK | OK | OK | OK |  |
KEGGprofile 1.24.0 | Shilin Zhao | OK | OK | OK | OK |  |
KEGGREST 1.22.0 | Bioconductor Package Maintainer | OK | OK | OK | OK |  |
kimod 1.10.0 | M L Zingaretti | OK | OK | OK | OK |  |
KinSwingR 1.0.3 | Ashley J. Waardenberg | OK | OK | OK | OK |  |
kissDE 1.2.0 | Aurélie Siberchicot | OK | OK | OK | OK |  |
|
| |
lapmix 1.48.0 | Yann Ruffieux | OK | OK | OK | OK |  |
LBE 1.50.0 | Cyril Dalmasso | OK | OK | OK | OK |  |
ldblock 1.12.1 | VJ Carey | OK | OK | OK | OK |  |
LEA 2.4.0 | Eric Frichot , Olivier Francois | OK | OK | WARNINGS | OK |  |
LedPred 1.16.0 | Aitor Gonzalez | OK | OK | OK | OK |  |
les 1.32.0 | Julian Gehring | OK | OK | OK | OK |  |
levi 1.0.0 | Jose Luiz Rybarczyk Filho | OK | OK | OK | OK |  |
lfa 1.12.0 | Wei Hao , John D. Storey | OK | OK | WARNINGS | OK |  |
limma 3.38.3 | Gordon Smyth | OK | OK | OK | OK |  |
limmaGUI 1.58.0 | Gordon Smyth | OK | OK | OK | OK |  |
LINC 1.10.0 | Manuel Goepferich | OK | OK | OK | OK |  |
LineagePulse 1.2.1 | David S Fischer | OK | OK | WARNINGS | OK |  |
Linnorm 2.6.1 | Ken Shun Hang Yip | OK | OK | OK | OK |  |
LiquidAssociation 1.36.0 | Yen-Yi Ho | OK | OK | OK | OK |  |
lmdme 1.24.0 | Cristobal Fresno | OK | OK | OK | OK |  |
LMGene 2.38.0 | Blythe Durbin-Johnson | OK | OK | OK | OK |  |
LOBSTAHS 1.8.1 | James Collins | OK | OK | WARNINGS | OK |  |
loci2path 1.2.0 | Tianlei Xu | OK | OK | OK | OK |  |
logicFS 2.2.0 | Holger Schwender | OK | OK | OK | OK |  |
logitT 1.40.0 | Tobias Guennel | OK | OK | OK | OK |  |
Logolas 1.6.0 | Kushal Dey | OK | OK | OK | OK |  |
lol 1.30.0 | Yinyin Yuan | OK | OK | OK | OK |  |
LOLA 1.12.0 | Nathan Sheffield | OK | OK | OK | OK |  |
LoomExperiment 1.0.4 | Bioconductor Package Maintainer | OK | OK | OK | OK |  |
LowMACA 1.12.1 | Stefano de Pretis , Giorgio Melloni | OK | OK | OK | OK |  |
LPE 1.56.0 | Nitin Jain | OK | OK | OK | OK |  |
LPEadj 1.42.0 | Carl Murie | OK | OK | OK | OK |  |
lpNet 2.14.0 | Lars Kaderali | OK | OK | OK | OK |  |
lpsymphony 1.10.0 | Vladislav Kim | OK | OK | WARNINGS | OK |  |
LRBaseDbi 1.0.0 | Koki Tsuyuzaki | OK | OK | OK | OK |  |
lumi 2.34.0 | Pan Du , Lei Huang , Gang Feng | OK | OK | WARNINGS | OK |  |
LVSmiRNA 1.32.0 | Stefano Calza | OK | OK | WARNINGS | OK |  |
LymphoSeq 1.10.0 | David Coffey | OK | OK | OK | OK |  |
|
| |
M3C 1.4.1 | Christopher John | OK | OK | OK | OK |  |
M3D 1.16.0 | Tom Mayo | OK | OK | OK | OK |  |
M3Drop 1.8.1 | Tallulah Andrews | OK | OK | OK | OK |  |
maanova 1.52.0 | Keith Sheppard | OK | OK | WARNINGS | OK |  |
macat 1.56.0 | Joern Toedling | OK | OK | WARNINGS | OK |  |
maCorrPlot 1.52.0 | Alexander Ploner | OK | OK | OK | OK |  |
MACPET 1.2.0 | Ioannis Vardaxis | ERROR | ERROR | skipped | skipped | |
made4 1.56.0 | Aedin Culhane | OK | OK | WARNINGS | OK |  |
MADSEQ 1.8.0 | Yu Kong | OK | OK | OK | OK |  |
maftools 1.8.10 | Anand Mayakonda | OK | OK | OK | OK |  |
MAGeCKFlute 1.2.3 | Wubing Zhang | OK | OK | OK | OK |  |
maigesPack 1.46.0 | Gustavo H. Esteves | OK | OK | OK | OK |  |
MAIT 1.16.1 | Pol Sola-Santos | OK | OK | OK | OK |  |
makecdfenv 1.58.0 | James W. MacDonald | OK | OK | OK | OK |  |
MANOR 1.54.0 | Pierre Neuvial | OK | OK | OK | OK |  |
manta 1.28.1 | Chris Berthiaume , Adrian Marchetti | OK | OK | OK | OK |  |
MantelCorr 1.52.0 | Brian Steinmeyer | OK | OK | OK | OK |  |
mAPKL 1.12.0 | Argiris Sakellariou | OK | OK | WARNINGS | OK |  |
maPredictDSC 1.20.0 | Adi Laurentiu Tarca | OK | OK | OK | OK |  |
mapscape 1.6.0 | Maia Smith | OK | OK | WARNINGS | OK |  |
marray 1.60.0 | Yee Hwa (Jean) Yang | OK | OK | OK | OK |  |
martini 1.2.0 | Hector Climente-Gonzalez | OK | OK | OK | OK |  |
maser 1.0.0 | Diogo Veiga | OK | OK | OK | OK |  |
maSigPro 1.54.0 | Maria Jose Nueda | OK | OK | OK | OK |  |
maskBAD 1.26.0 | Michael Dannemann | OK | OK | OK | OK |  |
MassArray 1.34.1 | Reid F. Thompson | OK | OK | OK | OK |  |
massiR 1.18.0 | Sam Buckberry | OK | OK | OK | OK |  |
MassSpecWavelet 1.48.1 | Pan Du | OK | OK | OK | OK |  |
MAST 1.8.2 | Andrew McDavid | OK | OK | OK | OK |  |
matchBox 1.24.0 | Luigi Marchionni , Anuj Gupta | OK | OK | OK | OK |  |
MatrixRider 1.14.0 | Elena Grassi | OK | OK | OK | OK |  |
matter 1.8.3 | Kylie A. Bemis | OK | OK | OK | OK |  |
MaxContrastProjection 1.6.1 | Jan Sauer | OK | OK | OK | OK |  |
MBAmethyl 1.16.0 | Tao Wang | OK | OK | OK | OK |  |
MBASED 1.16.0 | Oleg Mayba | OK | OK | OK | OK |  |
MBCB 1.36.0 | Jeff Allen | OK | OK | OK | OK |  |
mBPCR 1.36.0 | P.M.V. Rancoita | OK | OK | OK | OK |  |
MBttest 1.10.0 | Yuan-De Tan | OK | OK | OK | OK |  |
mcaGUI 1.30.0 | Wade K. Copeland | OK | OK | WARNINGS | OK |  |
MCbiclust 1.6.1 | Robert Bentham | OK | OK | OK | OK |  |
MCRestimate 2.38.0 | Marc Johannes | OK | OK | OK | OK |  |
mCSEA 1.2.2 | Jordi Martorell-Marugán | OK | OK | OK | OK |  |
mdgsa 1.14.0 | David Montaner | OK | OK | OK | OK |  |
mdp 1.2.1 | Helder Nakaya | OK | OK | OK | OK |  |
mdqc 1.44.0 | Gabriela Cohen-Freue | OK | OK | OK | OK |  |
MDTS 1.2.0 | Jack M.. Fu | OK | OK | OK | OK |  |
MEAL 1.12.0 | Carlos Ruiz-Arenas | OK | TIMEOUT | skipped | skipped | |
MeasurementError.cor 1.54.0 | Beiying Ding | OK | OK | OK | OK |  |
MEDIPS 1.34.0 | Lukas Chavez | OK | OK | OK | OK |  |
MEDME 1.42.0 | Mattia Pelizzola | OK | OK | WARNINGS | OK |  |
MEIGOR 1.16.0 | Jose Egea | OK | ERROR | skipped | skipped | |
MergeMaid 2.54.0 | Xiaogang Zhong | OK | OK | WARNINGS | OK |  |
Mergeomics 1.10.0 | Zeyneb Kurt | OK | OK | OK | OK |  |
MeSHDbi 1.18.0 | Koki Tsuyuzaki | OK | OK | OK | OK |  |
meshes 1.8.0 | Guangchuang Yu | OK | OK | WARNINGS | OK |  |
meshr 1.18.0 | Koki Tsuyuzaki | OK | OK | OK | OK |  |
messina 1.18.0 | Mark Pinese | OK | OK | OK | OK |  |
metaArray 1.60.0 | Hyungwon Choi | OK | OK | OK | OK |  |
Metab 1.16.1 | Raphael Aggio | OK | OK | OK | OK |  |
metabomxtr 1.16.1 | Michael Nodzenski | OK | OK | OK | OK |  |
MetaboSignal 1.12.0 | Andrea Rodriguez-Martinez | OK | OK | OK | OK |  |
metaCCA 1.10.0 | Anna Cichonska | OK | OK | OK | OK |  |
MetaCyto 1.4.1 | Zicheng Hu | OK | OK | OK | OK |  |
metagene 2.14.0 | Charles Joly Beauparlant | OK | OK | ERROR | OK | |
metagenomeFeatures 2.2.3 | Nathan D. Olson | OK | OK | OK | OK |  |
metagenomeSeq 1.24.1 | Joseph N. Paulson | OK | OK | OK | OK |  |
metahdep 1.40.0 | John R. Stevens | OK | OK | WARNINGS | OK |  |
metaMS 1.18.1 | Ron Wehrens | OK | OK | WARNINGS | OK |  |
MetaNeighbor 1.2.1 | Manthan Shah | OK | OK | OK | OK |  |
metaSeq 1.22.1 | Koki Tsuyuzaki | OK | OK | OK | OK |  |
metaseqR 1.22.1 | Panagiotis Moulos | OK | OK | OK | OK |  |
metavizr 1.6.2 | Hector Corrada Bravo | OK | OK | OK | OK |  |
MetCirc 1.12.1 | Thomas Naake | OK | OK | OK | OK |  |
methimpute 1.4.1 | Aaron Taudt | OK | OK | OK | OK |  |
methInheritSim 1.4.1 | Pascal Belleau | OK | OK | OK | OK |  |
MethPed 1.10.1 | Helena Carén | OK | OK | OK | OK |  |
MethTargetedNGS 1.14.0 | Muhammad Ahmer Jamil | OK | OK | OK | OK |  |
methVisual 1.34.0 | Arie Zackay | OK | OK | WARNINGS | OK |  |
methyAnalysis 1.24.0 | Pan Du , Lei Huang , Gang Feng | OK | OK | WARNINGS | OK |  |
MethylAid 1.16.0 | M. van Iterson | OK | OK | OK | OK |  |
methylGSA 1.0.4 | Xu Ren | OK | OK | OK | OK |  |
methylInheritance 1.6.1 | Astrid Deschenes | OK | OK | OK | OK |  |
methylKit 1.8.1 | Altuna Akalin , Alexander Gosdschan | OK | OK | OK | OK |  |
MethylMix 2.12.0 | Olivier Gevaert | OK | OK | OK | OK |  |
methylMnM 1.20.0 | Yan Zhou | OK | OK | OK | OK |  |
methylPipe 1.16.0 | Kamal Kishore | OK | OK | WARNINGS | OK |  |
MethylSeekR 1.22.0 | Lukas Burger | OK | OK | OK | OK |  |
methylumi 2.28.0 | Sean Davis | OK | OK | WARNINGS | OK |  |
methyvim 1.4.0 | Nima Hejazi | OK | OK | OK | OK |  |
MetID 1.0.0 | Zhenzhi Li | OK | OK | OK | OK |  |
MetNet 1.0.1 | Thomas Naake | OK | OK | OK | OK |  |
mfa 1.4.1 | Kieran Campbell | OK | OK | OK | OK |  |
Mfuzz 2.42.0 | Matthias Futschik | OK | OK | OK | OK |  |
MGFM 1.16.0 | Khadija El Amrani | OK | OK | OK | OK |  |
MGFR 1.8.1 | Khadija El Amrani | OK | OK | OK | OK |  |
mgsa 1.30.0 | Sebastian Bauer | OK | OK | OK | OK |  |
MiChip 1.36.0 | Jonathon Blake | OK | OK | OK | OK |  |
microbiome 1.4.2 | Leo Lahti | OK | OK | OK | OK |  |
microRNA 1.40.0 | "James F. Reid" | OK | OK | OK | OK |  |
MIGSA 1.6.0 | Juan C. Rodriguez | OK | OK | OK | OK |  |
mimager 1.6.0 | Aaron Wolen | OK | OK | OK | OK |  |
MIMOSA 1.20.1 | Greg Finak | OK | OK | OK | OK |  |
MineICA 1.22.0 | Anne Biton | OK | OK | OK | OK |  |
minet 3.40.0 | Patrick E. Meyer | OK | OK | OK | OK |  |
minfi 1.28.4 | Kasper Daniel Hansen | OK | OK | OK | OK |  |
MinimumDistance 1.26.0 | Robert B Scharpf | OK | OK | WARNINGS | OK |  |
MiPP 1.54.0 | Sukwoo Kim | OK | OK | OK | OK |  |
MIRA 1.4.1 | John Lawson | OK | OK | OK | OK |  |
MiRaGE 1.24.1 | Y-h. Taguchi | OK | OK | OK | OK |  |
miRBaseConverter 1.6.0 | Taosheng Xu | OK | OK | OK | OK |  |
miRcomp 1.12.0 | Matthew N. McCall | OK | OK | WARNINGS | OK |  |
mirIntegrator 1.12.0 | Diana Diaz | OK | OK | OK | OK |  |
miRLAB 1.12.0 | Thuc Duy Le | OK | OK | OK | OK |  |
miRmine 1.4.0 | Dusan Randjelovic | OK | OK | OK | OK |  |
miRNAmeConverter 1.10.0 | Stefan J. Haunsberger | OK | OK | WARNINGS | OK |  |
miRNApath 1.42.0 | James M. Ward | OK | OK | OK | OK |  |
miRNAtap 1.16.0 | Maciej Pajak | OK | OK | OK | OK |  |
miRSM 1.0.0 | Junpeng Zhang | OK | OK | OK | OK |  |
miRsponge 1.8.2 | Junpeng Zhang | OK | OK | OK | OK |  |
Mirsynergy 1.18.0 | Yue Li | OK | OK | OK | OK |  |
missMethyl 1.16.0 | Belinda Phipson | OK | OK | OK | OK |  |
missRows 1.2.0 | Gonzalez Ignacio | OK | OK | OK | OK |  |
mitoODE 1.20.1 | Gregoire Pau | OK | OK | OK | OK |  |
mixOmics 6.6.2 | Kim-Anh Le Cao | OK | OK | OK | OK |  |
MLInterfaces 1.62.1 | V. Carey | OK | OK | OK | OK |  |
mlm4omics 1.0.1 | Irene SL Zeng | ERROR | ERROR | skipped | skipped | |
MLP 1.30.0 | Tobias Verbeke | OK | OK | OK | OK |  |
MLSeq 2.0.1 | Gokmen Zararsiz | OK | OK | OK | OK |  |
MMDiff2 1.10.0 | Gabriele Schweikert | OK | OK | OK | OK |  |
MmPalateMiRNA 1.32.0 | Guy Brock | OK | OK | OK | OK |  |
MODA 1.8.0 | Dong Li | OK | OK | OK | OK |  |
mogsa 1.16.0 | Chen Meng | OK | OK | OK | OK |  |
monocle 2.10.1 | Cole Trapnell | OK | OK | OK | OK |  |
MoonlightR 1.8.0 | Antonio Colaprico | OK | ERROR | skipped | skipped | |
MoPS 1.16.0 | Philipp Eser | OK | OK | OK | OK |  |
mosaics 2.20.0 | Dongjun Chung | OK | OK | OK | OK |  |
motifbreakR 1.12.0 | Simon Gert Coetzee | OK | OK | OK | OK |  |
motifcounter 1.6.0 | Wolfgang Kopp | OK | OK | OK | OK |  |
MotifDb 1.24.1 | Paul Shannon | OK | OK | OK | OK |  |
motifmatchr 1.4.0 | Alicia Schep | OK | OK | OK | OK |  |
motifRG 1.26.0 | Zizhen Yao | OK | OK | OK | OK |  |
motifStack 1.26.0 | Jianhong Ou | OK | OK | OK | OK |  |
MotIV 1.38.0 | Eloi Mercier , Raphael Gottardo | OK | OK | WARNINGS | OK |  |
MPFE 1.18.0 | Conrad Burden | OK | OK | OK | OK |  |
mpra 1.4.1 | Leslie Myint | OK | OK | OK | OK |  |
MPRAnalyze 1.0.1 | Tal Ashuach | OK | OK | OK | OK |  |
mQTL.NMR 1.16.0 | Lyamine Hedjazi | ERROR | ERROR | skipped | skipped | |
msa 1.14.0 | Ulrich Bodenhofer | OK | OK | WARNINGS | OK |  |
msgbsR 1.6.1 | Benjamin Mayne | OK < |